From mboxrd@z Thu Jan  1 00:00:00 1970
Return-Path: <test-report-bounces@dpdk.org>
Received: from mails.dpdk.org (mails.dpdk.org [217.70.189.124])
	by inbox.dpdk.org (Postfix) with ESMTP id 853B843C29
	for <public@inbox.dpdk.org>; Sat,  2 Mar 2024 03:37:43 +0100 (CET)
Received: from mails.dpdk.org (localhost [127.0.0.1])
	by mails.dpdk.org (Postfix) with ESMTP id 7CDE840284;
	Sat,  2 Mar 2024 03:37:43 +0100 (CET)
Received: from mail-qv1-f99.google.com (mail-qv1-f99.google.com
 [209.85.219.99]) by mails.dpdk.org (Postfix) with ESMTP id 22BB14025E
 for <test-report@dpdk.org>; Sat,  2 Mar 2024 03:37:42 +0100 (CET)
Received: by mail-qv1-f99.google.com with SMTP id
 6a1803df08f44-68f901192afso12382066d6.1
 for <test-report@dpdk.org>; Fri, 01 Mar 2024 18:37:42 -0800 (PST)
DKIM-Signature: v=1; a=rsa-sha256; c=relaxed/relaxed;
 d=iol.unh.edu; s=unh-iol; t=1709347061; x=1709951861; darn=dpdk.org;
 h=references:in-reply-to:cc:to:from:subject:message-id:date:from:to
 :cc:subject:date:message-id:reply-to;
 bh=U1l7g5wZ4AupqM+3rgaOCf+c3bbwqNL7sAYoyItMthI=;
 b=O35fSPAuvL1lH61eP4tW8UvKnC4EsbnGUQ3/BcouMtNuXtHmv3jMxE6rGzobGIiBR5
 nmAzlnGAGOXczxtvCbJfdF+9NRIF8KkhJ/olIGRlcD/9AVn/w4heQJo26REEOu7BvFcr
 2YH7YIoEcCzzDm0GF2R7StHq8wMflytqWdwvQ=
X-Google-DKIM-Signature: v=1; a=rsa-sha256; c=relaxed/relaxed;
 d=1e100.net; s=20230601; t=1709347061; x=1709951861;
 h=references:in-reply-to:cc:to:from:subject:message-id:date
 :x-gm-message-state:from:to:cc:subject:date:message-id:reply-to;
 bh=U1l7g5wZ4AupqM+3rgaOCf+c3bbwqNL7sAYoyItMthI=;
 b=Ab+WrS34zJGyQVWmI7dye8nwu9D0/6qg+XZ+7kpB8bbpSTDLIzanccRqFsa6EVjyEH
 c985vnNGl0c1KjmcIKBrG2kylfxwbONXlN34K2dOh4vd7XbCG/2cIY8BRhn4fGi/tmwG
 3qZEJtavg3rCNWJ4aMafVact9AtmDAUyttoXEMqFB/zVuu5yGfwa9BnQvSjd3JDwSJkO
 AcmoWJeYJdXCKgwCk0l9Hl6uJW2JGUYq4JFO81fKX8fijxJPbXT4TCwrWSr+YF/2wgYV
 OWGs8xUNKBLqeFB1PDFR4QiXKnTBG6PMUQFG9KCCDsnSWA1tXh1PLbiWpN3eSNCNUJHQ
 ijig==
X-Gm-Message-State: AOJu0Yy/0ir4UKXMcWp6Yp7l6rTpuX5515yt4k0LoDuCcKp2kgd4qvd0
 hVdl0E5fPQsw+TvR8NWlow3LSeJZ1BqFVxtaEyxwb9lEcb/qXY147Wt2W4M6XrU1kRLLCFimAcj
 93P4swR9FGk7bkFeB0mniIwu//xfedYCPIzIMeqYSb33ta0RCUgEXb7p9
X-Google-Smtp-Source: AGHT+IEh4ftbSAWBe1JuEq7GX8M1TWPgmkMtOlYOUm1Pz+/49f1u1oEnu5r53CJh3VFU5M31P8UStFDtBvwl
X-Received: by 2002:a0c:d803:0:b0:68f:d212:76d7 with SMTP id
 h3-20020a0cd803000000b0068fd21276d7mr3153894qvj.48.1709347061645; 
 Fri, 01 Mar 2024 18:37:41 -0800 (PST)
Received: from postal.iol.unh.edu (postal.iol.unh.edu.
 [2606:4100:3880:1234::84]) by smtp-relay.gmail.com with ESMTPS id
 fn14-20020ad45d6e000000b0068f6c8ab314sm231430qvb.75.2024.03.01.18.37.41
 (version=TLS1_2 cipher=ECDHE-ECDSA-AES128-GCM-SHA256 bits=128/128);
 Fri, 01 Mar 2024 18:37:41 -0800 (PST)
X-Relaying-Domain: iol.unh.edu
Date: Fri, 01 Mar 2024 18:37:41 -0800 (PST)
Message-ID: <65e290f5.d40a0220.8b4da.010aSMTPIN_ADDED_MISSING@mx.google.com>
Received: from [172.21.0.6] (unknown [172.18.0.240])
 by postal.iol.unh.edu (Postfix) with ESMTP id 5CE5D6052712;
 Fri,  1 Mar 2024 21:37:41 -0500 (EST)
Subject: |SUCCESS| pw137648-137649 [PATCH] [v2,2/2] common/cnxk: fix possible
From: dpdklab@iol.unh.edu
To: Test Report <test-report@dpdk.org>
Cc: dpdk-test-reports@iol.unh.edu
In-Reply-To: <20240301033534.1968900-2-psatheesh@marvell.com>
References: <20240301033534.1968900-2-psatheesh@marvell.com>
Content-Type: text/plain
X-BeenThere: test-report@dpdk.org
X-Mailman-Version: 2.1.29
Precedence: list
List-Id: automatic DPDK test reports <test-report.dpdk.org>
List-Unsubscribe: <https://mails.dpdk.org/options/test-report>,
 <mailto:test-report-request@dpdk.org?subject=unsubscribe>
List-Archive: <http://mails.dpdk.org/archives/test-report/>
List-Post: <mailto:test-report@dpdk.org>
List-Help: <mailto:test-report-request@dpdk.org?subject=help>
List-Subscribe: <https://mails.dpdk.org/listinfo/test-report>,
 <mailto:test-report-request@dpdk.org?subject=subscribe>
Errors-To: test-report-bounces@dpdk.org

Test-Label: iol-unit-arm64-testing
Test-Status: SUCCESS
http://dpdk.org/patch/137649

_Testing PASS_

Submitter: Satheesh Paul Antonysamy <psatheesh@marvell.com>
Date: Friday, March 01 2024 03:35:34 
DPDK git baseline: Repo:dpdk
  Branch: master
  CommitID:ce8ce20ae46fe0df7632a0172c73d2dcd1ac0187

137648-137649 --> testing pass

Test environment and result as below:

+--------------------------+--------------+------------------------------+---------------------------+----------------+
|       Environment        | lpm_autotest | cryptodev_sw_snow3g_autotest | cryptodev_sw_zuc_autotest | dpdk_unit_test |
+==========================+==============+==============================+===========================+================+
| Ubuntu 20.04 ARM SVE     | PASS         | SKIPPED                      | SKIPPED                   | SKIPPED        |
+--------------------------+--------------+------------------------------+---------------------------+----------------+
| Debian 12 (arm)          | SKIPPED      | PASS                         | PASS                      | PASS           |
+--------------------------+--------------+------------------------------+---------------------------+----------------+
| Debian 11 (Buster) (ARM) | SKIPPED      | SKIPPED                      | SKIPPED                   | PASS           |
+--------------------------+--------------+------------------------------+---------------------------+----------------+
| CentOS Stream 9 (ARM)    | SKIPPED      | SKIPPED                      | SKIPPED                   | PASS           |
+--------------------------+--------------+------------------------------+---------------------------+----------------+
| Fedora 38 (ARM)          | SKIPPED      | SKIPPED                      | SKIPPED                   | PASS           |
+--------------------------+--------------+------------------------------+---------------------------+----------------+
| Ubuntu 20.04 (ARM)       | SKIPPED      | SKIPPED                      | SKIPPED                   | PASS           |
+--------------------------+--------------+------------------------------+---------------------------+----------------+


Ubuntu 20.04 ARM SVE
	Kernel: 5.4.0-80-generic
	Compiler: gcc 10.3.0 (Ubuntu 10.3.0-1ubuntu1~20.04)

Debian 12 (arm)
	Kernel: Container Host Kernel
	Compiler: gcc 11

Debian 11 (Buster) (ARM)
	Kernel: Container Host Kernel
	Compiler: gcc 10.2.1

CentOS Stream 9 (ARM)
	Kernel: Container Host Kernel
	Compiler: gcc 11.3.1

Fedora 38 (ARM)
	Kernel: Depends on container host
	Compiler: gcc 13.1.1

Ubuntu 20.04 (ARM)
	Kernel: Container Host Kernel
	Compiler: gcc 9.4.0

To view detailed results, visit:
https://lab.dpdk.org/results/dashboard/patchsets/29357/

UNH-IOL DPDK Community Lab

To manage your email subscriptions, visit: 
https://lab.dpdk.org/results/dashboard/preferences/subscriptions/