From mboxrd@z Thu Jan  1 00:00:00 1970
Return-Path: <test-report-bounces@dpdk.org>
Received: from mails.dpdk.org (mails.dpdk.org [217.70.189.124])
	by inbox.dpdk.org (Postfix) with ESMTP id B2E1043C29
	for <public@inbox.dpdk.org>; Sat,  2 Mar 2024 03:46:50 +0100 (CET)
Received: from mails.dpdk.org (localhost [127.0.0.1])
	by mails.dpdk.org (Postfix) with ESMTP id A9DC040284;
	Sat,  2 Mar 2024 03:46:50 +0100 (CET)
Received: from mail-qv1-f98.google.com (mail-qv1-f98.google.com
 [209.85.219.98]) by mails.dpdk.org (Postfix) with ESMTP id 137614025E
 for <test-report@dpdk.org>; Sat,  2 Mar 2024 03:46:49 +0100 (CET)
Received: by mail-qv1-f98.google.com with SMTP id
 6a1803df08f44-68ee2c0a237so20952716d6.1
 for <test-report@dpdk.org>; Fri, 01 Mar 2024 18:46:49 -0800 (PST)
DKIM-Signature: v=1; a=rsa-sha256; c=relaxed/relaxed;
 d=iol.unh.edu; s=unh-iol; t=1709347608; x=1709952408; darn=dpdk.org;
 h=references:in-reply-to:cc:to:from:subject:message-id:date:from:to
 :cc:subject:date:message-id:reply-to;
 bh=0KmrrbRIhFtBb5t5G4hzJ1LvmMRWjmkm3JZNDtCce2g=;
 b=BNGW0151jLB+rn0tlHCgacqdqdKKtuE10WcOBSj8DVKwMJzUsZce8T9Npk0xmqWYE4
 zgmR+BeZW/cXzZOvwaPGONvIFUjIYhxGUSPmQ3DjxBK4L8UoAjuD2mptAIfx0MYsiKF6
 dczkLhTBAYFsuuAsk5c5YGHGtfLxlAlISp1lA=
X-Google-DKIM-Signature: v=1; a=rsa-sha256; c=relaxed/relaxed;
 d=1e100.net; s=20230601; t=1709347608; x=1709952408;
 h=references:in-reply-to:cc:to:from:subject:message-id:date
 :x-gm-message-state:from:to:cc:subject:date:message-id:reply-to;
 bh=0KmrrbRIhFtBb5t5G4hzJ1LvmMRWjmkm3JZNDtCce2g=;
 b=Bvf+AL60NmAVynmddJ2aKM6zD5FLR33UHD+sdFhCKPdUDhC5I4Sk79PMYxs76BeCQA
 PZ3ln3j0/bgp5gDfL3FizILbrIlVuXmeGt0c6s0/Zmc+YCl1QX2dq0fPb3UStIcsQ9G3
 Ppk4fW0/wav+gxPpFX216wfuq8XUXtUZlHm4IX3amSaxjHexMhlFEshtLrh+MI0WQrMN
 I3mqAagN/zrly/C+7uXOH6TAe+AhfwFGoQBSdIOCy3C9NkettOseq+27st8t65s+2m/9
 K6JqIS0LgcXEBU2iujxsu67CNwapgfjVbZS0xN9JLXFpkectJXfLBjNNLSMJN2lOc0MG
 w4rA==
X-Gm-Message-State: AOJu0Yw6VZVVTG/d04RbSVNAqUgf5iIw3Z4QWuEQnVrhkRl0xr0lGqqA
 LRRHkVymKUFSud3I21WIEReIuSG/Swr3+4AHt0LW4p90EE6yP/1g3h08pxWcAJUGFn8IQVfCa46
 iT2mJH7Yzf1KI4/4q9aU/ypP8I1R/GPYcicTYFiKH
X-Google-Smtp-Source: AGHT+IFRfzthW0dgHqfnkaTrwTEqIXcuJ/5w5P+zfK1jhtmiyYgbwpKcjxXcBNm5PiIuQxXTLWD7rEL6H+2/
X-Received: by 2002:a05:6214:519b:b0:68f:88d3:c470 with SMTP id
 kl27-20020a056214519b00b0068f88d3c470mr9946456qvb.5.1709347608569; 
 Fri, 01 Mar 2024 18:46:48 -0800 (PST)
Received: from postal.iol.unh.edu (postal.iol.unh.edu. [132.177.123.84])
 by smtp-relay.gmail.com with ESMTPS id
 a6-20020a056214062600b0068c3e820df3sm210903qvx.14.2024.03.01.18.46.48
 (version=TLS1_2 cipher=ECDHE-ECDSA-AES128-GCM-SHA256 bits=128/128);
 Fri, 01 Mar 2024 18:46:48 -0800 (PST)
X-Relaying-Domain: iol.unh.edu
Date: Fri, 01 Mar 2024 18:46:48 -0800 (PST)
Message-ID: <65e29318.050a0220.c9fd3.e273SMTPIN_ADDED_MISSING@mx.google.com>
Received: from [172.21.0.6] (unknown [172.18.0.240])
 by postal.iol.unh.edu (Postfix) with ESMTP id 445516052712;
 Fri,  1 Mar 2024 21:46:48 -0500 (EST)
Subject: |SUCCESS| pw137765-137770 [PATCH] [6/6] baseband/fpga_5gnr: don't us
From: dpdklab@iol.unh.edu
To: Test Report <test-report@dpdk.org>
Cc: dpdk-test-reports@iol.unh.edu
In-Reply-To: <20240301175842.159967-7-stephen@networkplumber.org>
References: <20240301175842.159967-7-stephen@networkplumber.org>
Content-Type: text/plain
X-BeenThere: test-report@dpdk.org
X-Mailman-Version: 2.1.29
Precedence: list
List-Id: automatic DPDK test reports <test-report.dpdk.org>
List-Unsubscribe: <https://mails.dpdk.org/options/test-report>,
 <mailto:test-report-request@dpdk.org?subject=unsubscribe>
List-Archive: <http://mails.dpdk.org/archives/test-report/>
List-Post: <mailto:test-report@dpdk.org>
List-Help: <mailto:test-report-request@dpdk.org?subject=help>
List-Subscribe: <https://mails.dpdk.org/listinfo/test-report>,
 <mailto:test-report-request@dpdk.org?subject=subscribe>
Errors-To: test-report-bounces@dpdk.org

Test-Label: iol-compile-arm64-testing
Test-Status: SUCCESS
http://dpdk.org/patch/137770

_Testing PASS_

Submitter: Stephen Hemminger <stephen@networkplumber.org>
Date: Friday, March 01 2024 17:57:11 
DPDK git baseline: Repo:dpdk
  Branch: master
  CommitID:5df34de5808a7b826b8bc035d6ee3161a12be364

137765-137770 --> testing pass

Test environment and result as below:

+----------------------------------------+--------------------+
|              Environment               | dpdk_meson_compile |
+========================================+====================+
| Ubuntu 20.04 ARM SVE                   | PASS               |
+----------------------------------------+--------------------+
| Fedora 38 (ARM)                        | PASS               |
+----------------------------------------+--------------------+
| Fedora 37 (ARM)                        | PASS               |
+----------------------------------------+--------------------+
| Ubuntu 20.04 (ARM)                     | PASS               |
+----------------------------------------+--------------------+
| Ubuntu 20.04 ARM GCC Cross Compile     | PASS               |
+----------------------------------------+--------------------+
| Ubuntu 20.04 aarch32 GCC Cross Compile | PASS               |
+----------------------------------------+--------------------+
| Debian 11 (Buster) (ARM)               | PASS               |
+----------------------------------------+--------------------+
| Ubuntu 20.04 ARM Clang Cross Compile   | PASS               |
+----------------------------------------+--------------------+
| Debian 12 (arm)                        | PASS               |
+----------------------------------------+--------------------+
| CentOS Stream 9 (ARM)                  | PASS               |
+----------------------------------------+--------------------+


Ubuntu 20.04 ARM SVE
	Kernel: 5.4.0-80-generic
	Compiler: gcc 10.3.0 (Ubuntu 10.3.0-1ubuntu1~20.04)

Fedora 38 (ARM)
	Kernel: Depends on container host
	Compiler: gcc 13.1.1

Fedora 37 (ARM)
	Kernel: Depends on container host
	Compiler: gcc 12.3.1

Ubuntu 20.04 (ARM)
	Kernel: Container Host Kernel
	Compiler: gcc 9.4.0

Ubuntu 20.04 ARM GCC Cross Compile
	Kernel: 5.4.0-72-generic
	Compiler: aarch64-linux-gnu-gcc (Ubuntu 9.3.0-17ubuntu1~20.04) 9.3.0

Ubuntu 20.04 aarch32 GCC Cross Compile
	Kernel: 5.4.0-72-generic
	Compiler: gcc 9.3.0

Debian 11 (Buster) (ARM)
	Kernel: Container Host Kernel
	Compiler: gcc 10.2.1

Ubuntu 20.04 ARM Clang Cross Compile
	Kernel: 5.4.0-72-generic
	Compiler: clang version 10.0.0-4ubuntu1

Debian 12 (arm)
	Kernel: Container Host Kernel
	Compiler: gcc 11

CentOS Stream 9 (ARM)
	Kernel: Container Host Kernel
	Compiler: gcc 11.3.1

To view detailed results, visit:
https://lab.dpdk.org/results/dashboard/patchsets/29382/

UNH-IOL DPDK Community Lab

To manage your email subscriptions, visit: 
https://lab.dpdk.org/results/dashboard/preferences/subscriptions/