From mboxrd@z Thu Jan 1 00:00:00 1970 Return-Path: Received: from mails.dpdk.org (mails.dpdk.org [217.70.189.124]) by inbox.dpdk.org (Postfix) with ESMTP id 0826543C29 for ; Sat, 2 Mar 2024 03:55:18 +0100 (CET) Received: from mails.dpdk.org (localhost [127.0.0.1]) by mails.dpdk.org (Postfix) with ESMTP id 047C940284; Sat, 2 Mar 2024 03:55:18 +0100 (CET) Received: from mail-qt1-f228.google.com (mail-qt1-f228.google.com [209.85.160.228]) by mails.dpdk.org (Postfix) with ESMTP id 866704025E for ; Sat, 2 Mar 2024 03:55:16 +0100 (CET) Received: by mail-qt1-f228.google.com with SMTP id d75a77b69052e-42e63a658e1so9380221cf.3 for ; Fri, 01 Mar 2024 18:55:16 -0800 (PST) DKIM-Signature: v=1; a=rsa-sha256; c=relaxed/relaxed; d=iol.unh.edu; s=unh-iol; t=1709348116; x=1709952916; darn=dpdk.org; h=references:in-reply-to:cc:to:from:subject:message-id:date:from:to :cc:subject:date:message-id:reply-to; bh=RQ/mTN81Bb8lasZJZOp4xRnTbgvVP/nPVuXERtK4uRM=; b=hA+j+G9WRqCtJEPFo2MxzOP7b4SbM0MwznYRfDZ18czWUAQZP2DneOBoB2ctOG5c+b VKYkrvopRVgnT7NSrVGF9SO9eXpMTtILHgFrHVtwKXDqb1RL4+5+f0HAbMNWjFlwKDFn MhE8h9zidbdfF3v7oLpkpmOLf9F0TMYhHC0yg= X-Google-DKIM-Signature: v=1; a=rsa-sha256; c=relaxed/relaxed; d=1e100.net; s=20230601; t=1709348116; x=1709952916; h=references:in-reply-to:cc:to:from:subject:message-id:date :x-gm-message-state:from:to:cc:subject:date:message-id:reply-to; bh=RQ/mTN81Bb8lasZJZOp4xRnTbgvVP/nPVuXERtK4uRM=; b=UmZvpjoe3e2CNFKvQ+WqYh5Z9iAynIC+HQ2w5kVUpqH177DekcO72N+CKGvlsV3Rsz nfYe/4KcCx7f5ReJZFMGaNcBu0BCsY3HSiavdNThR49dA6UUBz/GII6RIk+ZaF5oCdj3 84hJYBERMEzpmxnzbE74WBvtU8gjuiPUB9acZAU1r6fVNS9mcy7eIKsfmfmX72JykWwy kQ7xq2G/B8ZBhC8ecuYqzWVHpEqF87vujZQIcy3d3BB8HICLzp1QrRpgEhCAtrnshMJs a9xYfTMsUoWCFBh6v21ElLHwSPUkX/45Ou7Qt3yAzCRjXFawYYKrOZCFkh5aDJnVPvbD 5tPg== X-Gm-Message-State: AOJu0YxZAs26xkFpT96F/W05ht4LpZrcFY9hZbWsREtxIJFXgK4ocbTt 7pdVwwU179EBVQdEuhIptbaroWgp5itUKw/EmmxCi0riM2jgSn6NMcJRFhJXQaoUfm82Cv06VUV Si0y4oZq246+hAa4H5qUPb5DwyjQP2BkJeaWqW3iHwWUyhD8iVkEvCX7k X-Google-Smtp-Source: AGHT+IHFds7RsyWw6WD8VRZQTlVnUaREa2jmA8GeTkI3KcKTf+kSnwjqrsC1FnxkCgvj8DVSBkKoVmHJ5NjV X-Received: by 2002:a05:622a:250:b0:42e:6468:6f99 with SMTP id c16-20020a05622a025000b0042e64686f99mr4175265qtx.6.1709348116036; Fri, 01 Mar 2024 18:55:16 -0800 (PST) Received: from postal.iol.unh.edu (postal.iol.unh.edu. [2606:4100:3880:1234::84]) by smtp-relay.gmail.com with ESMTPS id bz20-20020a05622a1e9400b0042ed9bf2161sm24435qtb.23.2024.03.01.18.55.15 (version=TLS1_2 cipher=ECDHE-ECDSA-AES128-GCM-SHA256 bits=128/128); Fri, 01 Mar 2024 18:55:16 -0800 (PST) X-Relaying-Domain: iol.unh.edu Date: Fri, 01 Mar 2024 18:55:16 -0800 (PST) Message-ID: <65e29514.050a0220.e3f43.1a83SMTPIN_ADDED_MISSING@mx.google.com> Received: from [172.17.0.7] (unknown [172.18.0.217]) by postal.iol.unh.edu (Postfix) with ESMTP id C65ED6052511; Fri, 1 Mar 2024 21:55:15 -0500 (EST) Subject: |SUCCESS| pw137765-137770 [PATCH] [6/6] baseband/fpga_5gnr: don't us From: dpdklab@iol.unh.edu To: Test Report Cc: dpdk-test-reports@iol.unh.edu In-Reply-To: <20240301175842.159967-7-stephen@networkplumber.org> References: <20240301175842.159967-7-stephen@networkplumber.org> Content-Type: text/plain X-BeenThere: test-report@dpdk.org X-Mailman-Version: 2.1.29 Precedence: list List-Id: automatic DPDK test reports List-Unsubscribe: , List-Archive: List-Post: List-Help: List-Subscribe: , Errors-To: test-report-bounces@dpdk.org Test-Label: iol-compile-amd64-testing Test-Status: SUCCESS http://dpdk.org/patch/137770 _Testing PASS_ Submitter: Stephen Hemminger Date: Friday, March 01 2024 17:57:11 DPDK git baseline: Repo:dpdk Branch: master CommitID:5df34de5808a7b826b8bc035d6ee3161a12be364 137765-137770 --> testing pass Test environment and result as below: +---------------------+--------------------+ | Environment | dpdk_meson_compile | +=====================+====================+ | FreeBSD 13.2 | PASS | +---------------------+--------------------+ | Debian 12 (arm) | PASS | +---------------------+--------------------+ | CentOS Stream 8 | PASS | +---------------------+--------------------+ | Fedora 37 | PASS | +---------------------+--------------------+ | Debian Bullseye | PASS | +---------------------+--------------------+ | openSUSE Leap 15 | PASS | +---------------------+--------------------+ | RHEL8 | PASS | +---------------------+--------------------+ | Ubuntu 22.04 | PASS | +---------------------+--------------------+ | Fedora 38 | PASS | +---------------------+--------------------+ | CentOS Stream 9 | PASS | +---------------------+--------------------+ | Ubuntu 20.04 | PASS | +---------------------+--------------------+ | Alpine | PASS | +---------------------+--------------------+ | Windows Server 2022 | PASS | +---------------------+--------------------+ FreeBSD 13.2 Kernel: 13.2 Compiler: clang 11.3.0 Debian 12 (arm) Kernel: Container Host Kernel Compiler: gcc 11 CentOS Stream 8 Kernel: 4.18.0-240.10.1.el8_3.x86_64 Compiler: gcc 8.4.1 20200928 Fedora 37 Kernel: Depends on container host system Compiler: gcc 12.3.1 Debian Bullseye Kernel: 5.4.0-122-generic Compiler: gcc 10.2.1-6 openSUSE Leap 15 Kernel: 4.18.0-240.10.1.el8_3.x86_64 Compiler: gcc 7.5.0 RHEL8 Kernel: 4.18.0-240.10.1.el8_3.x86_64 Compiler: gcc 8.3.1 20191121 (Red Hat 8.3.1-5) Ubuntu 22.04 Kernel: 4.18.0-240.10.1.el8_3.x86_64 Compiler: gcc 11.3.0 Fedora 38 Kernel: Depends on container host Compiler: gcc 13.1.1 CentOS Stream 9 Kernel: 4.18.0-240.10.1.el8_3.x86_64 Compiler: gcc 11.3.1 20220421 Ubuntu 20.04 Kernel: 5.4.0-153-generic Compiler: gcc 9.4.0-1ubuntu1~20.04.1 Alpine Kernel: 5.4.0-73-generic Compiler: gcc (Alpine 10.3.1_git20210424) 10.3.1 20210424 Windows Server 2022 Kernel: OS Build 20348.2031 Compiler: MSVC VS-Preview To view detailed results, visit: https://lab.dpdk.org/results/dashboard/patchsets/29382/ UNH-IOL DPDK Community Lab To manage your email subscriptions, visit: https://lab.dpdk.org/results/dashboard/preferences/subscriptions/