From mboxrd@z Thu Jan  1 00:00:00 1970
Return-Path: <test-report-bounces@dpdk.org>
Received: from mails.dpdk.org (mails.dpdk.org [217.70.189.124])
	by inbox.dpdk.org (Postfix) with ESMTP id DA6FC43BB1
	for <public@inbox.dpdk.org>; Sat,  2 Mar 2024 05:32:02 +0100 (CET)
Received: from mails.dpdk.org (localhost [127.0.0.1])
	by mails.dpdk.org (Postfix) with ESMTP id BC9454025E;
	Sat,  2 Mar 2024 05:32:02 +0100 (CET)
Received: from mail-ua1-f99.google.com (mail-ua1-f99.google.com
 [209.85.222.99]) by mails.dpdk.org (Postfix) with ESMTP id 0A713400D5
 for <test-report@dpdk.org>; Sat,  2 Mar 2024 05:32:01 +0100 (CET)
Received: by mail-ua1-f99.google.com with SMTP id
 a1e0cc1a2514c-7dadba3284cso1234406241.2
 for <test-report@dpdk.org>; Fri, 01 Mar 2024 20:32:00 -0800 (PST)
DKIM-Signature: v=1; a=rsa-sha256; c=relaxed/relaxed;
 d=iol.unh.edu; s=unh-iol; t=1709353920; x=1709958720; darn=dpdk.org;
 h=references:in-reply-to:cc:to:from:subject:message-id:date:from:to
 :cc:subject:date:message-id:reply-to;
 bh=p2ZNCCfl+965rvIaZ2Dye+f5VtsLOhvV9CwmrXVlGog=;
 b=V64YUCLWaOfu017LApAhr2gGp1bOKCsYEti/wX8cgjpRCMjry5yetp1vuuaew91QLg
 Zxa0ejsIvf5y8RHPOTkUC1rMsRo9zOaZZNHLvtIaOK1g1GCt/m76soKDcE7krvjVLqSw
 4lFHcoUe/3n2/S0xRkvjB68N2lBnVMKs5v3Gc=
X-Google-DKIM-Signature: v=1; a=rsa-sha256; c=relaxed/relaxed;
 d=1e100.net; s=20230601; t=1709353920; x=1709958720;
 h=references:in-reply-to:cc:to:from:subject:message-id:date
 :x-gm-message-state:from:to:cc:subject:date:message-id:reply-to;
 bh=p2ZNCCfl+965rvIaZ2Dye+f5VtsLOhvV9CwmrXVlGog=;
 b=F622SD7pbZFwKERN+Wcacs3ieS3NDv8EQtDgI4TnJpbG9TFrZwZZvrIgUHWLtmdZsq
 BjcscaRZSNP03eH2nSW6yfa6u+8g+5BL0DxjJ0eb9vBYoCLlsod3eDyk0XrqUUdmaQ4z
 S5cHJ55/wTxd3CQe7Urc0y0pilpicLQQY9f8JmeKfB25ai1Ft/g09YgaGeeWI2CgVR2O
 d83HFtE4m+5Zw2G4ghjm3HleZ+MydtM+C9CNsQO99aYU9S/SD09wF4wk0ApuCe27Sej2
 9aSHSYuzKu+pWMr2IrOWm/XB7d+nx0XZnwumTY1KwJcH4lgaxtYF+TCw2r/8sjPI/4ym
 WsNg==
X-Gm-Message-State: AOJu0YxYprGKTQ//JDf2G1cJGwFRaCPdYZ+fb9rDcuWN6YPuSuFNBjOs
 SSSEzv7ONT/VgxoziXnFPpXWTLV7j/UgdOgc00xhftEsOt6E7bvrcsGxLZolRUYeWr1+mBsK6+8
 P8+hw5OQAtxAJz6hQRTevntuuJyyanaCxPxAHOCab
X-Google-Smtp-Source: AGHT+IHmg4Qid1OVj/cLM1LosvHfG41dfkFGqPczvdunWQ5SZXzC6yill/81u5eK5hZlFNEVOsjCJOhdhZ8d
X-Received: by 2002:a05:6102:2a68:b0:472:aa04:7648 with SMTP id
 hp8-20020a0561022a6800b00472aa047648mr559238vsb.27.1709353920355; 
 Fri, 01 Mar 2024 20:32:00 -0800 (PST)
Received: from postal.iol.unh.edu (postal.iol.unh.edu. [132.177.123.84])
 by smtp-relay.gmail.com with ESMTPS id
 r2-20020ab06f02000000b007db01f3708fsm160913uah.10.2024.03.01.20.32.00
 (version=TLS1_2 cipher=ECDHE-ECDSA-AES128-GCM-SHA256 bits=128/128);
 Fri, 01 Mar 2024 20:32:00 -0800 (PST)
X-Relaying-Domain: iol.unh.edu
Date: Fri, 01 Mar 2024 20:32:00 -0800 (PST)
Message-ID: <65e2abc0.b00a0220.8550e.a187SMTPIN_ADDED_MISSING@mx.google.com>
Received: from [172.17.0.7] (unknown [172.18.0.217])
 by postal.iol.unh.edu (Postfix) with ESMTP id EAA446043300;
 Fri,  1 Mar 2024 23:31:59 -0500 (EST)
Subject: |SUCCESS| pw137678 [PATCH] [v5] common/qat: add virtual qat device (
From: dpdklab@iol.unh.edu
To: Test Report <test-report@dpdk.org>
Cc: dpdk-test-reports@iol.unh.edu
In-Reply-To: <20240301151923.4906-1-arkadiuszx.kusztal@intel.com>
References: <20240301151923.4906-1-arkadiuszx.kusztal@intel.com>
Content-Type: text/plain
X-BeenThere: test-report@dpdk.org
X-Mailman-Version: 2.1.29
Precedence: list
List-Id: automatic DPDK test reports <test-report.dpdk.org>
List-Unsubscribe: <https://mails.dpdk.org/options/test-report>,
 <mailto:test-report-request@dpdk.org?subject=unsubscribe>
List-Archive: <http://mails.dpdk.org/archives/test-report/>
List-Post: <mailto:test-report@dpdk.org>
List-Help: <mailto:test-report-request@dpdk.org?subject=help>
List-Subscribe: <https://mails.dpdk.org/listinfo/test-report>,
 <mailto:test-report-request@dpdk.org?subject=subscribe>
Errors-To: test-report-bounces@dpdk.org

Test-Label: iol-unit-amd64-testing
Test-Status: SUCCESS
http://dpdk.org/patch/137678

_Testing PASS_

Submitter: Arkadiusz Kusztal <arkadiuszx.kusztal@intel.com>
Date: Friday, March 01 2024 15:19:23 
DPDK git baseline: Repo:dpdk
  Branch: master
  CommitID:5ac50824383c2683c0dfdf24c6dc493f1fa54852

137678 --> testing pass

Test environment and result as below:

+---------------------+----------------+
|     Environment     | dpdk_unit_test |
+=====================+================+
| CentOS Stream 9     | PASS           |
+---------------------+----------------+
| Debian 12 (arm)     | PASS           |
+---------------------+----------------+
| Debian Bullseye     | PASS           |
+---------------------+----------------+
| CentOS Stream 8     | PASS           |
+---------------------+----------------+
| Fedora 37           | PASS           |
+---------------------+----------------+
| Fedora 38           | PASS           |
+---------------------+----------------+
| Ubuntu 20.04        | PASS           |
+---------------------+----------------+
| openSUSE Leap 15    | PASS           |
+---------------------+----------------+
| RHEL8               | PASS           |
+---------------------+----------------+
| Ubuntu 22.04        | PASS           |
+---------------------+----------------+
| Windows Server 2019 | PASS           |
+---------------------+----------------+


CentOS Stream 9
	Kernel: 4.18.0-240.10.1.el8_3.x86_64
	Compiler: gcc 11.3.1 20220421

Debian 12 (arm)
	Kernel: Container Host Kernel
	Compiler: gcc 11

Debian Bullseye
	Kernel: 5.4.0-122-generic
	Compiler: gcc 10.2.1-6

CentOS Stream 8
	Kernel: 4.18.0-240.10.1.el8_3.x86_64
	Compiler: gcc 8.4.1 20200928

Fedora 37
	Kernel: Depends on container host system
	Compiler: gcc 12.3.1

Fedora 38
	Kernel: Depends on container host
	Compiler: gcc 13.1.1

Ubuntu 20.04
	Kernel: 5.4.0-153-generic
	Compiler: gcc 9.4.0-1ubuntu1~20.04.1

openSUSE Leap 15
	Kernel: 4.18.0-240.10.1.el8_3.x86_64
	Compiler: gcc 7.5.0

RHEL8
	Kernel: 4.18.0-240.10.1.el8_3.x86_64
	Compiler: gcc 8.3.1 20191121 (Red Hat 8.3.1-5)

Ubuntu 22.04
	Kernel: 4.18.0-240.10.1.el8_3.x86_64
	Compiler: gcc 11.3.0

Windows Server 2019
	Kernel: 10.0
	Compiler: clang 14.0 and gcc 8.1.0 (MinGW)

To view detailed results, visit:
https://lab.dpdk.org/results/dashboard/patchsets/29375/

UNH-IOL DPDK Community Lab

To manage your email subscriptions, visit: 
https://lab.dpdk.org/results/dashboard/preferences/subscriptions/