From mboxrd@z Thu Jan 1 00:00:00 1970 Return-Path: Received: from mails.dpdk.org (mails.dpdk.org [217.70.189.124]) by inbox.dpdk.org (Postfix) with ESMTP id 3DA7543C21 for ; Sat, 2 Mar 2024 05:44:21 +0100 (CET) Received: from mails.dpdk.org (localhost [127.0.0.1]) by mails.dpdk.org (Postfix) with ESMTP id 1B1354025E; Sat, 2 Mar 2024 05:44:21 +0100 (CET) Received: from mail-io1-f98.google.com (mail-io1-f98.google.com [209.85.166.98]) by mails.dpdk.org (Postfix) with ESMTP id 1DB36400D5 for ; Sat, 2 Mar 2024 05:44:19 +0100 (CET) Received: by mail-io1-f98.google.com with SMTP id ca18e2360f4ac-7c83788bfabso4845839f.1 for ; Fri, 01 Mar 2024 20:44:19 -0800 (PST) DKIM-Signature: v=1; a=rsa-sha256; c=relaxed/relaxed; d=iol.unh.edu; s=unh-iol; t=1709354658; x=1709959458; darn=dpdk.org; h=references:in-reply-to:cc:to:from:subject:message-id:date:from:to :cc:subject:date:message-id:reply-to; bh=aWG/SZRBZiYqVNaUUPuL4LsSivFE5TGpPiloLFWDqXM=; b=JOh2KRZB8TVct0nEcRgzeoYfxmxPnlFFaSxG81ExhiXehz1DGIFSTsF9Pe7XwXCibG sYS0UUTgG496FeA942BdqBFBD0V5MJNtEgDlLLg/Ft9KlDrGJPcR0fy6w4AkAjIwXUic GK5yk+bEK74jFJQi82GVHYG7NvnGJAER9QKVc= X-Google-DKIM-Signature: v=1; a=rsa-sha256; c=relaxed/relaxed; d=1e100.net; s=20230601; t=1709354658; x=1709959458; h=references:in-reply-to:cc:to:from:subject:message-id:date :x-gm-message-state:from:to:cc:subject:date:message-id:reply-to; bh=aWG/SZRBZiYqVNaUUPuL4LsSivFE5TGpPiloLFWDqXM=; b=CoWYrvc2Tu8nkU62kK5f8BkC1Bq0JY+yi9AuUwJ7MpEJcwoh19+vPnRk3XbvYKaSle /2YFKlZQOSV3ASNUftNsA/ONMRa2Klg6GwDgCyNHZeSxdGAFioseLyq0iNbBR30qpFUH yqZNnKUscwqv26U7IQjndvlc21ZBGEvZQ/P23Gk71kJCstLB8gOUJld9pDjEl/yn8D7M AUUoRl38ikn7HDM4osCy2vvephe53YzmF6SFSMC7CSQlMFkaoPPFtF4NCC8QB5ut5H0q rE6P1qN+2zRpFhXNGRnvXqiBuWv6hjv4sj+H7dnR0Ok7QLL6BXL62eYQBuw4rScbwpOg MEFA== X-Gm-Message-State: AOJu0YzI+LVJdtPPRCaqAUqysHS+dAdgWyBRoSKpPtfp943LQzSsVdFr MxipTdce0uTCI0vG02o7wPxyL5enunLE8YLMFn+ScunwuYD1+AcIVyVlEOTIjHoqfjsIaHT1q3U 65Y3nyNeaDCNm/NzVTrXWsVNwiAqqPb9qlDoazVYW X-Google-Smtp-Source: AGHT+IEn1/QD/UnyRBKnh9GjnKjxMpTkEqRycb29KlG8wDoBRaZ0FyL9zj8J1Rlo9x0JMkmixkTFZXa6QqqS X-Received: by 2002:a05:6e02:178a:b0:365:cf7:af3a with SMTP id y10-20020a056e02178a00b003650cf7af3amr4144070ilu.21.1709354658296; Fri, 01 Mar 2024 20:44:18 -0800 (PST) Received: from postal.iol.unh.edu (postal.iol.unh.edu. [132.177.123.84]) by smtp-relay.gmail.com with ESMTPS id a11-20020a92c54b000000b003654e4578a6sm217761ilj.44.2024.03.01.20.44.18 (version=TLS1_2 cipher=ECDHE-ECDSA-AES128-GCM-SHA256 bits=128/128); Fri, 01 Mar 2024 20:44:18 -0800 (PST) X-Relaying-Domain: iol.unh.edu Date: Fri, 01 Mar 2024 20:44:18 -0800 (PST) Message-ID: <65e2aea2.920a0220.51cc7.eb62SMTPIN_ADDED_MISSING@mx.google.com> Received: from [172.17.0.7] (unknown [172.18.0.217]) by postal.iol.unh.edu (Postfix) with ESMTP id C7F4F6043300; Fri, 1 Mar 2024 23:44:17 -0500 (EST) Subject: |SUCCESS| pw137648-137649 [PATCH] [v2,2/2] common/cnxk: fix possible From: dpdklab@iol.unh.edu To: Test Report Cc: dpdk-test-reports@iol.unh.edu In-Reply-To: <20240301033534.1968900-2-psatheesh@marvell.com> References: <20240301033534.1968900-2-psatheesh@marvell.com> Content-Type: text/plain X-BeenThere: test-report@dpdk.org X-Mailman-Version: 2.1.29 Precedence: list List-Id: automatic DPDK test reports List-Unsubscribe: , List-Archive: List-Post: List-Help: List-Subscribe: , Errors-To: test-report-bounces@dpdk.org Test-Label: iol-unit-amd64-testing Test-Status: SUCCESS http://dpdk.org/patch/137649 _Testing PASS_ Submitter: Satheesh Paul Antonysamy Date: Friday, March 01 2024 03:35:34 DPDK git baseline: Repo:dpdk Branch: master CommitID:ce8ce20ae46fe0df7632a0172c73d2dcd1ac0187 137648-137649 --> testing pass Test environment and result as below: +---------------------+----------------+ | Environment | dpdk_unit_test | +=====================+================+ | CentOS Stream 8 | PASS | +---------------------+----------------+ | CentOS Stream 9 | PASS | +---------------------+----------------+ | Debian Bullseye | PASS | +---------------------+----------------+ | Debian 12 (arm) | PASS | +---------------------+----------------+ | Fedora 37 | PASS | +---------------------+----------------+ | RHEL8 | PASS | +---------------------+----------------+ | openSUSE Leap 15 | PASS | +---------------------+----------------+ | Fedora 38 | PASS | +---------------------+----------------+ | Ubuntu 22.04 | PASS | +---------------------+----------------+ | Ubuntu 20.04 | PASS | +---------------------+----------------+ | Windows Server 2019 | PASS | +---------------------+----------------+ CentOS Stream 8 Kernel: 4.18.0-240.10.1.el8_3.x86_64 Compiler: gcc 8.4.1 20200928 CentOS Stream 9 Kernel: 4.18.0-240.10.1.el8_3.x86_64 Compiler: gcc 11.3.1 20220421 Debian Bullseye Kernel: 5.4.0-122-generic Compiler: gcc 10.2.1-6 Debian 12 (arm) Kernel: Container Host Kernel Compiler: gcc 11 Fedora 37 Kernel: Depends on container host system Compiler: gcc 12.3.1 RHEL8 Kernel: 4.18.0-240.10.1.el8_3.x86_64 Compiler: gcc 8.3.1 20191121 (Red Hat 8.3.1-5) openSUSE Leap 15 Kernel: 4.18.0-240.10.1.el8_3.x86_64 Compiler: gcc 7.5.0 Fedora 38 Kernel: Depends on container host Compiler: gcc 13.1.1 Ubuntu 22.04 Kernel: 4.18.0-240.10.1.el8_3.x86_64 Compiler: gcc 11.3.0 Ubuntu 20.04 Kernel: 5.4.0-153-generic Compiler: gcc 9.4.0-1ubuntu1~20.04.1 Windows Server 2019 Kernel: 10.0 Compiler: clang 14.0 and gcc 8.1.0 (MinGW) To view detailed results, visit: https://lab.dpdk.org/results/dashboard/patchsets/29357/ UNH-IOL DPDK Community Lab To manage your email subscriptions, visit: https://lab.dpdk.org/results/dashboard/preferences/subscriptions/