From mboxrd@z Thu Jan 1 00:00:00 1970 Return-Path: Received: from mails.dpdk.org (mails.dpdk.org [217.70.189.124]) by inbox.dpdk.org (Postfix) with ESMTP id BF0F543C21 for ; Sat, 2 Mar 2024 06:18:59 +0100 (CET) Received: from mails.dpdk.org (localhost [127.0.0.1]) by mails.dpdk.org (Postfix) with ESMTP id 9676A4025E; Sat, 2 Mar 2024 06:18:59 +0100 (CET) Received: from mail-qv1-f97.google.com (mail-qv1-f97.google.com [209.85.219.97]) by mails.dpdk.org (Postfix) with ESMTP id B4657400D5 for ; Sat, 2 Mar 2024 06:18:58 +0100 (CET) Received: by mail-qv1-f97.google.com with SMTP id 6a1803df08f44-68f901192afso12899036d6.1 for ; Fri, 01 Mar 2024 21:18:58 -0800 (PST) DKIM-Signature: v=1; a=rsa-sha256; c=relaxed/relaxed; d=iol.unh.edu; s=unh-iol; t=1709356738; x=1709961538; darn=dpdk.org; h=references:in-reply-to:cc:to:from:subject:message-id:date:from:to :cc:subject:date:message-id:reply-to; bh=yEFrBYf5AXU2Xx/UeWRSknbN+d4Ue0EjoajF67Hcgr0=; b=O1gsjWB0l/CgJ4SARCv6hC5IZn7x5nRraNmwA0sdi/eZDK12nN4JGj1RmCTwAEOxeX 6Dulyff5YnpVJcvv1DM7x5XzWWgMMoRnMYfEeGC45/CnZF4SZoXsH5x9vwA/G/lhQG9p UWx9d8ZYqj9T+eWMGRPpPsGSa81vatAvZcpds= X-Google-DKIM-Signature: v=1; a=rsa-sha256; c=relaxed/relaxed; d=1e100.net; s=20230601; t=1709356738; x=1709961538; h=references:in-reply-to:cc:to:from:subject:message-id:date :x-gm-message-state:from:to:cc:subject:date:message-id:reply-to; bh=yEFrBYf5AXU2Xx/UeWRSknbN+d4Ue0EjoajF67Hcgr0=; b=MHdfcH4etEHoQyRBn8PAXRrrq7/15dY21y1EbgdRbqKvz6EYDwjjN2D3dEi6KPfp4R 9IqU+DEuj68lk/SMJfWO+uk4vXO6Mcb3CS/JQk/Km3qFVwhXHXMDHTWlzw7E3qdLrNdz 4v6ce8S1gOC1RnMjMpV8O4m3BjEIKM9tzDutpEr1MpdUvRk/COEUnA6r+8a4YFnB9e+M M7JFkbSPQI/cEKEO3dIHUkDuS2utUaMfuweTvrD+rwFLquO/LyUNpjWkZL6auhJI+3mE 6vtjqESL8bNNfRqTkITAFcvc9Q1D6SiM+5UM4OPJKqfX+mC8ikhHURbTqCR3kKx1BJSb wXUw== X-Gm-Message-State: AOJu0YwolcN5VKSNQATvfQtm2DMusqZDCE9WNWIR9IeKVXsoFt6CQslL JjAPAbL4+w3dIG2qC/qSMtifB9I76KxvbtZDRUhH/R2LXBYfQWqNhOItqg4NTC5Pv8XyA9cm389 8gpycEmkIWyI9ESfSz636AzESsmM+CSJ9ek36UCT5jbuVVteow47igUZ/ X-Google-Smtp-Source: AGHT+IFR/S93s5GF6UCkaIn5qOsSXkWYGiNW5Z9H2WDQxen4Xq5rMKKiTYCOftZbDs/ahLthVggYYrrEYVxz X-Received: by 2002:a0c:f0cc:0:b0:690:60e3:2f9a with SMTP id d12-20020a0cf0cc000000b0069060e32f9amr1074881qvl.32.1709356738016; Fri, 01 Mar 2024 21:18:58 -0800 (PST) Received: from postal.iol.unh.edu (postal.iol.unh.edu. [2606:4100:3880:1234::84]) by smtp-relay.gmail.com with ESMTPS id r3-20020a0562140c8300b0068f10413517sm232280qvr.72.2024.03.01.21.18.57 (version=TLS1_2 cipher=ECDHE-ECDSA-AES128-GCM-SHA256 bits=128/128); Fri, 01 Mar 2024 21:18:58 -0800 (PST) X-Relaying-Domain: iol.unh.edu Date: Fri, 01 Mar 2024 21:18:58 -0800 (PST) Message-ID: <65e2b6c2.050a0220.dd001.0046SMTPIN_ADDED_MISSING@mx.google.com> Received: from [172.17.0.6] (unknown [172.18.0.217]) by postal.iol.unh.edu (Postfix) with ESMTP id 75BC96043300; Sat, 2 Mar 2024 00:18:57 -0500 (EST) Subject: |SUCCESS| pw137765-137770 [PATCH] [6/6] baseband/fpga_5gnr: don't us From: dpdklab@iol.unh.edu To: Test Report Cc: dpdk-test-reports@iol.unh.edu In-Reply-To: <20240301175842.159967-7-stephen@networkplumber.org> References: <20240301175842.159967-7-stephen@networkplumber.org> Content-Type: text/plain X-BeenThere: test-report@dpdk.org X-Mailman-Version: 2.1.29 Precedence: list List-Id: automatic DPDK test reports List-Unsubscribe: , List-Archive: List-Post: List-Help: List-Subscribe: , Errors-To: test-report-bounces@dpdk.org Test-Label: iol-compile-arm64-testing Test-Status: SUCCESS http://dpdk.org/patch/137770 _Testing PASS_ Submitter: Stephen Hemminger Date: Friday, March 01 2024 17:57:11 DPDK git baseline: Repo:dpdk Branch: master CommitID:5df34de5808a7b826b8bc035d6ee3161a12be364 137765-137770 --> testing pass Test environment and result as below: +----------------------------------------+--------------------+ | Environment | dpdk_meson_compile | +========================================+====================+ | Ubuntu 20.04 ARM SVE | PASS | +----------------------------------------+--------------------+ | Fedora 38 (ARM) | PASS | +----------------------------------------+--------------------+ | Fedora 37 (ARM) | PASS | +----------------------------------------+--------------------+ | Ubuntu 20.04 (ARM) | PASS | +----------------------------------------+--------------------+ | Ubuntu 20.04 ARM GCC Cross Compile | PASS | +----------------------------------------+--------------------+ | Ubuntu 20.04 aarch32 GCC Cross Compile | PASS | +----------------------------------------+--------------------+ | Debian 11 (Buster) (ARM) | PASS | +----------------------------------------+--------------------+ | Ubuntu 20.04 ARM Clang Cross Compile | PASS | +----------------------------------------+--------------------+ | Debian 12 (arm) | PASS | +----------------------------------------+--------------------+ | CentOS Stream 9 (ARM) | PASS | +----------------------------------------+--------------------+ | Fedora 38 (ARM Clang) | PASS | +----------------------------------------+--------------------+ Ubuntu 20.04 ARM SVE Kernel: 5.4.0-80-generic Compiler: gcc 10.3.0 (Ubuntu 10.3.0-1ubuntu1~20.04) Fedora 38 (ARM) Kernel: Depends on container host Compiler: gcc 13.1.1 Fedora 37 (ARM) Kernel: Depends on container host Compiler: gcc 12.3.1 Ubuntu 20.04 (ARM) Kernel: Container Host Kernel Compiler: gcc 9.4.0 Ubuntu 20.04 ARM GCC Cross Compile Kernel: 5.4.0-72-generic Compiler: aarch64-linux-gnu-gcc (Ubuntu 9.3.0-17ubuntu1~20.04) 9.3.0 Ubuntu 20.04 aarch32 GCC Cross Compile Kernel: 5.4.0-72-generic Compiler: gcc 9.3.0 Debian 11 (Buster) (ARM) Kernel: Container Host Kernel Compiler: gcc 10.2.1 Ubuntu 20.04 ARM Clang Cross Compile Kernel: 5.4.0-72-generic Compiler: clang version 10.0.0-4ubuntu1 Debian 12 (arm) Kernel: Container Host Kernel Compiler: gcc 11 CentOS Stream 9 (ARM) Kernel: Container Host Kernel Compiler: gcc 11.3.1 Fedora 38 (ARM Clang) Kernel: Depends on container host Compiler: clang 16.0.3 To view detailed results, visit: https://lab.dpdk.org/results/dashboard/patchsets/29382/ UNH-IOL DPDK Community Lab To manage your email subscriptions, visit: https://lab.dpdk.org/results/dashboard/preferences/subscriptions/