From mboxrd@z Thu Jan  1 00:00:00 1970
Return-Path: <test-report-bounces@dpdk.org>
Received: from mails.dpdk.org (mails.dpdk.org [217.70.189.124])
	by inbox.dpdk.org (Postfix) with ESMTP id 4A2B743BB2
	for <public@inbox.dpdk.org>; Sat,  2 Mar 2024 20:17:47 +0100 (CET)
Received: from mails.dpdk.org (localhost [127.0.0.1])
	by mails.dpdk.org (Postfix) with ESMTP id 4227B40144;
	Sat,  2 Mar 2024 20:17:47 +0100 (CET)
Received: from mail-qv1-f99.google.com (mail-qv1-f99.google.com
 [209.85.219.99]) by mails.dpdk.org (Postfix) with ESMTP id B0233400D5
 for <test-report@dpdk.org>; Sat,  2 Mar 2024 20:17:45 +0100 (CET)
Received: by mail-qv1-f99.google.com with SMTP id
 6a1803df08f44-68f51ba7043so19682466d6.3
 for <test-report@dpdk.org>; Sat, 02 Mar 2024 11:17:45 -0800 (PST)
DKIM-Signature: v=1; a=rsa-sha256; c=relaxed/relaxed;
 d=iol.unh.edu; s=unh-iol; t=1709407065; x=1710011865; darn=dpdk.org;
 h=references:in-reply-to:cc:to:from:subject:message-id:date:from:to
 :cc:subject:date:message-id:reply-to;
 bh=0hNre7OdDzBANU2J6JsWXt8L01ZkbO4V7rgGvHY8BCk=;
 b=cCZd9ncutTyxJty+OOHzXG9SfsVrXFpmWJylBeHBQem+lyX5ymKLaWqiQXzntuVwZD
 54IrNTt54PTm+nx/WUnWZOl9DTYTFlfJhICREnIWoCC18ZGj277uprd0SDjcpfk91Mb0
 2//txJPq68tHiGCNhKv+DB0r+JrIYLv/GVJM0=
X-Google-DKIM-Signature: v=1; a=rsa-sha256; c=relaxed/relaxed;
 d=1e100.net; s=20230601; t=1709407065; x=1710011865;
 h=references:in-reply-to:cc:to:from:subject:message-id:date
 :x-gm-message-state:from:to:cc:subject:date:message-id:reply-to;
 bh=0hNre7OdDzBANU2J6JsWXt8L01ZkbO4V7rgGvHY8BCk=;
 b=AMsvIM06YM9eYht2IhXUfd4DreZD34sGFSPfm2LYvuMik6R+YO12VSm52nZA5cyBUa
 h5ohxHU2++G8nvRaxUGWbtQewP+YVrG0Lifm9dS/IDm7zSLLJUcdZ8Tsc5+uPpoORAZm
 YMWgY6JUJDOLnY1C+K4gHZOq2X6BW7YyZ3Mm2ABEwlvvPVMI2YoJ3XULci5QzXcHfa3/
 A1NXQu2C658i44q7W+bW+O4ZV1b3Fp9Xh0HugncIVCQsL6MCBFbuvjC+Z8VNWyf+WCSZ
 x8P2k98nKqcFO01sjEzCokJbxeTvhpLAe6WpQTwmPaZtXu0i17nCpf7plWIe/eUwWiWy
 nwQA==
X-Gm-Message-State: AOJu0YzeqrYwQn9I+yANVEkh4h3c1y/z48LIsHEfaUQZi9QwNQd967j1
 vyyNsdnGRL35jC+OXPhQxH/ucOl7wAr3ht1K5WoFX9XJtmanTwpYOePVWsd6qwiZcozX5IPA7kp
 tkAoELE8QKxweA/qb6szJ6fL81YF2p+E+1uSXRnkm4EdXnOZIcFVvH6+/
X-Google-Smtp-Source: AGHT+IEEJletoxsZRJKtECA8yVdolDLwtwqX5mi66ft4Qgo70FaR5Pi4wg6KLxDigjGMMe9P3Wcfv0i5V6sw
X-Received: by 2002:ad4:4f13:0:b0:68f:e46b:47f with SMTP id
 fb19-20020ad44f13000000b0068fe46b047fmr4849356qvb.17.1709407065189; 
 Sat, 02 Mar 2024 11:17:45 -0800 (PST)
Received: from postal.iol.unh.edu (postal.iol.unh.edu.
 [2606:4100:3880:1234::84]) by smtp-relay.gmail.com with ESMTPS id
 kd21-20020a056214401500b0069006b70543sm291514qvb.55.2024.03.02.11.17.45
 (version=TLS1_2 cipher=ECDHE-ECDSA-AES128-GCM-SHA256 bits=128/128);
 Sat, 02 Mar 2024 11:17:45 -0800 (PST)
X-Relaying-Domain: iol.unh.edu
Date: Sat, 02 Mar 2024 11:17:45 -0800 (PST)
Message-ID: <65e37b59.050a0220.2ede8.4614SMTPIN_ADDED_MISSING@mx.google.com>
Received: from [172.21.0.8] (unknown [172.18.0.240])
 by postal.iol.unh.edu (Postfix) with ESMTP id E8DF46052712;
 Sat,  2 Mar 2024 14:17:44 -0500 (EST)
Subject: |SUCCESS| pw137801-137807 [PATCH] [RFC,7/7] eal: deprecate relaxed f
From: dpdklab@iol.unh.edu
To: Test Report <test-report@dpdk.org>
Cc: dpdk-test-reports@iol.unh.edu
In-Reply-To: <20240302135328.531940-8-mattias.ronnblom@ericsson.com>
References: <20240302135328.531940-8-mattias.ronnblom@ericsson.com>
Content-Type: text/plain
X-BeenThere: test-report@dpdk.org
X-Mailman-Version: 2.1.29
Precedence: list
List-Id: automatic DPDK test reports <test-report.dpdk.org>
List-Unsubscribe: <https://mails.dpdk.org/options/test-report>,
 <mailto:test-report-request@dpdk.org?subject=unsubscribe>
List-Archive: <http://mails.dpdk.org/archives/test-report/>
List-Post: <mailto:test-report@dpdk.org>
List-Help: <mailto:test-report-request@dpdk.org?subject=help>
List-Subscribe: <https://mails.dpdk.org/listinfo/test-report>,
 <mailto:test-report-request@dpdk.org?subject=subscribe>
Errors-To: test-report-bounces@dpdk.org

Test-Label: iol-abi-testing
Test-Status: SUCCESS
http://dpdk.org/patch/137807

_Testing PASS_

Submitter: Mattias Ronnblom <mattias.ronnblom@ericsson.com>
Date: Saturday, March 02 2024 13:53:28 
DPDK git baseline: Repo:dpdk
  Branch: master
  CommitID:5df34de5808a7b826b8bc035d6ee3161a12be364

137801-137807 --> testing pass

Test environment and result as below:

+------------------+----------+
|   Environment    | abi_test |
+==================+==========+
| Fedora 38        | PASS     |
+------------------+----------+
| Debian Bullseye  | PASS     |
+------------------+----------+
| openSUSE Leap 15 | PASS     |
+------------------+----------+
| CentOS Stream 9  | PASS     |
+------------------+----------+
| RHEL8            | PASS     |
+------------------+----------+
| Fedora 37        | PASS     |
+------------------+----------+
| Ubuntu 22.04     | PASS     |
+------------------+----------+
| CentOS Stream 8  | PASS     |
+------------------+----------+
| Debian 12 (arm)  | PASS     |
+------------------+----------+


Fedora 38
	Kernel: Depends on container host
	Compiler: clang 16.0.3

Debian Bullseye
	Kernel: 5.4.0-122-generic
	Compiler: gcc 10.2.1-6

openSUSE Leap 15
	Kernel: 4.18.0-240.10.1.el8_3.x86_64
	Compiler: gcc 7.5.0

CentOS Stream 9
	Kernel: 4.18.0-240.10.1.el8_3.x86_64
	Compiler: gcc 11.3.1 20220421

RHEL8
	Kernel: 4.18.0-240.10.1.el8_3.x86_64
	Compiler: gcc 8.3.1 20191121 (Red Hat 8.3.1-5)

Fedora 37
	Kernel: Depends on container host system
	Compiler: gcc 12.3.1

Ubuntu 22.04
	Kernel: 4.18.0-240.10.1.el8_3.x86_64
	Compiler: gcc 11.3.0

CentOS Stream 8
	Kernel: 4.18.0-240.10.1.el8_3.x86_64
	Compiler: gcc 8.4.1 20200928

Debian 12 (arm)
	Kernel: Container Host Kernel
	Compiler: gcc 11

To view detailed results, visit:
https://lab.dpdk.org/results/dashboard/patchsets/29385/

UNH-IOL DPDK Community Lab

To manage your email subscriptions, visit: 
https://lab.dpdk.org/results/dashboard/preferences/subscriptions/