From mboxrd@z Thu Jan  1 00:00:00 1970
Return-Path: <test-report-bounces@dpdk.org>
Received: from mails.dpdk.org (mails.dpdk.org [217.70.189.124])
	by inbox.dpdk.org (Postfix) with ESMTP id A14A843BCD
	for <public@inbox.dpdk.org>; Sat,  2 Mar 2024 20:45:00 +0100 (CET)
Received: from mails.dpdk.org (localhost [127.0.0.1])
	by mails.dpdk.org (Postfix) with ESMTP id 9904640284;
	Sat,  2 Mar 2024 20:45:00 +0100 (CET)
Received: from mail-pg1-f227.google.com (mail-pg1-f227.google.com
 [209.85.215.227])
 by mails.dpdk.org (Postfix) with ESMTP id E47EB40271
 for <test-report@dpdk.org>; Sat,  2 Mar 2024 20:44:58 +0100 (CET)
Received: by mail-pg1-f227.google.com with SMTP id
 41be03b00d2f7-5ce942efda5so2696162a12.2
 for <test-report@dpdk.org>; Sat, 02 Mar 2024 11:44:58 -0800 (PST)
DKIM-Signature: v=1; a=rsa-sha256; c=relaxed/relaxed;
 d=iol.unh.edu; s=unh-iol; t=1709408698; x=1710013498; darn=dpdk.org;
 h=references:in-reply-to:cc:to:from:subject:message-id:date:from:to
 :cc:subject:date:message-id:reply-to;
 bh=4bz1oMuf7o0zokjD4Q/wImfINDyb1W88dju2RPWqs4c=;
 b=aACWOvz9WYnocPwsttp9eSOEi6/simK24UIRXkdJRju/zNlYUPn++Nl1pE1bqS4t5a
 3fzS9I2CtNAGWygRdIiZifGJFG9BDWlWhiLlXpV6ZlbJwYPpnZuneGCj1cM9/iKHgDNb
 PQTdr0UfYJUsQu1vqqP4ezLlzf+l1F/S7Je1k=
X-Google-DKIM-Signature: v=1; a=rsa-sha256; c=relaxed/relaxed;
 d=1e100.net; s=20230601; t=1709408698; x=1710013498;
 h=references:in-reply-to:cc:to:from:subject:message-id:date
 :x-gm-message-state:from:to:cc:subject:date:message-id:reply-to;
 bh=4bz1oMuf7o0zokjD4Q/wImfINDyb1W88dju2RPWqs4c=;
 b=LEqCr3l+NdVwQazlJhrMJ88mpRM1iZMyKMNwhpEUK21P60JkU8TkbcQsz2hCNMWPrP
 1PNwgGPOj1F5rakWPgi4oxQAJWiy3Z6ANosepcJTbgL2aKOJ9UlKrhfu8WNk3SM8FKz/
 PqpJj2RiYpWfIo0VW9z9LkSi///ejRUWNCCIKtVOgcWu5h6cQSfBrdseKbdmCfvdvS/U
 XzcJk6EWJrYX3MDRehICA3kkK+YNJxGnFnU0t8u6PuI9MBGR98yQbOtMBUpDZYocHG0P
 mNj+9Wr1HSLUDNGZSIeVV8u5SHgjoYYvbmTxvVAkAaE/gNq5o3XaiHawVmJ07jnWhKy1
 PDTw==
X-Gm-Message-State: AOJu0YyX9OmbBOCc5tp+bZ3E34fq13Gr6Bi4ETg+rUJgmQ+H/iV5RWzL
 ylOga+eGnxlDTkICAiSi2Ifuhw6gq8kv7F0eUnON3K8qMigg0zRXppf0lPNpb9yTFbhfTDCiBOe
 JVmNYwePn+I9BhJg56KUK5EreynnzY4lGnocw3xJm
X-Google-Smtp-Source: AGHT+IGPbY6p9K0lt10VjBBdncUhFLHB9sTzzvC1O0+p4ghXRlvEmq8KOkH0NAOHR5l+HYOwPn3XmUfoATPg
X-Received: by 2002:a05:6a20:7354:b0:1a1:49be:c81d with SMTP id
 v20-20020a056a20735400b001a149bec81dmr1548874pzc.33.1709408698142; 
 Sat, 02 Mar 2024 11:44:58 -0800 (PST)
Received: from postal.iol.unh.edu (postal.iol.unh.edu. [132.177.123.84])
 by smtp-relay.gmail.com with ESMTPS id
 f5-20020ab06f85000000b007da9c23f314sm285764uav.8.2024.03.02.11.44.58
 (version=TLS1_2 cipher=ECDHE-ECDSA-AES128-GCM-SHA256 bits=128/128);
 Sat, 02 Mar 2024 11:44:58 -0800 (PST)
X-Relaying-Domain: iol.unh.edu
Date: Sat, 02 Mar 2024 11:44:58 -0800 (PST)
Message-ID: <65e381ba.b00a0220.b9a1f.2ebeSMTPIN_ADDED_MISSING@mx.google.com>
Received: from [172.21.0.6] (unknown [172.18.0.240])
 by postal.iol.unh.edu (Postfix) with ESMTP id BD8E56052712;
 Sat,  2 Mar 2024 14:44:57 -0500 (EST)
Subject: |SUCCESS| pw137794-137800 [PATCH] [v5,7/7] compress/nitrox: support 
From: dpdklab@iol.unh.edu
To: Test Report <test-report@dpdk.org>
Cc: dpdk-test-reports@iol.unh.edu
In-Reply-To: <20240302093813.14922-8-rnagadheeraj@marvell.com>
References: <20240302093813.14922-8-rnagadheeraj@marvell.com>
Content-Type: text/plain
X-BeenThere: test-report@dpdk.org
X-Mailman-Version: 2.1.29
Precedence: list
List-Id: automatic DPDK test reports <test-report.dpdk.org>
List-Unsubscribe: <https://mails.dpdk.org/options/test-report>,
 <mailto:test-report-request@dpdk.org?subject=unsubscribe>
List-Archive: <http://mails.dpdk.org/archives/test-report/>
List-Post: <mailto:test-report@dpdk.org>
List-Help: <mailto:test-report-request@dpdk.org?subject=help>
List-Subscribe: <https://mails.dpdk.org/listinfo/test-report>,
 <mailto:test-report-request@dpdk.org?subject=subscribe>
Errors-To: test-report-bounces@dpdk.org

Test-Label: iol-compile-amd64-testing
Test-Status: SUCCESS
http://dpdk.org/patch/137800

_Testing PASS_

Submitter: Nagadheeraj Rottela <rnagadheeraj@marvell.com>
Date: Saturday, March 02 2024 09:38:13 
DPDK git baseline: Repo:dpdk
  Branch: master
  CommitID:5ac50824383c2683c0dfdf24c6dc493f1fa54852

137794-137800 --> testing pass

Test environment and result as below:

+---------------------+--------------------+----------------------+
|     Environment     | dpdk_meson_compile | dpdk_mingw64_compile |
+=====================+====================+======================+
| Windows Server 2022 | PASS               | SKIPPED              |
+---------------------+--------------------+----------------------+
| FreeBSD 13.2        | PASS               | SKIPPED              |
+---------------------+--------------------+----------------------+
| Windows Server 2019 | PASS               | PASS                 |
+---------------------+--------------------+----------------------+
| CentOS Stream 8     | PASS               | SKIPPED              |
+---------------------+--------------------+----------------------+
| CentOS Stream 9     | PASS               | SKIPPED              |
+---------------------+--------------------+----------------------+
| Debian Bullseye     | PASS               | SKIPPED              |
+---------------------+--------------------+----------------------+
| Debian 12 (arm)     | PASS               | SKIPPED              |
+---------------------+--------------------+----------------------+


Windows Server 2022
	Kernel: OS Build 20348.2031
	Compiler: MSVC VS-Preview

FreeBSD 13.2
	Kernel: 13.2
	Compiler: clang 11.3.0

Windows Server 2019
	Kernel: 10.0
	Compiler: clang 14.0 and gcc 8.1.0 (MinGW)

CentOS Stream 8
	Kernel: 4.18.0-240.10.1.el8_3.x86_64
	Compiler: gcc 8.4.1 20200928

CentOS Stream 9
	Kernel: 4.18.0-240.10.1.el8_3.x86_64
	Compiler: gcc 11.3.1 20220421

Debian Bullseye
	Kernel: 5.4.0-122-generic
	Compiler: gcc 10.2.1-6

Debian 12 (arm)
	Kernel: Container Host Kernel
	Compiler: gcc 11

To view detailed results, visit:
https://lab.dpdk.org/results/dashboard/patchsets/29384/

UNH-IOL DPDK Community Lab

To manage your email subscriptions, visit: 
https://lab.dpdk.org/results/dashboard/preferences/subscriptions/