From mboxrd@z Thu Jan  1 00:00:00 1970
Return-Path: <test-report-bounces@dpdk.org>
Received: from mails.dpdk.org (mails.dpdk.org [217.70.189.124])
	by inbox.dpdk.org (Postfix) with ESMTP id E4D9843BCD
	for <public@inbox.dpdk.org>; Sat,  2 Mar 2024 20:46:44 +0100 (CET)
Received: from mails.dpdk.org (localhost [127.0.0.1])
	by mails.dpdk.org (Postfix) with ESMTP id E0DE840284;
	Sat,  2 Mar 2024 20:46:44 +0100 (CET)
Received: from mail-io1-f100.google.com (mail-io1-f100.google.com
 [209.85.166.100])
 by mails.dpdk.org (Postfix) with ESMTP id 6CD8A40271
 for <test-report@dpdk.org>; Sat,  2 Mar 2024 20:46:44 +0100 (CET)
Received: by mail-io1-f100.google.com with SMTP id
 ca18e2360f4ac-7c8395e24fbso29233739f.3
 for <test-report@dpdk.org>; Sat, 02 Mar 2024 11:46:44 -0800 (PST)
DKIM-Signature: v=1; a=rsa-sha256; c=relaxed/relaxed;
 d=iol.unh.edu; s=unh-iol; t=1709408804; x=1710013604; darn=dpdk.org;
 h=references:in-reply-to:cc:to:from:subject:message-id:date:from:to
 :cc:subject:date:message-id:reply-to;
 bh=hXGaTY7zRKSs7K7hxnvrbT3gNVn5AEqO5qjjw5fL90M=;
 b=jVQelj2xLhheLn1A+Jy5MUGQd5Aisu//YX7nz8pEusesh43aK6NvJcmIuo2FmwPsv3
 OZ8c34lYQmF2MQWvb7Ir+abN+7d8bNCyHG41q6/to9dX8SlJmIuBVvwiLHwyD09W1cFm
 OF7jyjcIFGQ588K1b8XvT98GZz1lTu02RpJc4=
X-Google-DKIM-Signature: v=1; a=rsa-sha256; c=relaxed/relaxed;
 d=1e100.net; s=20230601; t=1709408804; x=1710013604;
 h=references:in-reply-to:cc:to:from:subject:message-id:date
 :x-gm-message-state:from:to:cc:subject:date:message-id:reply-to;
 bh=hXGaTY7zRKSs7K7hxnvrbT3gNVn5AEqO5qjjw5fL90M=;
 b=hUdZ7cIV/Ok3S9boFgZHK407P6fgttn/NoPRRZ4qnuaKhv2iR1bh4bNIArTj+jOfjU
 sa7HL2Rb58ZdkNP4qNR2z/R4a8PmvMILdq+7RQ8bBZztiqqgcT4riZIWo/hsirYwSCb5
 ApXncmR/3jUirrSHSqNf/JIY5h5tI3QW4S/HhI+Bkyjg9dclgnqQp86cHQUlfQE5Jpvn
 b9NNgPU8lyAKfJWkKutrUz8r0qM1CGZcNwFPrOh571qg38yDkofpwACFmuJ84HJq+V3R
 Ukok8lndcxuJyb0yF1QSW8fXPGLXu0GGssOec1IhqriuppetfvtxBe0dZitRP0s5efAf
 6u7g==
X-Gm-Message-State: AOJu0YxpS3gSUFoh7+UAlmGXP/kkRAG0UNl3juvg1ma5aohBKMlg29dd
 MfI9YoTr+uIaH1EAS7xZErBDDC1hXGcw4aZjTKM5T0nkZtMn8zJkkcSVe8BvA8IqEw6XNKVQLxe
 oTWIGjempF4arU9sOJbe64xVSAOqQKgUP2tKn8Ms0
X-Google-Smtp-Source: AGHT+IEKYbwqVbAV2I5/SqBqTvX93ObT2F6+Sf918ETb/11fo1AOZGGpnpMhyUecLVBg8NwnlavBHdpHZFXX
X-Received: by 2002:a05:6602:1816:b0:7c7:687e:41ba with SMTP id
 t22-20020a056602181600b007c7687e41bamr4967610ioh.9.1709408803847; 
 Sat, 02 Mar 2024 11:46:43 -0800 (PST)
Received: from postal.iol.unh.edu (postal.iol.unh.edu. [132.177.123.84])
 by smtp-relay.gmail.com with ESMTPS id
 b20-20020a056638151400b00474d584b517sm77539jat.54.2024.03.02.11.46.43
 (version=TLS1_2 cipher=ECDHE-ECDSA-AES128-GCM-SHA256 bits=128/128);
 Sat, 02 Mar 2024 11:46:43 -0800 (PST)
X-Relaying-Domain: iol.unh.edu
Date: Sat, 02 Mar 2024 11:46:43 -0800 (PST)
Message-ID: <65e38223.050a0220.de3dc.58aaSMTPIN_ADDED_MISSING@mx.google.com>
Received: from [172.21.0.6] (unknown [172.18.0.240])
 by postal.iol.unh.edu (Postfix) with ESMTP id 603566052712;
 Sat,  2 Mar 2024 14:46:43 -0500 (EST)
Subject: |SUCCESS| pw137794-137800 [PATCH] [v5,7/7] compress/nitrox: support 
From: dpdklab@iol.unh.edu
To: Test Report <test-report@dpdk.org>
Cc: dpdk-test-reports@iol.unh.edu
In-Reply-To: <20240302093813.14922-8-rnagadheeraj@marvell.com>
References: <20240302093813.14922-8-rnagadheeraj@marvell.com>
Content-Type: text/plain
X-BeenThere: test-report@dpdk.org
X-Mailman-Version: 2.1.29
Precedence: list
List-Id: automatic DPDK test reports <test-report.dpdk.org>
List-Unsubscribe: <https://mails.dpdk.org/options/test-report>,
 <mailto:test-report-request@dpdk.org?subject=unsubscribe>
List-Archive: <http://mails.dpdk.org/archives/test-report/>
List-Post: <mailto:test-report@dpdk.org>
List-Help: <mailto:test-report-request@dpdk.org?subject=help>
List-Subscribe: <https://mails.dpdk.org/listinfo/test-report>,
 <mailto:test-report-request@dpdk.org?subject=subscribe>
Errors-To: test-report-bounces@dpdk.org

Test-Label: iol-compile-amd64-testing
Test-Status: SUCCESS
http://dpdk.org/patch/137800

_Testing PASS_

Submitter: Nagadheeraj Rottela <rnagadheeraj@marvell.com>
Date: Saturday, March 02 2024 09:38:13 
DPDK git baseline: Repo:dpdk
  Branch: master
  CommitID:5ac50824383c2683c0dfdf24c6dc493f1fa54852

137794-137800 --> testing pass

Test environment and result as below:

+---------------------+--------------------+----------------------+
|     Environment     | dpdk_meson_compile | dpdk_mingw64_compile |
+=====================+====================+======================+
| Windows Server 2022 | PASS               | SKIPPED              |
+---------------------+--------------------+----------------------+
| FreeBSD 13.2        | PASS               | SKIPPED              |
+---------------------+--------------------+----------------------+
| Windows Server 2019 | PASS               | PASS                 |
+---------------------+--------------------+----------------------+
| CentOS Stream 8     | PASS               | SKIPPED              |
+---------------------+--------------------+----------------------+
| CentOS Stream 9     | PASS               | SKIPPED              |
+---------------------+--------------------+----------------------+
| Debian Bullseye     | PASS               | SKIPPED              |
+---------------------+--------------------+----------------------+
| Debian 12 (arm)     | PASS               | SKIPPED              |
+---------------------+--------------------+----------------------+
| Ubuntu 20.04        | PASS               | SKIPPED              |
+---------------------+--------------------+----------------------+
| Fedora 37           | PASS               | SKIPPED              |
+---------------------+--------------------+----------------------+


Windows Server 2022
	Kernel: OS Build 20348.2031
	Compiler: MSVC VS-Preview

FreeBSD 13.2
	Kernel: 13.2
	Compiler: clang 11.3.0

Windows Server 2019
	Kernel: 10.0
	Compiler: clang 14.0 and gcc 8.1.0 (MinGW)

CentOS Stream 8
	Kernel: 4.18.0-240.10.1.el8_3.x86_64
	Compiler: gcc 8.4.1 20200928

CentOS Stream 9
	Kernel: 4.18.0-240.10.1.el8_3.x86_64
	Compiler: gcc 11.3.1 20220421

Debian Bullseye
	Kernel: 5.4.0-122-generic
	Compiler: gcc 10.2.1-6

Debian 12 (arm)
	Kernel: Container Host Kernel
	Compiler: gcc 11

Ubuntu 20.04
	Kernel: 5.4.0-153-generic
	Compiler: gcc 9.4.0-1ubuntu1~20.04.1

Fedora 37
	Kernel: Depends on container host system
	Compiler: gcc 12.3.1

To view detailed results, visit:
https://lab.dpdk.org/results/dashboard/patchsets/29384/

UNH-IOL DPDK Community Lab

To manage your email subscriptions, visit: 
https://lab.dpdk.org/results/dashboard/preferences/subscriptions/