From mboxrd@z Thu Jan  1 00:00:00 1970
Return-Path: <test-report-bounces@dpdk.org>
Received: from mails.dpdk.org (mails.dpdk.org [217.70.189.124])
	by inbox.dpdk.org (Postfix) with ESMTP id 5E21C43BCD
	for <public@inbox.dpdk.org>; Sat,  2 Mar 2024 20:53:26 +0100 (CET)
Received: from mails.dpdk.org (localhost [127.0.0.1])
	by mails.dpdk.org (Postfix) with ESMTP id 586C740284;
	Sat,  2 Mar 2024 20:53:26 +0100 (CET)
Received: from mail-yb1-f228.google.com (mail-yb1-f228.google.com
 [209.85.219.228])
 by mails.dpdk.org (Postfix) with ESMTP id E612740271
 for <test-report@dpdk.org>; Sat,  2 Mar 2024 20:53:24 +0100 (CET)
Received: by mail-yb1-f228.google.com with SMTP id
 3f1490d57ef6-dcc80d6004bso3143003276.0
 for <test-report@dpdk.org>; Sat, 02 Mar 2024 11:53:24 -0800 (PST)
DKIM-Signature: v=1; a=rsa-sha256; c=relaxed/relaxed;
 d=iol.unh.edu; s=unh-iol; t=1709409204; x=1710014004; darn=dpdk.org;
 h=references:in-reply-to:cc:to:from:subject:message-id:date:from:to
 :cc:subject:date:message-id:reply-to;
 bh=K9QWzHu38ZgvDoDVcJxnRKeH9unSYjPB6AXyz9MDG5s=;
 b=FYw+KGa9iQNaQXd+eEwQUQmsM621O41GCm2Kusi4oC7w92RtKHjRIiautZ02h4T/On
 2FXGuX72Q1b30gIjW4xSwx6gy7xNYIsmyq5ItCFCqo8UlLq5FEZLGLdAyLPhXfSbQyuo
 U3UEAY3ihRMbGvw+xJXmPN+garMtTuAACzV5Y=
X-Google-DKIM-Signature: v=1; a=rsa-sha256; c=relaxed/relaxed;
 d=1e100.net; s=20230601; t=1709409204; x=1710014004;
 h=references:in-reply-to:cc:to:from:subject:message-id:date
 :x-gm-message-state:from:to:cc:subject:date:message-id:reply-to;
 bh=K9QWzHu38ZgvDoDVcJxnRKeH9unSYjPB6AXyz9MDG5s=;
 b=XFT5emWchuAa/I4z634Brk+T1LT1H5m+ZmBhJUBFpBINPpIFyttJ8fMRDk+RWX3rwg
 +pf4K9trqCVWu1LpDQRPpiZAY0rS2muNiT+fHN/SD/9uhbEFwpbswSqFR0rtOkhqXkSV
 4m+CbVEaLD0ZctvlK73CiEK2xNekMwcuT5TBzOJOJlgXEK5pby8EzHIktPm/gjg/lwKk
 IGvEWYT7nQiFehtP0arBcXtdSccMBxStGVguJUdp1gBjWNidRUHjhJICDFGjoNmZ+YS/
 rgXIyfsMvnZwThBBKtRaFYQTDUwW/JlW1G6sD+WHx1o62JJTVdnY1AgXa+JhA2p8V0P2
 xsIw==
X-Gm-Message-State: AOJu0YyUA6BQdGGEgWO3JS2/D/DeRmHV/hOJZtvDTZmkGQUpmZQ8hQ5B
 fCTH24JVV4jeeMYzVp+ovutMtZNB55QT/CjfDKHyvXWGAF4we0D2CCx2AQTEZG81hN8F+/A1RWF
 gUq5xK8KZNq3/RCSF+YN7LTpVScFScE48OOt3q4fI
X-Google-Smtp-Source: AGHT+IHRTIKkxkkQow/ARO7OAQ5Ie7KKsOMNuLuHwDPF8GosKYi0H2SOKpmSKhpM6qicGgBffNvZbQ6m/Neq
X-Received: by 2002:a5b:10c:0:b0:dc7:4067:9f85 with SMTP id
 12-20020a5b010c000000b00dc740679f85mr4328679ybx.58.1709409204287; 
 Sat, 02 Mar 2024 11:53:24 -0800 (PST)
Received: from postal.iol.unh.edu (postal.iol.unh.edu. [132.177.123.84])
 by smtp-relay.gmail.com with ESMTPS id
 z123-20020a25c981000000b00dc246c69794sm321882ybf.16.2024.03.02.11.53.24
 (version=TLS1_2 cipher=ECDHE-ECDSA-AES128-GCM-SHA256 bits=128/128);
 Sat, 02 Mar 2024 11:53:24 -0800 (PST)
X-Relaying-Domain: iol.unh.edu
Date: Sat, 02 Mar 2024 11:53:24 -0800 (PST)
Message-ID: <65e383b4.250a0220.dba63.5297SMTPIN_ADDED_MISSING@mx.google.com>
Received: from [172.17.0.6] (unknown [172.18.0.217])
 by postal.iol.unh.edu (Postfix) with ESMTP id EB7306052712;
 Sat,  2 Mar 2024 14:53:23 -0500 (EST)
Subject: |SUCCESS| pw137794-137800 [PATCH] [v5,7/7] compress/nitrox: support 
From: dpdklab@iol.unh.edu
To: Test Report <test-report@dpdk.org>
Cc: dpdk-test-reports@iol.unh.edu
In-Reply-To: <20240302093813.14922-8-rnagadheeraj@marvell.com>
References: <20240302093813.14922-8-rnagadheeraj@marvell.com>
Content-Type: text/plain
X-BeenThere: test-report@dpdk.org
X-Mailman-Version: 2.1.29
Precedence: list
List-Id: automatic DPDK test reports <test-report.dpdk.org>
List-Unsubscribe: <https://mails.dpdk.org/options/test-report>,
 <mailto:test-report-request@dpdk.org?subject=unsubscribe>
List-Archive: <http://mails.dpdk.org/archives/test-report/>
List-Post: <mailto:test-report@dpdk.org>
List-Help: <mailto:test-report-request@dpdk.org?subject=help>
List-Subscribe: <https://mails.dpdk.org/listinfo/test-report>,
 <mailto:test-report-request@dpdk.org?subject=subscribe>
Errors-To: test-report-bounces@dpdk.org

Test-Label: iol-abi-testing
Test-Status: SUCCESS
http://dpdk.org/patch/137800

_Testing PASS_

Submitter: Nagadheeraj Rottela <rnagadheeraj@marvell.com>
Date: Saturday, March 02 2024 09:38:13 
DPDK git baseline: Repo:dpdk
  Branch: master
  CommitID:5ac50824383c2683c0dfdf24c6dc493f1fa54852

137794-137800 --> testing pass

Test environment and result as below:

+------------------+----------+
|   Environment    | abi_test |
+==================+==========+
| CentOS Stream 8  | PASS     |
+------------------+----------+
| Fedora 37        | PASS     |
+------------------+----------+
| openSUSE Leap 15 | PASS     |
+------------------+----------+
| Fedora 38        | PASS     |
+------------------+----------+
| Debian Bullseye  | PASS     |
+------------------+----------+
| CentOS Stream 9  | PASS     |
+------------------+----------+
| RHEL8            | PASS     |
+------------------+----------+


CentOS Stream 8
	Kernel: 4.18.0-240.10.1.el8_3.x86_64
	Compiler: gcc 8.4.1 20200928

Fedora 37
	Kernel: Depends on container host system
	Compiler: gcc 12.3.1

openSUSE Leap 15
	Kernel: 4.18.0-240.10.1.el8_3.x86_64
	Compiler: gcc 7.5.0

Fedora 38
	Kernel: Depends on container host
	Compiler: clang 16.0.3

Debian Bullseye
	Kernel: 5.4.0-122-generic
	Compiler: gcc 10.2.1-6

CentOS Stream 9
	Kernel: 4.18.0-240.10.1.el8_3.x86_64
	Compiler: gcc 11.3.1 20220421

RHEL8
	Kernel: 4.18.0-240.10.1.el8_3.x86_64
	Compiler: gcc 8.3.1 20191121 (Red Hat 8.3.1-5)

To view detailed results, visit:
https://lab.dpdk.org/results/dashboard/patchsets/29384/

UNH-IOL DPDK Community Lab

To manage your email subscriptions, visit: 
https://lab.dpdk.org/results/dashboard/preferences/subscriptions/