From mboxrd@z Thu Jan  1 00:00:00 1970
Return-Path: <test-report-bounces@dpdk.org>
Received: from mails.dpdk.org (mails.dpdk.org [217.70.189.124])
	by inbox.dpdk.org (Postfix) with ESMTP id 434A643BCD
	for <public@inbox.dpdk.org>; Sat,  2 Mar 2024 21:07:36 +0100 (CET)
Received: from mails.dpdk.org (localhost [127.0.0.1])
	by mails.dpdk.org (Postfix) with ESMTP id 394BA40284;
	Sat,  2 Mar 2024 21:07:36 +0100 (CET)
Received: from mail-yw1-f225.google.com (mail-yw1-f225.google.com
 [209.85.128.225])
 by mails.dpdk.org (Postfix) with ESMTP id 94CAB40271
 for <test-report@dpdk.org>; Sat,  2 Mar 2024 21:07:34 +0100 (CET)
Received: by mail-yw1-f225.google.com with SMTP id
 00721157ae682-608ceccb5f4so21285137b3.3
 for <test-report@dpdk.org>; Sat, 02 Mar 2024 12:07:34 -0800 (PST)
DKIM-Signature: v=1; a=rsa-sha256; c=relaxed/relaxed;
 d=iol.unh.edu; s=unh-iol; t=1709410054; x=1710014854; darn=dpdk.org;
 h=references:in-reply-to:cc:to:from:subject:message-id:date:from:to
 :cc:subject:date:message-id:reply-to;
 bh=0pU5RyhaUl5gKZVzo7xSgeaD6wMxi+fjgZa0ESUFDtU=;
 b=YxpuBNsIAlV1PJgmJZSLeQLEBFzh5i7TX7bX702Riy6uQFt8vgU1/suHiy8aKr5ZiN
 xGvz62+ci/oigjUyLoz1a6/BIv3qmTqFIzW9PDsLuS/x3/jXutVOuAUvH6Sg3CXmjGFH
 LjDUIXpB7s5wAFJi1LiV96ZcxYIhz6dlb+Rps=
X-Google-DKIM-Signature: v=1; a=rsa-sha256; c=relaxed/relaxed;
 d=1e100.net; s=20230601; t=1709410054; x=1710014854;
 h=references:in-reply-to:cc:to:from:subject:message-id:date
 :x-gm-message-state:from:to:cc:subject:date:message-id:reply-to;
 bh=0pU5RyhaUl5gKZVzo7xSgeaD6wMxi+fjgZa0ESUFDtU=;
 b=fwtlBa95/C8JNK8ihJuf8T1rcg3Jtzr4MPpC031KxuUshzT2tfDVtQMgtSuQiBhfF7
 OAqrtCU7pZqS2yejtoA2KRUZyvnmyBcOL/xmbVTr5XH00/P9QAuqlTkAB3//a6G/Jsrg
 gSRpB7Tj6l3aq+Mc44kREdsOBFBk6L7iUrXm8XJrAOUUhwEeC0JkztzX0xea7DgkO9uu
 hmzMT1GwRgBZwQ0Q8TkYCqrSeakjtJZZHSIpFdZqC14sZb9weoQkKMSL2BZK2ohq3CzV
 SNkLqFGqiNTyoST9fqhxT7qjn+xU1atnWvMYWTuIA8UEif3NSsu8JCNH3QSTiVty6rmR
 cUOw==
X-Gm-Message-State: AOJu0Yzga05troE5rmV08Ji1M7OKw5ziSWiIGX/k9Hazob2O3nlYSYpr
 LiSR6XtWZAnPjjO3lL8qDwXZH19XfVqlqyz2h+M/rPwvgKV8U0PmKeoppQPAZQz6g3b0WGP7hB3
 bwTfh3fBuwVI2MugyIqZ+FoLD2kM08KRfXVyeiAQX
X-Google-Smtp-Source: AGHT+IHp9bkU3Sqmq9IpSQdfPBA3msGs88Q5OEGGsm4A9YqF2HFU/w/Uhti6CHNLLqR2l7DXVhtJLuBvbRnt
X-Received: by 2002:a0d:d987:0:b0:608:b8aa:16fc with SMTP id
 b129-20020a0dd987000000b00608b8aa16fcmr4351242ywe.32.1709410053938; 
 Sat, 02 Mar 2024 12:07:33 -0800 (PST)
Received: from postal.iol.unh.edu (postal.iol.unh.edu. [132.177.123.84])
 by smtp-relay.gmail.com with ESMTPS id
 w205-20020a8149d6000000b00609919c2b10sm96345ywa.28.2024.03.02.12.07.33
 (version=TLS1_2 cipher=ECDHE-ECDSA-AES128-GCM-SHA256 bits=128/128);
 Sat, 02 Mar 2024 12:07:33 -0800 (PST)
X-Relaying-Domain: iol.unh.edu
Date: Sat, 02 Mar 2024 12:07:33 -0800 (PST)
Message-ID: <65e38705.810a0220.df092.6ff3SMTPIN_ADDED_MISSING@mx.google.com>
Received: from [172.17.0.6] (unknown [172.18.0.217])
 by postal.iol.unh.edu (Postfix) with ESMTP id 960F56052712;
 Sat,  2 Mar 2024 15:07:33 -0500 (EST)
Subject: |SUCCESS| pw137794-137800 [PATCH] [v5,7/7] compress/nitrox: support 
From: dpdklab@iol.unh.edu
To: Test Report <test-report@dpdk.org>
Cc: dpdk-test-reports@iol.unh.edu
In-Reply-To: <20240302093813.14922-8-rnagadheeraj@marvell.com>
References: <20240302093813.14922-8-rnagadheeraj@marvell.com>
Content-Type: text/plain
X-BeenThere: test-report@dpdk.org
X-Mailman-Version: 2.1.29
Precedence: list
List-Id: automatic DPDK test reports <test-report.dpdk.org>
List-Unsubscribe: <https://mails.dpdk.org/options/test-report>,
 <mailto:test-report-request@dpdk.org?subject=unsubscribe>
List-Archive: <http://mails.dpdk.org/archives/test-report/>
List-Post: <mailto:test-report@dpdk.org>
List-Help: <mailto:test-report-request@dpdk.org?subject=help>
List-Subscribe: <https://mails.dpdk.org/listinfo/test-report>,
 <mailto:test-report-request@dpdk.org?subject=subscribe>
Errors-To: test-report-bounces@dpdk.org

Test-Label: iol-unit-arm64-testing
Test-Status: SUCCESS
http://dpdk.org/patch/137800

_Testing PASS_

Submitter: Nagadheeraj Rottela <rnagadheeraj@marvell.com>
Date: Saturday, March 02 2024 09:38:13 
DPDK git baseline: Repo:dpdk
  Branch: master
  CommitID:5ac50824383c2683c0dfdf24c6dc493f1fa54852

137794-137800 --> testing pass

Test environment and result as below:

+--------------------------+----------------+--------------+
|       Environment        | dpdk_unit_test | lpm_autotest |
+==========================+================+==============+
| CentOS Stream 9 (ARM)    | PASS           | SKIPPED      |
+--------------------------+----------------+--------------+
| Debian 11 (Buster) (ARM) | PASS           | SKIPPED      |
+--------------------------+----------------+--------------+
| Ubuntu 20.04 ARM SVE     | SKIPPED        | PASS         |
+--------------------------+----------------+--------------+


CentOS Stream 9 (ARM)
	Kernel: Container Host Kernel
	Compiler: gcc 11.3.1

Debian 11 (Buster) (ARM)
	Kernel: Container Host Kernel
	Compiler: gcc 10.2.1

Ubuntu 20.04 ARM SVE
	Kernel: 5.4.0-80-generic
	Compiler: gcc 10.3.0 (Ubuntu 10.3.0-1ubuntu1~20.04)

To view detailed results, visit:
https://lab.dpdk.org/results/dashboard/patchsets/29384/

UNH-IOL DPDK Community Lab

To manage your email subscriptions, visit: 
https://lab.dpdk.org/results/dashboard/preferences/subscriptions/