From mboxrd@z Thu Jan  1 00:00:00 1970
Return-Path: <test-report-bounces@dpdk.org>
Received: from mails.dpdk.org (mails.dpdk.org [217.70.189.124])
	by inbox.dpdk.org (Postfix) with ESMTP id 8396543B81
	for <public@inbox.dpdk.org>; Sat,  2 Mar 2024 23:51:42 +0100 (CET)
Received: from mails.dpdk.org (localhost [127.0.0.1])
	by mails.dpdk.org (Postfix) with ESMTP id 6E21542DF0;
	Sat,  2 Mar 2024 23:51:42 +0100 (CET)
Received: from mail-qv1-f98.google.com (mail-qv1-f98.google.com
 [209.85.219.98]) by mails.dpdk.org (Postfix) with ESMTP id DB26E402C8
 for <test-report@dpdk.org>; Sat,  2 Mar 2024 23:51:40 +0100 (CET)
Received: by mail-qv1-f98.google.com with SMTP id
 6a1803df08f44-690105304b4so18824136d6.3
 for <test-report@dpdk.org>; Sat, 02 Mar 2024 14:51:40 -0800 (PST)
DKIM-Signature: v=1; a=rsa-sha256; c=relaxed/relaxed;
 d=iol.unh.edu; s=unh-iol; t=1709419900; x=1710024700; darn=dpdk.org;
 h=references:in-reply-to:cc:to:from:subject:message-id:date:from:to
 :cc:subject:date:message-id:reply-to;
 bh=PByT2ldenXw/P8Af3D2Syba8FNgqAvACKzuytd1IDpg=;
 b=R+YP1YLieWxM9ODDKA/YPQziHfhE/YyZK4FxJrtqSh4mmXXsUAqUwwmcn4tzg/Bfzo
 dwgtALV0rMv4ApBOE1FVcvP0mV2UsC0xTCxLQWAUMutaIqfWkljJg0iy/BVdYsojVZJm
 +fqOd8EQyxVxWCC5rwzYkaS0NK5xGeCEj/hdA=
X-Google-DKIM-Signature: v=1; a=rsa-sha256; c=relaxed/relaxed;
 d=1e100.net; s=20230601; t=1709419900; x=1710024700;
 h=references:in-reply-to:cc:to:from:subject:message-id:date
 :x-gm-message-state:from:to:cc:subject:date:message-id:reply-to;
 bh=PByT2ldenXw/P8Af3D2Syba8FNgqAvACKzuytd1IDpg=;
 b=sTIPyoc4Jk8M6+HC/17LwC+vQ2MmgvmmdujltpOatnMlmAxrbWk0ICk2Qhh1Y32UNm
 U2ybFzHf+NO4Rop8/UIxBPqu1wLupvReSFOuMY6/ysSqBpdWThgrQond4nd4kZMkZ1Ly
 1HPxy7lwVMhSgXly0fJdqhPVRK9lOBcIdBohO+NEJ/CtBNtyZtckm/ljYGyAizx6EAS3
 9nimKR3AV8QFNj6Z9AtrrJad2J4lAwYFUxYoyFCr1K2QNGwWeae9UbMniFavd5n+HJh8
 ce31GN1th8IXiDEsRYUQPtKgSVo+MXCjwnXcD5wwx1XgBffJnCFcHvXV/vkEFWniOFYW
 yxxQ==
X-Gm-Message-State: AOJu0YziDAlOldSHSRDg0JsVNawWGcjpCjHtB4Jzw8k/KG0mEXvenb7i
 j2n0PGtPy82l22wjvu8wt++db1ib6PfO2zY3cY62xjYDbxXXC+9dhAPfiCKn8BQ7H0NVG6ade1k
 uX4NWfMOG1NSiWmMQDfvpDao840qLtvu8kOnSxP8E
X-Google-Smtp-Source: AGHT+IHlJ9ruvz21UWNZjGs7QyZkyRQ2dD82aVPm6rg6WSilqpBnmcl1YWqLgvhoxS2mnPHyg0AWC6Kp3tJa
X-Received: by 2002:a0c:ed46:0:b0:68f:cbdd:aaf2 with SMTP id
 v6-20020a0ced46000000b0068fcbddaaf2mr5803346qvq.33.1709419900354; 
 Sat, 02 Mar 2024 14:51:40 -0800 (PST)
Received: from postal.iol.unh.edu (postal.iol.unh.edu. [132.177.123.84])
 by smtp-relay.gmail.com with ESMTPS id
 r10-20020ad4576a000000b0068fa300e9c8sm318022qvx.48.2024.03.02.14.51.40
 (version=TLS1_2 cipher=ECDHE-ECDSA-AES128-GCM-SHA256 bits=128/128);
 Sat, 02 Mar 2024 14:51:40 -0800 (PST)
X-Relaying-Domain: iol.unh.edu
Date: Sat, 02 Mar 2024 14:51:40 -0800 (PST)
Message-ID: <65e3ad7c.d40a0220.2c35d.5d7fSMTPIN_ADDED_MISSING@mx.google.com>
Received: from [172.17.0.6] (unknown [172.18.0.217])
 by postal.iol.unh.edu (Postfix) with ESMTP id 0D2906052712;
 Sat,  2 Mar 2024 17:51:40 -0500 (EST)
Subject: |SUCCESS| pw137794-137800 [PATCH] [v5,7/7] compress/nitrox: support 
From: dpdklab@iol.unh.edu
To: Test Report <test-report@dpdk.org>
Cc: dpdk-test-reports@iol.unh.edu
In-Reply-To: <20240302093813.14922-8-rnagadheeraj@marvell.com>
References: <20240302093813.14922-8-rnagadheeraj@marvell.com>
Content-Type: text/plain
X-BeenThere: test-report@dpdk.org
X-Mailman-Version: 2.1.29
Precedence: list
List-Id: automatic DPDK test reports <test-report.dpdk.org>
List-Unsubscribe: <https://mails.dpdk.org/options/test-report>,
 <mailto:test-report-request@dpdk.org?subject=unsubscribe>
List-Archive: <http://mails.dpdk.org/archives/test-report/>
List-Post: <mailto:test-report@dpdk.org>
List-Help: <mailto:test-report-request@dpdk.org?subject=help>
List-Subscribe: <https://mails.dpdk.org/listinfo/test-report>,
 <mailto:test-report-request@dpdk.org?subject=subscribe>
Errors-To: test-report-bounces@dpdk.org

Test-Label: iol-compile-arm64-testing
Test-Status: SUCCESS
http://dpdk.org/patch/137800

_Testing PASS_

Submitter: Nagadheeraj Rottela <rnagadheeraj@marvell.com>
Date: Saturday, March 02 2024 09:38:13 
DPDK git baseline: Repo:dpdk
  Branch: master
  CommitID:5ac50824383c2683c0dfdf24c6dc493f1fa54852

137794-137800 --> testing pass

Test environment and result as below:

+----------------------------------------+--------------------+
|              Environment               | dpdk_meson_compile |
+========================================+====================+
| Ubuntu 20.04 ARM SVE                   | PASS               |
+----------------------------------------+--------------------+
| Ubuntu 20.04 aarch32 GCC Cross Compile | PASS               |
+----------------------------------------+--------------------+
| Ubuntu 20.04 ARM Clang Cross Compile   | PASS               |
+----------------------------------------+--------------------+
| Ubuntu 20.04 ARM GCC Cross Compile     | PASS               |
+----------------------------------------+--------------------+
| Debian 11 (Buster) (ARM)               | PASS               |
+----------------------------------------+--------------------+
| Fedora 38 (ARM)                        | PASS               |
+----------------------------------------+--------------------+
| Debian 12 (arm)                        | PASS               |
+----------------------------------------+--------------------+
| Fedora 37 (ARM)                        | PASS               |
+----------------------------------------+--------------------+
| Ubuntu 20.04 (ARM)                     | PASS               |
+----------------------------------------+--------------------+
| CentOS Stream 9 (ARM)                  | PASS               |
+----------------------------------------+--------------------+
| Fedora 38 (ARM Clang)                  | PASS               |
+----------------------------------------+--------------------+


Ubuntu 20.04 ARM SVE
	Kernel: 5.4.0-80-generic
	Compiler: gcc 10.3.0 (Ubuntu 10.3.0-1ubuntu1~20.04)

Ubuntu 20.04 aarch32 GCC Cross Compile
	Kernel: 5.4.0-72-generic
	Compiler: gcc 9.3.0

Ubuntu 20.04 ARM Clang Cross Compile
	Kernel: 5.4.0-72-generic
	Compiler: clang version 10.0.0-4ubuntu1

Ubuntu 20.04 ARM GCC Cross Compile
	Kernel: 5.4.0-72-generic
	Compiler: aarch64-linux-gnu-gcc (Ubuntu 9.3.0-17ubuntu1~20.04) 9.3.0

Debian 11 (Buster) (ARM)
	Kernel: Container Host Kernel
	Compiler: gcc 10.2.1

Fedora 38 (ARM)
	Kernel: Depends on container host
	Compiler: gcc 13.1.1

Debian 12 (arm)
	Kernel: Container Host Kernel
	Compiler: gcc 11

Fedora 37 (ARM)
	Kernel: Depends on container host
	Compiler: gcc 12.3.1

Ubuntu 20.04 (ARM)
	Kernel: Container Host Kernel
	Compiler: gcc 9.4.0

CentOS Stream 9 (ARM)
	Kernel: Container Host Kernel
	Compiler: gcc 11.3.1

Fedora 38 (ARM Clang)
	Kernel: Depends on container host
	Compiler: clang 16.0.3

To view detailed results, visit:
https://lab.dpdk.org/results/dashboard/patchsets/29384/

UNH-IOL DPDK Community Lab

To manage your email subscriptions, visit: 
https://lab.dpdk.org/results/dashboard/preferences/subscriptions/