From mboxrd@z Thu Jan  1 00:00:00 1970
Return-Path: <test-report-bounces@dpdk.org>
Received: from mails.dpdk.org (mails.dpdk.org [217.70.189.124])
	by inbox.dpdk.org (Postfix) with ESMTP id 3BB7E43C3E
	for <public@inbox.dpdk.org>; Sun,  3 Mar 2024 19:23:46 +0100 (CET)
Received: from mails.dpdk.org (localhost [127.0.0.1])
	by mails.dpdk.org (Postfix) with ESMTP id 2D2C94069D;
	Sun,  3 Mar 2024 19:23:46 +0100 (CET)
Received: from mail-yw1-f227.google.com (mail-yw1-f227.google.com
 [209.85.128.227])
 by mails.dpdk.org (Postfix) with ESMTP id B57A440687
 for <test-report@dpdk.org>; Sun,  3 Mar 2024 19:23:44 +0100 (CET)
Received: by mail-yw1-f227.google.com with SMTP id
 00721157ae682-60925d20af0so37107507b3.2
 for <test-report@dpdk.org>; Sun, 03 Mar 2024 10:23:44 -0800 (PST)
DKIM-Signature: v=1; a=rsa-sha256; c=relaxed/relaxed;
 d=iol.unh.edu; s=unh-iol; t=1709490224; x=1710095024; darn=dpdk.org;
 h=references:in-reply-to:cc:to:from:subject:message-id:date:from:to
 :cc:subject:date:message-id:reply-to;
 bh=Nt7V8EJZoQSBh5xC4WprZBajyUx4gnEu+XXZsrs6WSc=;
 b=alShAZ7b+nRiTLK8ntpLhaZRJoDZhCtjmbNzgSMFQ+XADdSkBb282gLYUyEVrNOKPg
 i0IiLuXjNIUG0YUL7pRl6nfzumaLGwZk8YEOLFaIFGlnz0bD6EssWhuNeLpO8wSGfgqG
 vFfO8ubwENyBt2NdAmXRRuAu1vHAwK+FQUWfY=
X-Google-DKIM-Signature: v=1; a=rsa-sha256; c=relaxed/relaxed;
 d=1e100.net; s=20230601; t=1709490224; x=1710095024;
 h=references:in-reply-to:cc:to:from:subject:message-id:date
 :x-gm-message-state:from:to:cc:subject:date:message-id:reply-to;
 bh=Nt7V8EJZoQSBh5xC4WprZBajyUx4gnEu+XXZsrs6WSc=;
 b=O07fJ+8L/Q4HwR9eyemYWbUFHqE7z2wS24HCGTW6u91y08EOoCrBT6hlOaVLTH5X8P
 moFl949PWBE6tM3ZJ2jEkpf2IOx/aaY5cwzwhpCFt/yL2oD52KhbwtRJIXIiIb1B7omC
 /pR+LUHRbG++9c0xLXovrCpHlPJr8pw93lVb4zYX30dXlXTsx64Ih3VFRPPCSjMWgVbT
 XTqJmzC/O7qwOminrHKjbqL7o0c7SIPDkFB70eZERgEYlJgmRMNFFNGjbJ98fb1Fic1x
 WFYnKMli0WzH2c/vymQxk6bioOqKSJ0WWeoPrNUIGORhHEkB9GMol+8Nq+rYrC+gZUjQ
 jU/Q==
X-Gm-Message-State: AOJu0Yxlfxd8ZrDbSEmG3FekhhYGRM/hmUpJlcZVbSIcGDOeTrn8F6UI
 qvsS08fgOKpZOjlu4E1EOw+7JGZro9Kksd9ogrGEAdKj+olgvt0C/8RP//HvNG7crpf5j+FfsPm
 P9Lk1KcnE12Wycm3a8O6DQn1wRJLkuc30muQC6CAq
X-Google-Smtp-Source: AGHT+IGfJTYOd91s2X+ufZ/iI4282bD27RoEMjQgxgwkqyZfBelGwa6Td3HfAap93w9XNgYpOoVIdljp0lVu
X-Received: by 2002:a81:52ce:0:b0:609:6d6b:700 with SMTP id
 g197-20020a8152ce000000b006096d6b0700mr6618019ywb.43.1709490224071; 
 Sun, 03 Mar 2024 10:23:44 -0800 (PST)
Received: from postal.iol.unh.edu (postal.iol.unh.edu. [132.177.123.84])
 by smtp-relay.gmail.com with ESMTPS id
 p7-20020a0dff07000000b00607a3e4f443sm461051ywf.0.2024.03.03.10.23.44
 (version=TLS1_2 cipher=ECDHE-ECDSA-AES128-GCM-SHA256 bits=128/128);
 Sun, 03 Mar 2024 10:23:44 -0800 (PST)
X-Relaying-Domain: iol.unh.edu
Date: Sun, 03 Mar 2024 10:23:44 -0800 (PST)
Message-ID: <65e4c030.0d0a0220.15ae1.01e2SMTPIN_ADDED_MISSING@mx.google.com>
Received: from [172.21.0.6] (unknown [172.18.0.240])
 by postal.iol.unh.edu (Postfix) with ESMTP id B280B6052510;
 Sun,  3 Mar 2024 13:23:43 -0500 (EST)
Subject: |SUCCESS| pw137815-137837 [PATCH] [v6,23/23] net/cnxk: other flow op
From: dpdklab@iol.unh.edu
To: Test Report <test-report@dpdk.org>
Cc: dpdk-test-reports@iol.unh.edu
In-Reply-To: <20240303173833.100039-24-hkalra@marvell.com>
References: <20240303173833.100039-24-hkalra@marvell.com>
Content-Type: text/plain
X-BeenThere: test-report@dpdk.org
X-Mailman-Version: 2.1.29
Precedence: list
List-Id: automatic DPDK test reports <test-report.dpdk.org>
List-Unsubscribe: <https://mails.dpdk.org/options/test-report>,
 <mailto:test-report-request@dpdk.org?subject=unsubscribe>
List-Archive: <http://mails.dpdk.org/archives/test-report/>
List-Post: <mailto:test-report@dpdk.org>
List-Help: <mailto:test-report-request@dpdk.org?subject=help>
List-Subscribe: <https://mails.dpdk.org/listinfo/test-report>,
 <mailto:test-report-request@dpdk.org?subject=subscribe>
Errors-To: test-report-bounces@dpdk.org

Test-Label: iol-compile-amd64-testing
Test-Status: SUCCESS
http://dpdk.org/patch/137837

_Testing PASS_

Submitter: Harman Kalra <hkalra@marvell.com>
Date: Sunday, March 03 2024 17:38:33 
DPDK git baseline: Repo:dpdk
  Branch: master
  CommitID:a3d538b3a48d545abe19e9a616fe3b8422275c8d

137815-137837 --> testing pass

Test environment and result as below:

+---------------------+--------------------+----------------------+
|     Environment     | dpdk_meson_compile | dpdk_mingw64_compile |
+=====================+====================+======================+
| Windows Server 2022 | PASS               | SKIPPED              |
+---------------------+--------------------+----------------------+
| FreeBSD 13.2        | PASS               | SKIPPED              |
+---------------------+--------------------+----------------------+
| Ubuntu 20.04        | PASS               | SKIPPED              |
+---------------------+--------------------+----------------------+
| Windows Server 2019 | PASS               | PASS                 |
+---------------------+--------------------+----------------------+
| CentOS Stream 9     | PASS               | SKIPPED              |
+---------------------+--------------------+----------------------+
| CentOS Stream 8     | PASS               | SKIPPED              |
+---------------------+--------------------+----------------------+
| Debian Bullseye     | PASS               | SKIPPED              |
+---------------------+--------------------+----------------------+
| Debian 12 (arm)     | PASS               | SKIPPED              |
+---------------------+--------------------+----------------------+


Windows Server 2022
	Kernel: OS Build 20348.2031
	Compiler: MSVC VS-Preview

FreeBSD 13.2
	Kernel: 13.2
	Compiler: clang 11.3.0

Ubuntu 20.04
	Kernel: 5.4.0-153-generic
	Compiler: gcc 9.4.0-1ubuntu1~20.04.1

Windows Server 2019
	Kernel: 10.0
	Compiler: clang 14.0 and gcc 8.1.0 (MinGW)

CentOS Stream 9
	Kernel: 4.18.0-240.10.1.el8_3.x86_64
	Compiler: gcc 11.3.1 20220421

CentOS Stream 8
	Kernel: 4.18.0-240.10.1.el8_3.x86_64
	Compiler: gcc 8.4.1 20200928

Debian Bullseye
	Kernel: 5.4.0-122-generic
	Compiler: gcc 10.2.1-6

Debian 12 (arm)
	Kernel: Container Host Kernel
	Compiler: gcc 11

To view detailed results, visit:
https://lab.dpdk.org/results/dashboard/patchsets/29393/

UNH-IOL DPDK Community Lab

To manage your email subscriptions, visit: 
https://lab.dpdk.org/results/dashboard/preferences/subscriptions/