From mboxrd@z Thu Jan  1 00:00:00 1970
Return-Path: <test-report-bounces@dpdk.org>
Received: from mails.dpdk.org (mails.dpdk.org [217.70.189.124])
	by inbox.dpdk.org (Postfix) with ESMTP id 2D78343C3E
	for <public@inbox.dpdk.org>; Sun,  3 Mar 2024 19:42:32 +0100 (CET)
Received: from mails.dpdk.org (localhost [127.0.0.1])
	by mails.dpdk.org (Postfix) with ESMTP id 24D1D4069D;
	Sun,  3 Mar 2024 19:42:32 +0100 (CET)
Received: from mail-yb1-f225.google.com (mail-yb1-f225.google.com
 [209.85.219.225])
 by mails.dpdk.org (Postfix) with ESMTP id 8646C40687
 for <test-report@dpdk.org>; Sun,  3 Mar 2024 19:42:31 +0100 (CET)
Received: by mail-yb1-f225.google.com with SMTP id
 3f1490d57ef6-dc6d8bd612dso3789917276.1
 for <test-report@dpdk.org>; Sun, 03 Mar 2024 10:42:31 -0800 (PST)
DKIM-Signature: v=1; a=rsa-sha256; c=relaxed/relaxed;
 d=iol.unh.edu; s=unh-iol; t=1709491351; x=1710096151; darn=dpdk.org;
 h=references:in-reply-to:cc:to:from:subject:message-id:date:from:to
 :cc:subject:date:message-id:reply-to;
 bh=L+hkPEozdRBH6EzjYsf5VgMhFU6xD47RWjNwUwTQvME=;
 b=HInfVjpfIUt41g2SjvtGLPmaNssbFD9rxO0XO743bAb4IgPfzMuLPFEntH+zhWsYWY
 H1E9FJsJ01Tt4QF5W5ccKMpiu8J86Jin3eqC5V4HOBICiW/10NgLFevHgY8DVYnogXw4
 uZQle4BSDyVJSZLwNBvpE2rQxI6bVGwUwwed0=
X-Google-DKIM-Signature: v=1; a=rsa-sha256; c=relaxed/relaxed;
 d=1e100.net; s=20230601; t=1709491351; x=1710096151;
 h=references:in-reply-to:cc:to:from:subject:message-id:date
 :x-gm-message-state:from:to:cc:subject:date:message-id:reply-to;
 bh=L+hkPEozdRBH6EzjYsf5VgMhFU6xD47RWjNwUwTQvME=;
 b=SOf8pyPNKzWzkpMfysBq5U32+E8nYjBJbEGpS6323b8CnT4JCRXnjetpNUuPwQ8Pv4
 zN68P3KIxL5H+MmCweKNHjKadIFFERjUUvAcDZRNUinYTN575m6txxLVI6aB0Uj4s7HD
 7rkpVOaJpMgty6sHNAc+sSGG+qumKo3Z4m5QvDpcja5R1zVBamp6Ur2IYfoc5Zr7tNuF
 w4s5Owdr5Omm0Pwlzvp3Hwk+LyNnNC8/4s9kvUALJ9U+mVCCl7jYcAFT4RJI7hfgxz6c
 vDHI+QCHNwtYD35Nc4DBbwUmV4sEl1dZjP+Fjr+RYNU69sWBJ1+nsQ6xY998Oo8GJSKr
 DtPw==
X-Gm-Message-State: AOJu0Yy36HIoUP9s1n4Jaa29QbJtuHFkFquR8oYAwYiPI8OudZOa/jpX
 3Q6C46AR5gVM09hjtXmTJNjSeTtxHpRrca4Qk80GAaDN1mSNgUXr2x6SVGv82sgnOXVknB4OTiH
 XqsdA+q94TGyw44/7qgil+hh0lI7F0dKh8KCCuNO54UaJv5gTeAX4WYoC
X-Google-Smtp-Source: AGHT+IEaVYVMvlbS4VXaaoDVBJwS9RFlcZ7CuG7IggPRyRSrBx1G1NOv173mltCQInyGGqG/SHJvQxWH5Sio
X-Received: by 2002:a25:8484:0:b0:dcd:5635:5c11 with SMTP id
 v4-20020a258484000000b00dcd56355c11mr4983131ybk.45.1709491350951; 
 Sun, 03 Mar 2024 10:42:30 -0800 (PST)
Received: from postal.iol.unh.edu (postal.iol.unh.edu.
 [2606:4100:3880:1234::84]) by smtp-relay.gmail.com with ESMTPS id
 p136-20020a25748e000000b00dbd01992442sm418559ybc.21.2024.03.03.10.42.30
 (version=TLS1_2 cipher=ECDHE-ECDSA-AES128-GCM-SHA256 bits=128/128);
 Sun, 03 Mar 2024 10:42:30 -0800 (PST)
X-Relaying-Domain: iol.unh.edu
Date: Sun, 03 Mar 2024 10:42:30 -0800 (PST)
Message-ID: <65e4c496.250a0220.47bd2.c23aSMTPIN_ADDED_MISSING@mx.google.com>
Received: from [172.21.0.6] (unknown [172.18.0.240])
 by postal.iol.unh.edu (Postfix) with ESMTP id 6421D6052510;
 Sun,  3 Mar 2024 13:42:30 -0500 (EST)
Subject: |SUCCESS| pw137815-137837 [PATCH] [v6,23/23] net/cnxk: other flow op
From: dpdklab@iol.unh.edu
To: Test Report <test-report@dpdk.org>
Cc: dpdk-test-reports@iol.unh.edu
In-Reply-To: <20240303173833.100039-24-hkalra@marvell.com>
References: <20240303173833.100039-24-hkalra@marvell.com>
Content-Type: text/plain
X-BeenThere: test-report@dpdk.org
X-Mailman-Version: 2.1.29
Precedence: list
List-Id: automatic DPDK test reports <test-report.dpdk.org>
List-Unsubscribe: <https://mails.dpdk.org/options/test-report>,
 <mailto:test-report-request@dpdk.org?subject=unsubscribe>
List-Archive: <http://mails.dpdk.org/archives/test-report/>
List-Post: <mailto:test-report@dpdk.org>
List-Help: <mailto:test-report-request@dpdk.org?subject=help>
List-Subscribe: <https://mails.dpdk.org/listinfo/test-report>,
 <mailto:test-report-request@dpdk.org?subject=subscribe>
Errors-To: test-report-bounces@dpdk.org

Test-Label: iol-abi-testing
Test-Status: SUCCESS
http://dpdk.org/patch/137837

_Testing PASS_

Submitter: Harman Kalra <hkalra@marvell.com>
Date: Sunday, March 03 2024 17:38:33 
DPDK git baseline: Repo:dpdk
  Branch: master
  CommitID:a3d538b3a48d545abe19e9a616fe3b8422275c8d

137815-137837 --> testing pass

Test environment and result as below:

+------------------+----------+
|   Environment    | abi_test |
+==================+==========+
| openSUSE Leap 15 | PASS     |
+------------------+----------+
| Fedora 38        | PASS     |
+------------------+----------+
| Debian Bullseye  | PASS     |
+------------------+----------+
| Ubuntu 22.04     | PASS     |
+------------------+----------+
| CentOS Stream 8  | PASS     |
+------------------+----------+
| CentOS Stream 9  | PASS     |
+------------------+----------+
| RHEL8            | PASS     |
+------------------+----------+
| Fedora 37        | PASS     |
+------------------+----------+
| Debian 12 (arm)  | PASS     |
+------------------+----------+


openSUSE Leap 15
	Kernel: 4.18.0-240.10.1.el8_3.x86_64
	Compiler: gcc 7.5.0

Fedora 38
	Kernel: Depends on container host
	Compiler: clang 16.0.3

Debian Bullseye
	Kernel: 5.4.0-122-generic
	Compiler: gcc 10.2.1-6

Ubuntu 22.04
	Kernel: 4.18.0-240.10.1.el8_3.x86_64
	Compiler: gcc 11.3.0

CentOS Stream 8
	Kernel: 4.18.0-240.10.1.el8_3.x86_64
	Compiler: gcc 8.4.1 20200928

CentOS Stream 9
	Kernel: 4.18.0-240.10.1.el8_3.x86_64
	Compiler: gcc 11.3.1 20220421

RHEL8
	Kernel: 4.18.0-240.10.1.el8_3.x86_64
	Compiler: gcc 8.3.1 20191121 (Red Hat 8.3.1-5)

Fedora 37
	Kernel: Depends on container host system
	Compiler: gcc 12.3.1

Debian 12 (arm)
	Kernel: Container Host Kernel
	Compiler: gcc 11

To view detailed results, visit:
https://lab.dpdk.org/results/dashboard/patchsets/29393/

UNH-IOL DPDK Community Lab

To manage your email subscriptions, visit: 
https://lab.dpdk.org/results/dashboard/preferences/subscriptions/