From mboxrd@z Thu Jan  1 00:00:00 1970
Return-Path: <test-report-bounces@dpdk.org>
Received: from mails.dpdk.org (mails.dpdk.org [217.70.189.124])
	by inbox.dpdk.org (Postfix) with ESMTP id 4022D43C44
	for <public@inbox.dpdk.org>; Sun,  3 Mar 2024 20:09:36 +0100 (CET)
Received: from mails.dpdk.org (localhost [127.0.0.1])
	by mails.dpdk.org (Postfix) with ESMTP id 3BFDF4069D;
	Sun,  3 Mar 2024 20:09:36 +0100 (CET)
Received: from mail-oo1-f97.google.com (mail-oo1-f97.google.com
 [209.85.161.97]) by mails.dpdk.org (Postfix) with ESMTP id 07F0C40687
 for <test-report@dpdk.org>; Sun,  3 Mar 2024 20:09:35 +0100 (CET)
Received: by mail-oo1-f97.google.com with SMTP id
 006d021491bc7-5a122beaa1dso552793eaf.0
 for <test-report@dpdk.org>; Sun, 03 Mar 2024 11:09:34 -0800 (PST)
DKIM-Signature: v=1; a=rsa-sha256; c=relaxed/relaxed;
 d=iol.unh.edu; s=unh-iol; t=1709492974; x=1710097774; darn=dpdk.org;
 h=references:in-reply-to:cc:to:from:subject:message-id:date:from:to
 :cc:subject:date:message-id:reply-to;
 bh=XxoR9+INmdhIB5C+1GJ4Bfn83wPloAvJTLSD+qAOvaE=;
 b=QNuAfGkAge/58rtaG/lvrC6WXYHgucPLszeZ0b86XUnBocW5fvb38ALbRTP7pYkn0Y
 skjVez2RpMK9c/rrYt5mOI6FcYQV0BfUKJxxXl9Hlg/KPSQfs/vCeEXIpSBFW3kFsILi
 qkrSisvsiZUC3M5Zo3ckmoAhtpbIIV1oIB3p8=
X-Google-DKIM-Signature: v=1; a=rsa-sha256; c=relaxed/relaxed;
 d=1e100.net; s=20230601; t=1709492974; x=1710097774;
 h=references:in-reply-to:cc:to:from:subject:message-id:date
 :x-gm-message-state:from:to:cc:subject:date:message-id:reply-to;
 bh=XxoR9+INmdhIB5C+1GJ4Bfn83wPloAvJTLSD+qAOvaE=;
 b=pb9amVStKhSN90hShVZpgeoOS7jauo0wIaGm9yw8AnlfSCLMT/lr/63f+lUIot6KZ7
 dyijUA1TbCXFmebPHHh5NL89+yf3VJM5Dm+yWUuNpHKwjYACSXOEQjqBc6D4Ti6hPSH5
 Laj7fBEGxg2jsrjO3boruErcsXbk/OEl509axrezL+caqc/xoqWHjIi/5GNqbX8WDatK
 2fDZEQJD9ehHmINvmd8dX4ML0IlnIZ6T7Q9wGqhstkh6aPBq/3Kdexe6G5c3DAJJew9W
 txP5oOC2e65ojMaJvPtKKHMlg22COYzduoKchbE6s5cCjNcNHZFo+88HMrQBL+NDf8UW
 WO3g==
X-Gm-Message-State: AOJu0YxU3WVS2HxrpvNVnaW0IB/8pkKyeKVDFv+6TmUCU3kr7OqISULW
 hLex2+JDfbR/vqJlEoz01aSv18ZcgB8jf98ofneQbw9+xKOCVVdv32aqHqaykFJqzWRwBDPH7R2
 CLRVxF0cRqjkuPfzUj7rP8EJE0pc6ILs3IjmnxwxHwgbRMuflDkyHJhtj
X-Google-Smtp-Source: AGHT+IElkF7UepUoU2osQ/1NHJ9xjXwqt5FPVhWBUw6Sx8dsttoBC79NPCi6yDxwA4Oe6CivpN1diGfusdWM
X-Received: by 2002:a05:6871:79f:b0:21e:a8ff:1d2e with SMTP id
 o31-20020a056871079f00b0021ea8ff1d2emr7806770oap.34.1709492974399; 
 Sun, 03 Mar 2024 11:09:34 -0800 (PST)
Received: from postal.iol.unh.edu (postal.iol.unh.edu.
 [2606:4100:3880:1234::84]) by smtp-relay.gmail.com with ESMTPS id
 q33-20020a056830442100b006e4d2cef3e8sm168673otv.11.2024.03.03.11.09.34
 (version=TLS1_2 cipher=ECDHE-ECDSA-AES128-GCM-SHA256 bits=128/128);
 Sun, 03 Mar 2024 11:09:34 -0800 (PST)
X-Relaying-Domain: iol.unh.edu
Date: Sun, 03 Mar 2024 11:09:34 -0800 (PST)
Message-ID: <65e4caee.050a0220.a0a99.a31cSMTPIN_ADDED_MISSING@mx.google.com>
Received: from [172.21.0.6] (unknown [172.18.0.240])
 by postal.iol.unh.edu (Postfix) with ESMTP id DC3FA6052510;
 Sun,  3 Mar 2024 14:09:33 -0500 (EST)
Subject: |SUCCESS| pw137815-137837 [PATCH] [v6,23/23] net/cnxk: other flow op
From: dpdklab@iol.unh.edu
To: Test Report <test-report@dpdk.org>
Cc: dpdk-test-reports@iol.unh.edu
In-Reply-To: <20240303173833.100039-24-hkalra@marvell.com>
References: <20240303173833.100039-24-hkalra@marvell.com>
Content-Type: text/plain
X-BeenThere: test-report@dpdk.org
X-Mailman-Version: 2.1.29
Precedence: list
List-Id: automatic DPDK test reports <test-report.dpdk.org>
List-Unsubscribe: <https://mails.dpdk.org/options/test-report>,
 <mailto:test-report-request@dpdk.org?subject=unsubscribe>
List-Archive: <http://mails.dpdk.org/archives/test-report/>
List-Post: <mailto:test-report@dpdk.org>
List-Help: <mailto:test-report-request@dpdk.org?subject=help>
List-Subscribe: <https://mails.dpdk.org/listinfo/test-report>,
 <mailto:test-report-request@dpdk.org?subject=subscribe>
Errors-To: test-report-bounces@dpdk.org

Test-Label: iol-unit-amd64-testing
Test-Status: SUCCESS
http://dpdk.org/patch/137837

_Testing PASS_

Submitter: Harman Kalra <hkalra@marvell.com>
Date: Sunday, March 03 2024 17:38:33 
DPDK git baseline: Repo:dpdk
  Branch: master
  CommitID:a3d538b3a48d545abe19e9a616fe3b8422275c8d

137815-137837 --> testing pass

Test environment and result as below:

+---------------------+----------------+
|     Environment     | dpdk_unit_test |
+=====================+================+
| CentOS Stream 9     | PASS           |
+---------------------+----------------+
| Windows Server 2019 | PASS           |
+---------------------+----------------+
| Fedora 38           | PASS           |
+---------------------+----------------+
| CentOS Stream 8     | PASS           |
+---------------------+----------------+
| Fedora 37           | PASS           |
+---------------------+----------------+
| Debian 12 (arm)     | PASS           |
+---------------------+----------------+
| Debian Bullseye     | PASS           |
+---------------------+----------------+
| openSUSE Leap 15    | PASS           |
+---------------------+----------------+
| Ubuntu 20.04        | PASS           |
+---------------------+----------------+
| Ubuntu 22.04        | PASS           |
+---------------------+----------------+


CentOS Stream 9
	Kernel: 4.18.0-240.10.1.el8_3.x86_64
	Compiler: gcc 11.3.1 20220421

Windows Server 2019
	Kernel: 10.0
	Compiler: clang 14.0 and gcc 8.1.0 (MinGW)

Fedora 38
	Kernel: Depends on container host
	Compiler: gcc 13.1.1

CentOS Stream 8
	Kernel: 4.18.0-240.10.1.el8_3.x86_64
	Compiler: gcc 8.4.1 20200928

Fedora 37
	Kernel: Depends on container host system
	Compiler: gcc 12.3.1

Debian 12 (arm)
	Kernel: Container Host Kernel
	Compiler: gcc 11

Debian Bullseye
	Kernel: 5.4.0-122-generic
	Compiler: gcc 10.2.1-6

openSUSE Leap 15
	Kernel: 4.18.0-240.10.1.el8_3.x86_64
	Compiler: gcc 7.5.0

Ubuntu 20.04
	Kernel: 5.4.0-153-generic
	Compiler: gcc 9.4.0-1ubuntu1~20.04.1

Ubuntu 22.04
	Kernel: 4.18.0-240.10.1.el8_3.x86_64
	Compiler: gcc 11.3.0

To view detailed results, visit:
https://lab.dpdk.org/results/dashboard/patchsets/29393/

UNH-IOL DPDK Community Lab

To manage your email subscriptions, visit: 
https://lab.dpdk.org/results/dashboard/preferences/subscriptions/