From mboxrd@z Thu Jan  1 00:00:00 1970
Return-Path: <test-report-bounces@dpdk.org>
Received: from mails.dpdk.org (mails.dpdk.org [217.70.189.124])
	by inbox.dpdk.org (Postfix) with ESMTP id BDFF143B95
	for <public@inbox.dpdk.org>; Sun,  3 Mar 2024 22:41:42 +0100 (CET)
Received: from mails.dpdk.org (localhost [127.0.0.1])
	by mails.dpdk.org (Postfix) with ESMTP id B6D2340687;
	Sun,  3 Mar 2024 22:41:42 +0100 (CET)
Received: from mail-oa1-f98.google.com (mail-oa1-f98.google.com
 [209.85.160.98]) by mails.dpdk.org (Postfix) with ESMTP id 9DAF840279
 for <test-report@dpdk.org>; Sun,  3 Mar 2024 22:41:41 +0100 (CET)
Received: by mail-oa1-f98.google.com with SMTP id
 586e51a60fabf-220461b7597so2435774fac.3
 for <test-report@dpdk.org>; Sun, 03 Mar 2024 13:41:41 -0800 (PST)
DKIM-Signature: v=1; a=rsa-sha256; c=relaxed/relaxed;
 d=iol.unh.edu; s=unh-iol; t=1709502101; x=1710106901; darn=dpdk.org;
 h=references:in-reply-to:cc:to:from:subject:message-id:date:from:to
 :cc:subject:date:message-id:reply-to;
 bh=pJsTLtTHtRbM1JE8qsRqhl2SPn+ZUm5aZBFuYxp99eA=;
 b=Zgepbhp83+zsFygQmiTRv4nj76QJssHzsYZJTfXiQQ7Sc0jjF1bRfFWefpwRroSWvQ
 TTV/WVKa7RW8PwErO34FQXetY99PDuZM19JIU8D4iHxBzF2BBwDnPNIzLcScLg9GCOJ6
 fQp1TmEiFwrwIFa8usArWLDuc0AcWOhcFktv8=
X-Google-DKIM-Signature: v=1; a=rsa-sha256; c=relaxed/relaxed;
 d=1e100.net; s=20230601; t=1709502101; x=1710106901;
 h=references:in-reply-to:cc:to:from:subject:message-id:date
 :x-gm-message-state:from:to:cc:subject:date:message-id:reply-to;
 bh=pJsTLtTHtRbM1JE8qsRqhl2SPn+ZUm5aZBFuYxp99eA=;
 b=hRhjokSXX9h9Z0TDYamQB0dNgV4weinCURticI0oUm4ouSYxnp9J9kfHVt9VVjtYzq
 D9qh3hvpBRQNHa9LA3mkuXtH0j2uLzhz+8pZsmYqXy9OLGfZ1OAAv1O/I0iBAVKOU8i6
 5tlwEaut8h4K6qvSsE4f7FWMZcX+SCNb3mwqBQxBdb5CIJwDUKW0QAFjhyd7dwNK6xRu
 XLywI+1rkV696DAkDyLM/iqFaAxNLbN/MIBGp2oLsXGymgLjAR3TsfyQpmGjJRN7aM4U
 8dJPpl7ThxXBOHRd98JBXrwXYplCBbht8SK/Ez6rm7JsNvD/AtMnGsxTFqXdJ1ZMBRmk
 trUQ==
X-Gm-Message-State: AOJu0YyLqxhfTYOhwwk8T+y6EvWe5qG1fnCNeh2Sdk4UobPPtXzDDQdi
 9Lm1nvP8gDQRYY9puVCaG6Xlk3mKvF0l/nFR38t9PaxrsIBiMWKQT3Dofb91oq9NdJTy8DgMWWk
 +jI1ZZz5IOC0YJ+s+rODW15UcrymqTa0KVJJyRz8RL2ioWgQeUzBwQDyS
X-Google-Smtp-Source: AGHT+IEiqDwZBBtvXyGm9qMUNg7k8krp/sih0Qt5k30f2l2mDzfkjbu2iUtK78Xjk8FnIvSjmSx6Ka6FQnpM
X-Received: by 2002:a05:6870:148c:b0:21e:6d41:3a86 with SMTP id
 k12-20020a056870148c00b0021e6d413a86mr8924069oab.59.1709502101014; 
 Sun, 03 Mar 2024 13:41:41 -0800 (PST)
Received: from postal.iol.unh.edu (postal.iol.unh.edu.
 [2606:4100:3880:1234::84]) by smtp-relay.gmail.com with ESMTPS id
 ni23-20020a056871349700b002184d729384sm193170oac.48.2024.03.03.13.41.40
 (version=TLS1_2 cipher=ECDHE-ECDSA-AES128-GCM-SHA256 bits=128/128);
 Sun, 03 Mar 2024 13:41:41 -0800 (PST)
X-Relaying-Domain: iol.unh.edu
Date: Sun, 03 Mar 2024 13:41:41 -0800 (PST)
Message-ID: <65e4ee95.050a0220.46ad7.b550SMTPIN_ADDED_MISSING@mx.google.com>
Received: from [172.21.0.6] (unknown [172.18.0.240])
 by postal.iol.unh.edu (Postfix) with ESMTP id 1F9406052511;
 Sun,  3 Mar 2024 16:41:40 -0500 (EST)
Subject: |SUCCESS| pw137838-137840 [PATCH] [v5,3/3] event/cnxk: support DMA e
From: dpdklab@iol.unh.edu
To: Test Report <test-report@dpdk.org>
Cc: dpdk-test-reports@iol.unh.edu
In-Reply-To: <20240303210808.614845-3-amitprakashs@marvell.com>
References: <20240303210808.614845-3-amitprakashs@marvell.com>
Content-Type: text/plain
X-BeenThere: test-report@dpdk.org
X-Mailman-Version: 2.1.29
Precedence: list
List-Id: automatic DPDK test reports <test-report.dpdk.org>
List-Unsubscribe: <https://mails.dpdk.org/options/test-report>,
 <mailto:test-report-request@dpdk.org?subject=unsubscribe>
List-Archive: <http://mails.dpdk.org/archives/test-report/>
List-Post: <mailto:test-report@dpdk.org>
List-Help: <mailto:test-report-request@dpdk.org?subject=help>
List-Subscribe: <https://mails.dpdk.org/listinfo/test-report>,
 <mailto:test-report-request@dpdk.org?subject=subscribe>
Errors-To: test-report-bounces@dpdk.org

Test-Label: iol-compile-arm64-testing
Test-Status: SUCCESS
http://dpdk.org/patch/137840

_Testing PASS_

Submitter: Amit Prakash Shukla <amitprakashs@marvell.com>
Date: Sunday, March 03 2024 21:08:08 
DPDK git baseline: Repo:dpdk
  Branch: master
  CommitID:5df34de5808a7b826b8bc035d6ee3161a12be364

137838-137840 --> testing pass

Test environment and result as below:

+----------------------+--------------------+
|     Environment      | dpdk_meson_compile |
+======================+====================+
| Ubuntu 20.04 ARM SVE | PASS               |
+----------------------+--------------------+
| Fedora 37 (ARM)      | PASS               |
+----------------------+--------------------+
| Fedora 38 (ARM)      | PASS               |
+----------------------+--------------------+


Ubuntu 20.04 ARM SVE
	Kernel: 5.4.0-80-generic
	Compiler: gcc 10.3.0 (Ubuntu 10.3.0-1ubuntu1~20.04)

Fedora 37 (ARM)
	Kernel: Depends on container host
	Compiler: gcc 12.3.1

Fedora 38 (ARM)
	Kernel: Depends on container host
	Compiler: gcc 13.1.1

To view detailed results, visit:
https://lab.dpdk.org/results/dashboard/patchsets/29394/

UNH-IOL DPDK Community Lab

To manage your email subscriptions, visit: 
https://lab.dpdk.org/results/dashboard/preferences/subscriptions/