From mboxrd@z Thu Jan  1 00:00:00 1970
Return-Path: <test-report-bounces@dpdk.org>
Received: from mails.dpdk.org (mails.dpdk.org [217.70.189.124])
	by inbox.dpdk.org (Postfix) with ESMTP id A381743B95
	for <public@inbox.dpdk.org>; Sun,  3 Mar 2024 22:52:36 +0100 (CET)
Received: from mails.dpdk.org (localhost [127.0.0.1])
	by mails.dpdk.org (Postfix) with ESMTP id 951C340687;
	Sun,  3 Mar 2024 22:52:36 +0100 (CET)
Received: from mail-qt1-f228.google.com (mail-qt1-f228.google.com
 [209.85.160.228])
 by mails.dpdk.org (Postfix) with ESMTP id 7448340279
 for <test-report@dpdk.org>; Sun,  3 Mar 2024 22:52:35 +0100 (CET)
Received: by mail-qt1-f228.google.com with SMTP id
 d75a77b69052e-42ee23c64e3so5259861cf.2
 for <test-report@dpdk.org>; Sun, 03 Mar 2024 13:52:35 -0800 (PST)
DKIM-Signature: v=1; a=rsa-sha256; c=relaxed/relaxed;
 d=iol.unh.edu; s=unh-iol; t=1709502755; x=1710107555; darn=dpdk.org;
 h=references:in-reply-to:cc:to:from:subject:message-id:date:from:to
 :cc:subject:date:message-id:reply-to;
 bh=aXDPQb5eViHju/TgDMcToF+/KVNerWctfyZgc2SkQgo=;
 b=Ltev5nMUK8gCUCYNRiMq9W9v54zZujSVHEX6EfX54meqg/Iom5CV/FNVpMgYblE2q+
 /Kdt/etnBy+oHb28X6S/yMwuV6buCC5NS+mOQtZ2wIuI0Rh/V72jWWmKrx3hi1VudLpJ
 41LTi/vSTpa7lxxdyaVkKdUxv4fEvDiYoVsso=
X-Google-DKIM-Signature: v=1; a=rsa-sha256; c=relaxed/relaxed;
 d=1e100.net; s=20230601; t=1709502755; x=1710107555;
 h=references:in-reply-to:cc:to:from:subject:message-id:date
 :x-gm-message-state:from:to:cc:subject:date:message-id:reply-to;
 bh=aXDPQb5eViHju/TgDMcToF+/KVNerWctfyZgc2SkQgo=;
 b=nqTCH4Dj+NnYjMvEEeEwO+rKgPjSywtntRNFMZaXKkpFnmS5PpWPwEHbvgZG1bThZw
 06eSUp0xGPoqBNFhKFHSqjLgYymeo0FGR4QPamSvTY0DIlmMYHRHJES+ZRN0LmXVWOSQ
 LcGwcvNqaBs6gJoLIHdX9pmxpOQby9MDiT8HIcgyRcDPVE91ZoLC4hXRQgIAaEsgb2bY
 S/kFjCKk6PvaX92Q7gRKFsQPUn9iaiOWyz0U6HTM6wm+vYBxe+On/ZwLdDXvCe+6kEmn
 Em3bojwy4+CcIgGSfBwwAgx93raqR8in3RSrBZmNsTPsfHkxa9VgCH488WZm6LWPM2nT
 VH/Q==
X-Gm-Message-State: AOJu0YzH6T+WrVr6MjIEBEDsCu3MV1MziEA2htUitMaA0frWxFvf4eA4
 HW29RlaBjC3KQ5oCF4p4DnVZGba7ZX5qk//1ziB/X8sWfSj3FmT0rvHX1tvKf8/bmDBnNHTf4Me
 C8e18xp+IoG0WXF788nA7aGC67IPMC9Fudn3m2sXVBPgQvLvLMoPmaxRp
X-Google-Smtp-Source: AGHT+IFmpKcoOWMoYsvixgRYShNaeGv2fw6yU3jXSIXIQ16hTrzL32mc05ttyAjgPLKblgtVG4UctHe6I8fX
X-Received: by 2002:ad4:4c4c:0:b0:690:6096:3ed6 with SMTP id
 cs12-20020ad44c4c000000b0069060963ed6mr5124111qvb.24.1709502754884; 
 Sun, 03 Mar 2024 13:52:34 -0800 (PST)
Received: from postal.iol.unh.edu (postal.iol.unh.edu.
 [2606:4100:3880:1234::84]) by smtp-relay.gmail.com with ESMTPS id
 t3-20020ad45bc3000000b0068fcd8c4fe7sm396322qvt.46.2024.03.03.13.52.34
 (version=TLS1_2 cipher=ECDHE-ECDSA-AES128-GCM-SHA256 bits=128/128);
 Sun, 03 Mar 2024 13:52:34 -0800 (PST)
X-Relaying-Domain: iol.unh.edu
Date: Sun, 03 Mar 2024 13:52:34 -0800 (PST)
Message-ID: <65e4f122.d40a0220.be439.b003SMTPIN_ADDED_MISSING@mx.google.com>
Received: from [172.21.0.6] (unknown [172.18.0.240])
 by postal.iol.unh.edu (Postfix) with ESMTP id 94D5F6052511;
 Sun,  3 Mar 2024 16:52:34 -0500 (EST)
Subject: |SUCCESS| pw137838-137840 [PATCH] [v5,3/3] event/cnxk: support DMA e
From: dpdklab@iol.unh.edu
To: Test Report <test-report@dpdk.org>
Cc: dpdk-test-reports@iol.unh.edu
In-Reply-To: <20240303210808.614845-3-amitprakashs@marvell.com>
References: <20240303210808.614845-3-amitprakashs@marvell.com>
Content-Type: text/plain
X-BeenThere: test-report@dpdk.org
X-Mailman-Version: 2.1.29
Precedence: list
List-Id: automatic DPDK test reports <test-report.dpdk.org>
List-Unsubscribe: <https://mails.dpdk.org/options/test-report>,
 <mailto:test-report-request@dpdk.org?subject=unsubscribe>
List-Archive: <http://mails.dpdk.org/archives/test-report/>
List-Post: <mailto:test-report@dpdk.org>
List-Help: <mailto:test-report-request@dpdk.org?subject=help>
List-Subscribe: <https://mails.dpdk.org/listinfo/test-report>,
 <mailto:test-report-request@dpdk.org?subject=subscribe>
Errors-To: test-report-bounces@dpdk.org

Test-Label: iol-unit-arm64-testing
Test-Status: SUCCESS
http://dpdk.org/patch/137840

_Testing PASS_

Submitter: Amit Prakash Shukla <amitprakashs@marvell.com>
Date: Sunday, March 03 2024 21:08:08 
DPDK git baseline: Repo:dpdk
  Branch: master
  CommitID:5df34de5808a7b826b8bc035d6ee3161a12be364

137838-137840 --> testing pass

Test environment and result as below:

+--------------------------+----------------+
|       Environment        | dpdk_unit_test |
+==========================+================+
| Debian 11 (Buster) (ARM) | PASS           |
+--------------------------+----------------+
| Fedora 38 (ARM)          | PASS           |
+--------------------------+----------------+
| CentOS Stream 9 (ARM)    | PASS           |
+--------------------------+----------------+


Debian 11 (Buster) (ARM)
	Kernel: Container Host Kernel
	Compiler: gcc 10.2.1

Fedora 38 (ARM)
	Kernel: Depends on container host
	Compiler: gcc 13.1.1

CentOS Stream 9 (ARM)
	Kernel: Container Host Kernel
	Compiler: gcc 11.3.1

To view detailed results, visit:
https://lab.dpdk.org/results/dashboard/patchsets/29394/

UNH-IOL DPDK Community Lab

To manage your email subscriptions, visit: 
https://lab.dpdk.org/results/dashboard/preferences/subscriptions/