From mboxrd@z Thu Jan  1 00:00:00 1970
Return-Path: <test-report-bounces@dpdk.org>
Received: from mails.dpdk.org (mails.dpdk.org [217.70.189.124])
	by inbox.dpdk.org (Postfix) with ESMTP id B6A6143B95
	for <public@inbox.dpdk.org>; Sun,  3 Mar 2024 22:55:31 +0100 (CET)
Received: from mails.dpdk.org (localhost [127.0.0.1])
	by mails.dpdk.org (Postfix) with ESMTP id B18AB40687;
	Sun,  3 Mar 2024 22:55:31 +0100 (CET)
Received: from mail-yb1-f225.google.com (mail-yb1-f225.google.com
 [209.85.219.225])
 by mails.dpdk.org (Postfix) with ESMTP id 77E3640279
 for <test-report@dpdk.org>; Sun,  3 Mar 2024 22:55:30 +0100 (CET)
Received: by mail-yb1-f225.google.com with SMTP id
 3f1490d57ef6-dcc73148611so3979874276.3
 for <test-report@dpdk.org>; Sun, 03 Mar 2024 13:55:30 -0800 (PST)
DKIM-Signature: v=1; a=rsa-sha256; c=relaxed/relaxed;
 d=iol.unh.edu; s=unh-iol; t=1709502930; x=1710107730; darn=dpdk.org;
 h=references:in-reply-to:cc:to:from:subject:message-id:date:from:to
 :cc:subject:date:message-id:reply-to;
 bh=ldS3DeYC4Va9rUy0ErBwUO3sfQp8gQuRSpXjtFDFbWc=;
 b=IxNJBpV26+Ag5BzYulkdjb+cY9CeA4UpKzpkIE9pivDjAnzeb/G/vVVSB0Q/BdfWpw
 qvXQMyWHxSDalNpnnFrwOf2hcu7+jYoj/btr8SITZcVOhtTWd7yQ8+ktYWHbcxqN70lZ
 LFscOF4mAQeT1cjeZfxWzCEEpQNDLHnXxfn5Q=
X-Google-DKIM-Signature: v=1; a=rsa-sha256; c=relaxed/relaxed;
 d=1e100.net; s=20230601; t=1709502930; x=1710107730;
 h=references:in-reply-to:cc:to:from:subject:message-id:date
 :x-gm-message-state:from:to:cc:subject:date:message-id:reply-to;
 bh=ldS3DeYC4Va9rUy0ErBwUO3sfQp8gQuRSpXjtFDFbWc=;
 b=G3eXDr0uooJdiVwiYgnnY/HS7tFAavQT4ifw4Bn7BnJ1QOXUOxcEndxUsMaNY2QhpF
 vHKxw5QoMicU408XXuYxIXywiyuSFxgvHK+ByG1j2L87r7xNaAO1G1+Hrw42KySsu4LI
 MJa/X4Tn+z//ViqcDqwLrVD6/cCGvXSzC+hxC54xwIG3xSmZNJEg/hNVRcOL/cltU29E
 BbYNkq8m6dOSqAUsFZBOsquO/2r2jrUrJG2TaLNU4b4A2VpcRL15pox7IZeRYh9DS61b
 OaP1Rw7hd38wx7QEups3yS6/uya0zsNm6QtioMPzqUQQ1UNObFHyxDwWiogrO+0AejWd
 mg4Q==
X-Gm-Message-State: AOJu0YyFuDu3OIN7jpkPvdrAIrIOLRe9dzaii9RjqQjMMg+ADht7W902
 pMu98Odn+tZnPwOgv5YUkH4ZwtGmJ/U7/NLYF65l6UuawNDa+/Ck/zUKDGLllIGChKxagLbvin3
 07UtcyvwuqPxlNSxjvwlsJ2Q+gANXAI7nHqcyFYUG
X-Google-Smtp-Source: AGHT+IFOa71KzAZZk+Syq4Y80io4sO48Ysv3pS7jlabE7MmRz4mOgr4OJfX0Z3AQHZKHqQEdq+5B5dpuT3hv
X-Received: by 2002:a25:aea3:0:b0:dc2:4397:6ad3 with SMTP id
 b35-20020a25aea3000000b00dc243976ad3mr5877416ybj.44.1709502929908; 
 Sun, 03 Mar 2024 13:55:29 -0800 (PST)
Received: from postal.iol.unh.edu (postal.iol.unh.edu. [132.177.123.84])
 by smtp-relay.gmail.com with ESMTPS id
 y67-20020a25c846000000b00dc64ba82c30sm430651ybf.0.2024.03.03.13.55.29
 (version=TLS1_2 cipher=ECDHE-ECDSA-AES128-GCM-SHA256 bits=128/128);
 Sun, 03 Mar 2024 13:55:29 -0800 (PST)
X-Relaying-Domain: iol.unh.edu
Date: Sun, 03 Mar 2024 13:55:29 -0800 (PST)
Message-ID: <65e4f1d1.250a0220.3c6f8.c993SMTPIN_ADDED_MISSING@mx.google.com>
Received: from [172.21.0.6] (unknown [172.18.0.240])
 by postal.iol.unh.edu (Postfix) with ESMTP id 81DFF6052511;
 Sun,  3 Mar 2024 16:55:29 -0500 (EST)
Subject: |SUCCESS| pw137838-137840 [PATCH] [v5,3/3] event/cnxk: support DMA e
From: dpdklab@iol.unh.edu
To: Test Report <test-report@dpdk.org>
Cc: dpdk-test-reports@iol.unh.edu
In-Reply-To: <20240303210808.614845-3-amitprakashs@marvell.com>
References: <20240303210808.614845-3-amitprakashs@marvell.com>
Content-Type: text/plain
X-BeenThere: test-report@dpdk.org
X-Mailman-Version: 2.1.29
Precedence: list
List-Id: automatic DPDK test reports <test-report.dpdk.org>
List-Unsubscribe: <https://mails.dpdk.org/options/test-report>,
 <mailto:test-report-request@dpdk.org?subject=unsubscribe>
List-Archive: <http://mails.dpdk.org/archives/test-report/>
List-Post: <mailto:test-report@dpdk.org>
List-Help: <mailto:test-report-request@dpdk.org?subject=help>
List-Subscribe: <https://mails.dpdk.org/listinfo/test-report>,
 <mailto:test-report-request@dpdk.org?subject=subscribe>
Errors-To: test-report-bounces@dpdk.org

Test-Label: iol-unit-arm64-testing
Test-Status: SUCCESS
http://dpdk.org/patch/137840

_Testing PASS_

Submitter: Amit Prakash Shukla <amitprakashs@marvell.com>
Date: Sunday, March 03 2024 21:08:08 
DPDK git baseline: Repo:dpdk
  Branch: master
  CommitID:5df34de5808a7b826b8bc035d6ee3161a12be364

137838-137840 --> testing pass

Test environment and result as below:

+--------------------------+----------------+
|       Environment        | dpdk_unit_test |
+==========================+================+
| Debian 11 (Buster) (ARM) | PASS           |
+--------------------------+----------------+
| Fedora 38 (ARM)          | PASS           |
+--------------------------+----------------+
| CentOS Stream 9 (ARM)    | PASS           |
+--------------------------+----------------+
| Fedora 37 (ARM)          | PASS           |
+--------------------------+----------------+


Debian 11 (Buster) (ARM)
	Kernel: Container Host Kernel
	Compiler: gcc 10.2.1

Fedora 38 (ARM)
	Kernel: Depends on container host
	Compiler: gcc 13.1.1

CentOS Stream 9 (ARM)
	Kernel: Container Host Kernel
	Compiler: gcc 11.3.1

Fedora 37 (ARM)
	Kernel: Depends on container host
	Compiler: gcc 12.3.1

To view detailed results, visit:
https://lab.dpdk.org/results/dashboard/patchsets/29394/

UNH-IOL DPDK Community Lab

To manage your email subscriptions, visit: 
https://lab.dpdk.org/results/dashboard/preferences/subscriptions/