From mboxrd@z Thu Jan  1 00:00:00 1970
Return-Path: <test-report-bounces@dpdk.org>
Received: from mails.dpdk.org (mails.dpdk.org [217.70.189.124])
	by inbox.dpdk.org (Postfix) with ESMTP id A369A43B7C
	for <public@inbox.dpdk.org>; Mon,  4 Mar 2024 11:04:02 +0100 (CET)
Received: from mails.dpdk.org (localhost [127.0.0.1])
	by mails.dpdk.org (Postfix) with ESMTP id 9DE8140267;
	Mon,  4 Mar 2024 11:04:02 +0100 (CET)
Received: from mail-vk1-f226.google.com (mail-vk1-f226.google.com
 [209.85.221.226])
 by mails.dpdk.org (Postfix) with ESMTP id D4F3340262
 for <test-report@dpdk.org>; Mon,  4 Mar 2024 11:04:00 +0100 (CET)
Received: by mail-vk1-f226.google.com with SMTP id
 71dfb90a1353d-4d33d049cbaso1032607e0c.0
 for <test-report@dpdk.org>; Mon, 04 Mar 2024 02:04:00 -0800 (PST)
DKIM-Signature: v=1; a=rsa-sha256; c=relaxed/relaxed;
 d=iol.unh.edu; s=unh-iol; t=1709546640; x=1710151440; darn=dpdk.org;
 h=references:in-reply-to:cc:to:from:subject:message-id:date:from:to
 :cc:subject:date:message-id:reply-to;
 bh=lvuhqKuFS46r8OtQ2aGveZQ743/qgAHIwLy+ZwsSqvQ=;
 b=WnFUc2zbzn4LeO2oWBuK+RnwbFVv5h7YY/ttXLMSywdSJNaGBG2wekRYJpkLcHsLaV
 m58pecAHVbZd/7cZvoMrKN9u/520lsMMJPv0KqlgN6Gp+ytUD+2r9zwvByuWK3kak6cT
 7fcENL+yq/kYK/XT/IzM7rtlqmyoC5LwCkhBk=
X-Google-DKIM-Signature: v=1; a=rsa-sha256; c=relaxed/relaxed;
 d=1e100.net; s=20230601; t=1709546640; x=1710151440;
 h=references:in-reply-to:cc:to:from:subject:message-id:date
 :x-gm-message-state:from:to:cc:subject:date:message-id:reply-to;
 bh=lvuhqKuFS46r8OtQ2aGveZQ743/qgAHIwLy+ZwsSqvQ=;
 b=q0AkstfoeL7bhwlbvMel2bH4ba+HXJY6Rj79DiA291atuM1cmjiUyC1/wQiup38jl/
 31VKu7E20JcM8E5Gikt3Dzz6bsj4zYlY5xV2TgwRsxgeK2j3MviDu90t9Bk1to109l+5
 uks+5CNhzET9yVgtZ8QY+VGasgN2nhsLMcsE1oya8Zv+Z01ANOzk8dxxPVxFOpL6NNqB
 jqJ3rQHQc71+Jv8f1QzvQD/I0ACQ2sm2vOhOirSWFTIPUzZos4NLRefLbtWRfuNqG9rL
 wlTpw4P9+TaBlCA3ppNF3T4PPSXSClm2d4V3PNp26Leb/AIHPOK9ASJDS8wS4xW7BchY
 Aeig==
X-Gm-Message-State: AOJu0Yy4krKk8pTzpN/XFezvOOLmn9BXhAoxjmUvMz6bPC/mq6HTRKyD
 /SLuFs/FRNcBAkzWY7j9/nsd3h1qs6sjAnOd41Sdf51rZzbjk+vXHlF+8hGwkIiH10baox/cXp1
 A70+wuMaOdM3WcolvYhF+/eWKoiWIF0UoerX/uYWp8ALA0iZRg9U/YATj
X-Google-Smtp-Source: AGHT+IGbOyg4F3TwjRZ+HDk0oJuZ+slW38AGrgn+eB5Opphlju/Ov0gMcMD5rIhUCfPOEVfKshYN+5ol164j
X-Received: by 2002:a05:6122:3089:b0:4c9:79d6:7f17 with SMTP id
 cd9-20020a056122308900b004c979d67f17mr3917936vkb.9.1709546640334; 
 Mon, 04 Mar 2024 02:04:00 -0800 (PST)
Received: from postal.iol.unh.edu (postal.iol.unh.edu.
 [2606:4100:3880:1234::84]) by smtp-relay.gmail.com with ESMTPS id
 eq15-20020a056122398f00b004b6c35a1438sm449690vkb.5.2024.03.04.02.04.00
 (version=TLS1_2 cipher=ECDHE-ECDSA-AES128-GCM-SHA256 bits=128/128);
 Mon, 04 Mar 2024 02:04:00 -0800 (PST)
X-Relaying-Domain: iol.unh.edu
Date: Mon, 04 Mar 2024 02:04:00 -0800 (PST)
Message-ID: <65e59c90.050a0220.6548.9945SMTPIN_ADDED_MISSING@mx.google.com>
Received: from [172.17.0.6] (unknown [172.18.0.217])
 by postal.iol.unh.edu (Postfix) with ESMTP id CEB586052712;
 Mon,  4 Mar 2024 05:03:59 -0500 (EST)
Subject: |SUCCESS| pw137843-137873 [PATCH] [33/33] net/ena: upgrade driver ve
From: dpdklab@iol.unh.edu
To: Test Report <test-report@dpdk.org>
Cc: dpdk-test-reports@iol.unh.edu
In-Reply-To: <20240304090136.861-34-shaibran@amazon.com>
References: <20240304090136.861-34-shaibran@amazon.com>
Content-Type: text/plain
X-BeenThere: test-report@dpdk.org
X-Mailman-Version: 2.1.29
Precedence: list
List-Id: automatic DPDK test reports <test-report.dpdk.org>
List-Unsubscribe: <https://mails.dpdk.org/options/test-report>,
 <mailto:test-report-request@dpdk.org?subject=unsubscribe>
List-Archive: <http://mails.dpdk.org/archives/test-report/>
List-Post: <mailto:test-report@dpdk.org>
List-Help: <mailto:test-report-request@dpdk.org?subject=help>
List-Subscribe: <https://mails.dpdk.org/listinfo/test-report>,
 <mailto:test-report-request@dpdk.org?subject=subscribe>
Errors-To: test-report-bounces@dpdk.org

Test-Label: iol-unit-arm64-testing
Test-Status: SUCCESS
http://dpdk.org/patch/137873

_Testing PASS_

Submitter: Brandes, Shai <shaibran@amazon.com>
Date: Monday, March 04 2024 09:01:36 
DPDK git baseline: Repo:dpdk
  Branch: master
  CommitID:d4d5bbe6791850987d6d28da675574a868e8274c

137843-137873 --> testing pass

Test environment and result as below:

+--------------------------+----------------+------------------------------+---------------------------+
|       Environment        | dpdk_unit_test | cryptodev_sw_snow3g_autotest | cryptodev_sw_zuc_autotest |
+==========================+================+==============================+===========================+
| Debian 11 (Buster) (ARM) | PASS           | SKIPPED                      | SKIPPED                   |
+--------------------------+----------------+------------------------------+---------------------------+
| Fedora 37 (ARM)          | PASS           | SKIPPED                      | SKIPPED                   |
+--------------------------+----------------+------------------------------+---------------------------+
| Debian 12 (arm)          | PASS           | PASS                         | PASS                      |
+--------------------------+----------------+------------------------------+---------------------------+
| CentOS Stream 9 (ARM)    | PASS           | SKIPPED                      | SKIPPED                   |
+--------------------------+----------------+------------------------------+---------------------------+
| Fedora 38 (ARM)          | PASS           | SKIPPED                      | SKIPPED                   |
+--------------------------+----------------+------------------------------+---------------------------+
| Ubuntu 20.04 (ARM)       | PASS           | SKIPPED                      | SKIPPED                   |
+--------------------------+----------------+------------------------------+---------------------------+


Debian 11 (Buster) (ARM)
	Kernel: Container Host Kernel
	Compiler: gcc 10.2.1

Fedora 37 (ARM)
	Kernel: Depends on container host
	Compiler: gcc 12.3.1

Debian 12 (arm)
	Kernel: Container Host Kernel
	Compiler: gcc 11

CentOS Stream 9 (ARM)
	Kernel: Container Host Kernel
	Compiler: gcc 11.3.1

Fedora 38 (ARM)
	Kernel: Depends on container host
	Compiler: gcc 13.1.1

Ubuntu 20.04 (ARM)
	Kernel: Container Host Kernel
	Compiler: gcc 9.4.0

To view detailed results, visit:
https://lab.dpdk.org/results/dashboard/patchsets/29396/

UNH-IOL DPDK Community Lab

To manage your email subscriptions, visit: 
https://lab.dpdk.org/results/dashboard/preferences/subscriptions/