From mboxrd@z Thu Jan  1 00:00:00 1970
Return-Path: <test-report-bounces@dpdk.org>
Received: from mails.dpdk.org (mails.dpdk.org [217.70.189.124])
	by inbox.dpdk.org (Postfix) with ESMTP id 8825B43B81
	for <public@inbox.dpdk.org>; Mon,  4 Mar 2024 11:08:38 +0100 (CET)
Received: from mails.dpdk.org (localhost [127.0.0.1])
	by mails.dpdk.org (Postfix) with ESMTP id 8527940267;
	Mon,  4 Mar 2024 11:08:38 +0100 (CET)
Received: from mail-io1-f97.google.com (mail-io1-f97.google.com
 [209.85.166.97]) by mails.dpdk.org (Postfix) with ESMTP id 885EB40262
 for <test-report@dpdk.org>; Mon,  4 Mar 2024 11:08:37 +0100 (CET)
Received: by mail-io1-f97.google.com with SMTP id
 ca18e2360f4ac-7c7ee7fa1d8so189930239f.1
 for <test-report@dpdk.org>; Mon, 04 Mar 2024 02:08:37 -0800 (PST)
DKIM-Signature: v=1; a=rsa-sha256; c=relaxed/relaxed;
 d=iol.unh.edu; s=unh-iol; t=1709546917; x=1710151717; darn=dpdk.org;
 h=references:in-reply-to:cc:to:from:subject:message-id:date:from:to
 :cc:subject:date:message-id:reply-to;
 bh=lISEu+Fo6y5e6p815YjZd3pz9zksHBC0vAxqIoRT8GM=;
 b=GbPjOli6KUVCUHVbq8RdPWRvWaW+XEBXeZCpi3IMzMrFsPuuUjKb52Uue/DlRCk9W8
 8W2ey+UgQWMuZpltoRgX7aWCnUX2+Msr9kbRLId9w7ibc8Ib+T7ogM4cMTbup17vhV8x
 oewPwLwI1wjy2xJUwKJjuVsy6VfwugABcjAck=
X-Google-DKIM-Signature: v=1; a=rsa-sha256; c=relaxed/relaxed;
 d=1e100.net; s=20230601; t=1709546917; x=1710151717;
 h=references:in-reply-to:cc:to:from:subject:message-id:date
 :x-gm-message-state:from:to:cc:subject:date:message-id:reply-to;
 bh=lISEu+Fo6y5e6p815YjZd3pz9zksHBC0vAxqIoRT8GM=;
 b=d6dGZ3JFNvW0uLW9jpCNKLYNRAxmIUCegUml1yy4yHQXg9BRKlbP4D+5FMb4ZeEjjz
 uzlJxxbEia+FfMjZ+ZYnxADE4/0R/9NbWu5otnoEREojWFF930/+sN/77tmc0lEcO/Xu
 iedt27bmJUBs/WJmfNgzdhMVfeA06LMk7Mp/G1Q0oJWB1zryDFBZFdUEFJ3RUtGjcGMQ
 OxWDCjs2/iBs7Lbi13B9qU0TXJIUmGdVQ9eczu/X6sgr5rayjgCGcT1WW5qY/eM3dHlb
 ALFE5uETi5Qckkm3O6wanKTnQf7MWrcJNgvLZQ+2n56O20072z3dXLBUhk69dntiXTeb
 uiXw==
X-Gm-Message-State: AOJu0Ywv1QNiCuYvBEYblpfe4ElsTZW4r+5WeZOsuKDM2Q7diG/c1fhM
 VLd7V2xAJXHvRS4vQb3w6HHtst+hj2iw0fvLDp9E3PN26HHLlBtZ+UBXV0H/GJJfD9QwQSeWVpC
 xzk/cpGrhj4Dc9t/sfdCPuehb+pCSqnBOZEaOVl6pJxgEedVSixJX5I/3
X-Google-Smtp-Source: AGHT+IGDbJu5YtAV8UAkLjPf+47jT92HGRKcz4aAwFW1bVGt0Dyi5bGeJo3kwqNSgg1LpWFRODy0zCtS1XqH
X-Received: by 2002:a6b:5118:0:b0:7c8:198c:6d41 with SMTP id
 f24-20020a6b5118000000b007c8198c6d41mr9548332iob.6.1709546917027; 
 Mon, 04 Mar 2024 02:08:37 -0800 (PST)
Received: from postal.iol.unh.edu (postal.iol.unh.edu.
 [2606:4100:3880:1234::84]) by smtp-relay.gmail.com with ESMTPS id
 fm27-20020a0566382b1b00b00474f0291d7dsm67927jab.0.2024.03.04.02.08.36
 (version=TLS1_2 cipher=ECDHE-ECDSA-AES128-GCM-SHA256 bits=128/128);
 Mon, 04 Mar 2024 02:08:37 -0800 (PST)
X-Relaying-Domain: iol.unh.edu
Date: Mon, 04 Mar 2024 02:08:37 -0800 (PST)
Message-ID: <65e59da5.050a0220.e3a73.2eafSMTPIN_ADDED_MISSING@mx.google.com>
Received: from [172.17.0.6] (unknown [172.18.0.217])
 by postal.iol.unh.edu (Postfix) with ESMTP id 8AB376052712;
 Mon,  4 Mar 2024 05:08:36 -0500 (EST)
Subject: |SUCCESS| pw137843-137873 [PATCH] [33/33] net/ena: upgrade driver ve
From: dpdklab@iol.unh.edu
To: Test Report <test-report@dpdk.org>
Cc: dpdk-test-reports@iol.unh.edu
In-Reply-To: <20240304090136.861-34-shaibran@amazon.com>
References: <20240304090136.861-34-shaibran@amazon.com>
Content-Type: text/plain
X-BeenThere: test-report@dpdk.org
X-Mailman-Version: 2.1.29
Precedence: list
List-Id: automatic DPDK test reports <test-report.dpdk.org>
List-Unsubscribe: <https://mails.dpdk.org/options/test-report>,
 <mailto:test-report-request@dpdk.org?subject=unsubscribe>
List-Archive: <http://mails.dpdk.org/archives/test-report/>
List-Post: <mailto:test-report@dpdk.org>
List-Help: <mailto:test-report-request@dpdk.org?subject=help>
List-Subscribe: <https://mails.dpdk.org/listinfo/test-report>,
 <mailto:test-report-request@dpdk.org?subject=subscribe>
Errors-To: test-report-bounces@dpdk.org

Test-Label: iol-unit-amd64-testing
Test-Status: SUCCESS
http://dpdk.org/patch/137873

_Testing PASS_

Submitter: Brandes, Shai <shaibran@amazon.com>
Date: Monday, March 04 2024 09:01:36 
DPDK git baseline: Repo:dpdk
  Branch: master
  CommitID:d4d5bbe6791850987d6d28da675574a868e8274c

137843-137873 --> testing pass

Test environment and result as below:

+---------------------+----------------+
|     Environment     | dpdk_unit_test |
+=====================+================+
| Debian Bullseye     | PASS           |
+---------------------+----------------+
| CentOS Stream 8     | PASS           |
+---------------------+----------------+
| Debian 12 (arm)     | PASS           |
+---------------------+----------------+
| CentOS Stream 9     | PASS           |
+---------------------+----------------+
| Fedora 37           | PASS           |
+---------------------+----------------+
| Windows Server 2019 | PASS           |
+---------------------+----------------+
| RHEL8               | PASS           |
+---------------------+----------------+
| Fedora 38           | PASS           |
+---------------------+----------------+
| openSUSE Leap 15    | PASS           |
+---------------------+----------------+
| Ubuntu 20.04        | PASS           |
+---------------------+----------------+
| Ubuntu 22.04        | PASS           |
+---------------------+----------------+


Debian Bullseye
	Kernel: 5.4.0-122-generic
	Compiler: gcc 10.2.1-6

CentOS Stream 8
	Kernel: 4.18.0-240.10.1.el8_3.x86_64
	Compiler: gcc 8.4.1 20200928

Debian 12 (arm)
	Kernel: Container Host Kernel
	Compiler: gcc 11

CentOS Stream 9
	Kernel: 4.18.0-240.10.1.el8_3.x86_64
	Compiler: gcc 11.3.1 20220421

Fedora 37
	Kernel: Depends on container host system
	Compiler: gcc 12.3.1

Windows Server 2019
	Kernel: 10.0
	Compiler: clang 14.0 and gcc 8.1.0 (MinGW)

RHEL8
	Kernel: 4.18.0-240.10.1.el8_3.x86_64
	Compiler: gcc 8.3.1 20191121 (Red Hat 8.3.1-5)

Fedora 38
	Kernel: Depends on container host
	Compiler: clang 16.0.3

openSUSE Leap 15
	Kernel: 4.18.0-240.10.1.el8_3.x86_64
	Compiler: gcc 7.5.0

Ubuntu 20.04
	Kernel: 5.4.0-153-generic
	Compiler: gcc 9.4.0-1ubuntu1~20.04.1

Ubuntu 22.04
	Kernel: 4.18.0-240.10.1.el8_3.x86_64
	Compiler: gcc 11.3.0

To view detailed results, visit:
https://lab.dpdk.org/results/dashboard/patchsets/29396/

UNH-IOL DPDK Community Lab

To manage your email subscriptions, visit: 
https://lab.dpdk.org/results/dashboard/preferences/subscriptions/