From mboxrd@z Thu Jan  1 00:00:00 1970
Return-Path: <test-report-bounces@dpdk.org>
Received: from mails.dpdk.org (mails.dpdk.org [217.70.189.124])
	by inbox.dpdk.org (Postfix) with ESMTP id 3901343B81
	for <public@inbox.dpdk.org>; Mon,  4 Mar 2024 11:09:54 +0100 (CET)
Received: from mails.dpdk.org (localhost [127.0.0.1])
	by mails.dpdk.org (Postfix) with ESMTP id 3595340267;
	Mon,  4 Mar 2024 11:09:54 +0100 (CET)
Received: from mail-yw1-f225.google.com (mail-yw1-f225.google.com
 [209.85.128.225])
 by mails.dpdk.org (Postfix) with ESMTP id 33EDC40262
 for <test-report@dpdk.org>; Mon,  4 Mar 2024 11:09:52 +0100 (CET)
Received: by mail-yw1-f225.google.com with SMTP id
 00721157ae682-6087396e405so42335877b3.0
 for <test-report@dpdk.org>; Mon, 04 Mar 2024 02:09:52 -0800 (PST)
DKIM-Signature: v=1; a=rsa-sha256; c=relaxed/relaxed;
 d=iol.unh.edu; s=unh-iol; t=1709546991; x=1710151791; darn=dpdk.org;
 h=references:in-reply-to:cc:to:from:subject:message-id:date:from:to
 :cc:subject:date:message-id:reply-to;
 bh=CDWWTZbb4ZK0HwwkoBppvcg1flmb4Kc6p3LKIY5zrW4=;
 b=DKAVN+DpiZAYjYOLu8mpbalkdz5PPlTmyOb0zDo3PkX9ZGPoODX+kTIx79ALJEiS+1
 s0XNhvmYVElMl+2aOarHG5em5kiTS1h4XkH5p6J5yTVsrl4gpUyJ3hDHfET1S1Q3JWtg
 s/fs8TSqM8ypkSY5OKx4XsMrUnY1psJfmhoAE=
X-Google-DKIM-Signature: v=1; a=rsa-sha256; c=relaxed/relaxed;
 d=1e100.net; s=20230601; t=1709546991; x=1710151791;
 h=references:in-reply-to:cc:to:from:subject:message-id:date
 :x-gm-message-state:from:to:cc:subject:date:message-id:reply-to;
 bh=CDWWTZbb4ZK0HwwkoBppvcg1flmb4Kc6p3LKIY5zrW4=;
 b=htfCHT7P953PG6cuS/7CoLHoAtSvABsYgrc9YVnD7vUmNbMgHWnP3xIpull4wHe7wq
 9j8oX/kwZbwR+ZbeGKyRCSFVABlBNOAomTSlSVGDKHD1JxmXnyIrfQ8ghV8JGCsJ5VYf
 Ntl3gacLEvdx+6r0jK9mOuXr+H3dSglq4nsZbkNEjPN7eZQbz9puNmotUMhPsZoZ/SFL
 AH457Yb+4NNso/1b9RYZ5UqieiujUR9mQMIVzuetGDtRkvglGD4F67rrLZ9hN/o6bN2F
 PIPpUWfkRjQb09csphvv3YmX4CTQuS1U9hUGB1+S+gAlEfW7CfqEmgHIJiHPWhA/ibL+
 WGkQ==
X-Gm-Message-State: AOJu0YxEn7FR6NmPv2V99Xr0/0sh1QdRz/v86ObMXujXAlgI30Ka8DFL
 5QoldiDtgBkRZNUHnhTWG3me3MbCUwqnMMhGe+SQH/QmMStB/R90QN/JSBS9owU8xzMQOYRTRoL
 Uh7NGK4ByuP+dDdUTT67pCGCPrdAmCwRnxt4MkEmF
X-Google-Smtp-Source: AGHT+IG91T2wreCHSy/lM1EusYuC4Oueuuca2BX0Z4E3/j82eFsoZnSoUoGH9pB934ABOpwNBQSSg68Co7f1
X-Received: by 2002:a0d:d5c9:0:b0:609:84da:18ea with SMTP id
 x192-20020a0dd5c9000000b0060984da18eamr5652235ywd.23.1709546991614; 
 Mon, 04 Mar 2024 02:09:51 -0800 (PST)
Received: from postal.iol.unh.edu (postal.iol.unh.edu. [132.177.123.84])
 by smtp-relay.gmail.com with ESMTPS id
 o16-20020a0dcc10000000b0060802e9053fsm260964ywd.30.2024.03.04.02.09.51
 (version=TLS1_2 cipher=ECDHE-ECDSA-AES128-GCM-SHA256 bits=128/128);
 Mon, 04 Mar 2024 02:09:51 -0800 (PST)
X-Relaying-Domain: iol.unh.edu
Date: Mon, 04 Mar 2024 02:09:51 -0800 (PST)
Message-ID: <65e59def.0d0a0220.b2911.1520SMTPIN_ADDED_MISSING@mx.google.com>
Received: from [172.17.0.7] (unknown [172.18.0.217])
 by postal.iol.unh.edu (Postfix) with ESMTP id 53B6D6052712;
 Mon,  4 Mar 2024 05:09:51 -0500 (EST)
Subject: |SUCCESS| pw137843-137873 [PATCH] [33/33] net/ena: upgrade driver ve
From: dpdklab@iol.unh.edu
To: Test Report <test-report@dpdk.org>
Cc: dpdk-test-reports@iol.unh.edu
In-Reply-To: <20240304090136.861-34-shaibran@amazon.com>
References: <20240304090136.861-34-shaibran@amazon.com>
Content-Type: text/plain
X-BeenThere: test-report@dpdk.org
X-Mailman-Version: 2.1.29
Precedence: list
List-Id: automatic DPDK test reports <test-report.dpdk.org>
List-Unsubscribe: <https://mails.dpdk.org/options/test-report>,
 <mailto:test-report-request@dpdk.org?subject=unsubscribe>
List-Archive: <http://mails.dpdk.org/archives/test-report/>
List-Post: <mailto:test-report@dpdk.org>
List-Help: <mailto:test-report-request@dpdk.org?subject=help>
List-Subscribe: <https://mails.dpdk.org/listinfo/test-report>,
 <mailto:test-report-request@dpdk.org?subject=subscribe>
Errors-To: test-report-bounces@dpdk.org

Test-Label: iol-compile-arm64-testing
Test-Status: SUCCESS
http://dpdk.org/patch/137873

_Testing PASS_

Submitter: Brandes, Shai <shaibran@amazon.com>
Date: Monday, March 04 2024 09:01:36 
DPDK git baseline: Repo:dpdk
  Branch: master
  CommitID:d4d5bbe6791850987d6d28da675574a868e8274c

137843-137873 --> testing pass

Test environment and result as below:

+------------------------------------+--------------------+
|            Environment             | dpdk_meson_compile |
+====================================+====================+
| Ubuntu 20.04 ARM SVE               | PASS               |
+------------------------------------+--------------------+
| Fedora 37 (ARM)                    | PASS               |
+------------------------------------+--------------------+
| Fedora 38 (ARM)                    | PASS               |
+------------------------------------+--------------------+
| Debian 12 (arm)                    | PASS               |
+------------------------------------+--------------------+
| CentOS Stream 9 (ARM)              | PASS               |
+------------------------------------+--------------------+
| Ubuntu 20.04 (ARM)                 | PASS               |
+------------------------------------+--------------------+
| Ubuntu 20.04 ARM GCC Cross Compile | PASS               |
+------------------------------------+--------------------+
| Debian 11 (Buster) (ARM)           | PASS               |
+------------------------------------+--------------------+


Ubuntu 20.04 ARM SVE
	Kernel: 5.4.0-80-generic
	Compiler: gcc 10.3.0 (Ubuntu 10.3.0-1ubuntu1~20.04)

Fedora 37 (ARM)
	Kernel: Depends on container host
	Compiler: gcc 12.3.1

Fedora 38 (ARM)
	Kernel: Depends on container host
	Compiler: gcc 13.1.1

Debian 12 (arm)
	Kernel: Container Host Kernel
	Compiler: gcc 11

CentOS Stream 9 (ARM)
	Kernel: Container Host Kernel
	Compiler: gcc 11.3.1

Ubuntu 20.04 (ARM)
	Kernel: Container Host Kernel
	Compiler: gcc 9.4.0

Ubuntu 20.04 ARM GCC Cross Compile
	Kernel: 5.4.0-72-generic
	Compiler: aarch64-linux-gnu-gcc (Ubuntu 9.3.0-17ubuntu1~20.04) 9.3.0

Debian 11 (Buster) (ARM)
	Kernel: Container Host Kernel
	Compiler: gcc 10.2.1

To view detailed results, visit:
https://lab.dpdk.org/results/dashboard/patchsets/29396/

UNH-IOL DPDK Community Lab

To manage your email subscriptions, visit: 
https://lab.dpdk.org/results/dashboard/preferences/subscriptions/