From mboxrd@z Thu Jan  1 00:00:00 1970
Return-Path: <test-report-bounces@dpdk.org>
Received: from mails.dpdk.org (mails.dpdk.org [217.70.189.124])
	by inbox.dpdk.org (Postfix) with ESMTP id 88A1E43B9B
	for <public@inbox.dpdk.org>; Mon,  4 Mar 2024 11:10:08 +0100 (CET)
Received: from mails.dpdk.org (localhost [127.0.0.1])
	by mails.dpdk.org (Postfix) with ESMTP id 857C940267;
	Mon,  4 Mar 2024 11:10:08 +0100 (CET)
Received: from mail-pl1-f225.google.com (mail-pl1-f225.google.com
 [209.85.214.225])
 by mails.dpdk.org (Postfix) with ESMTP id E9ACE406B6
 for <test-report@dpdk.org>; Mon,  4 Mar 2024 11:10:05 +0100 (CET)
Received: by mail-pl1-f225.google.com with SMTP id
 d9443c01a7336-1dcab44747bso34382385ad.1
 for <test-report@dpdk.org>; Mon, 04 Mar 2024 02:10:05 -0800 (PST)
DKIM-Signature: v=1; a=rsa-sha256; c=relaxed/relaxed;
 d=iol.unh.edu; s=unh-iol; t=1709547005; x=1710151805; darn=dpdk.org;
 h=references:in-reply-to:cc:to:from:subject:message-id:date:from:to
 :cc:subject:date:message-id:reply-to;
 bh=HbVM4GC+NELzrc8dSQsGNy54+mQi768UG5RSWfTUd5I=;
 b=dTp1+Y8TqKbv/EJgTME5dVF8Z2nxA5siNokD+ePj2Ib9tD7Yt+js4a/iU+QnJCfhiQ
 MwvYp2KW0urVja8ng9Hp1gRp54xLpJvIClqsDUECVKM1e/ReLjhM0vmWIMU5/Gxi/VmI
 VMatVtXmMIpnyi0V9+wIuuWSyDiLcJc8J2HEM=
X-Google-DKIM-Signature: v=1; a=rsa-sha256; c=relaxed/relaxed;
 d=1e100.net; s=20230601; t=1709547005; x=1710151805;
 h=references:in-reply-to:cc:to:from:subject:message-id:date
 :x-gm-message-state:from:to:cc:subject:date:message-id:reply-to;
 bh=HbVM4GC+NELzrc8dSQsGNy54+mQi768UG5RSWfTUd5I=;
 b=UrYOQ+bU85RPRt/GIeCpR4evHNeHU870FSa3x9wnsRpZwHjY6eoCn68W/m7DTOJ8uu
 SKRR4WDX2bNnhlRDNUOIZEp2F1mV0QOQ5aBvpHDRPM8317zimytAf/dFgha+Jif3sGlH
 nEoiYPq99R1W6G3DS2KygclqK6u5Z8SI9M7vRRQ2nZFLIVXKfOnZU6OE7l00ZapM1eff
 0hkcK1NUEzR4clB/YNPgqwG7s6MLAHc2fWmraPVCye2y3zVaofj9OoIhxAnp9G8MVc42
 Xg37SV8zQ8JnAYQmWpknSZnGxTwtyS/eh9ZKyosT/t1KqYERl2ZQLQO8ouc/xUpzkScW
 u5TA==
X-Gm-Message-State: AOJu0Yy4mlwE++0SOycXoCAKK4H9U5frh5Vbj60XCVHljq9yMId7aXr5
 /hvhMzvdB+IZKO0vBDgpLM3ddIiBn7OUH3XLE7Evm9ynMgnVpaSAVdoh7q1Lgemfa8f1mihDs4m
 Gz4gLngSIMHs319jgLYPQcSH6DV94kktufup94git
X-Google-Smtp-Source: AGHT+IEgxg6invJteHdOkuQyaz1igjxnZ1qw6qd0bhHuzWP76bLxbkWbUD1AQg+Wa1rj4IaG7fD/z3fxMD3Q
X-Received: by 2002:a17:902:c105:b0:1d7:88de:cff1 with SMTP id
 5-20020a170902c10500b001d788decff1mr7544386pli.53.1709547005114; 
 Mon, 04 Mar 2024 02:10:05 -0800 (PST)
Received: from postal.iol.unh.edu (postal.iol.unh.edu. [132.177.123.84])
 by smtp-relay.gmail.com with ESMTPS id
 x6-20020a170902a38600b001db5379cbb0sm259820pla.50.2024.03.04.02.10.04
 (version=TLS1_2 cipher=ECDHE-ECDSA-AES128-GCM-SHA256 bits=128/128);
 Mon, 04 Mar 2024 02:10:05 -0800 (PST)
X-Relaying-Domain: iol.unh.edu
Date: Mon, 04 Mar 2024 02:10:05 -0800 (PST)
Message-ID: <65e59dfd.170a0220.1d368.08b0SMTPIN_ADDED_MISSING@mx.google.com>
Received: from [172.17.0.7] (unknown [172.18.0.217])
 by postal.iol.unh.edu (Postfix) with ESMTP id 598376052712;
 Mon,  4 Mar 2024 05:10:04 -0500 (EST)
Subject: |SUCCESS| pw137843-137873 [PATCH] [33/33] net/ena: upgrade driver ve
From: dpdklab@iol.unh.edu
To: Test Report <test-report@dpdk.org>
Cc: dpdk-test-reports@iol.unh.edu
In-Reply-To: <20240304090136.861-34-shaibran@amazon.com>
References: <20240304090136.861-34-shaibran@amazon.com>
Content-Type: text/plain
X-BeenThere: test-report@dpdk.org
X-Mailman-Version: 2.1.29
Precedence: list
List-Id: automatic DPDK test reports <test-report.dpdk.org>
List-Unsubscribe: <https://mails.dpdk.org/options/test-report>,
 <mailto:test-report-request@dpdk.org?subject=unsubscribe>
List-Archive: <http://mails.dpdk.org/archives/test-report/>
List-Post: <mailto:test-report@dpdk.org>
List-Help: <mailto:test-report-request@dpdk.org?subject=help>
List-Subscribe: <https://mails.dpdk.org/listinfo/test-report>,
 <mailto:test-report-request@dpdk.org?subject=subscribe>
Errors-To: test-report-bounces@dpdk.org

Test-Label: iol-abi-testing
Test-Status: SUCCESS
http://dpdk.org/patch/137873

_Testing PASS_

Submitter: Brandes, Shai <shaibran@amazon.com>
Date: Monday, March 04 2024 09:01:36 
DPDK git baseline: Repo:dpdk
  Branch: master
  CommitID:d4d5bbe6791850987d6d28da675574a868e8274c

137843-137873 --> testing pass

Test environment and result as below:

+------------------+----------+
|   Environment    | abi_test |
+==================+==========+
| openSUSE Leap 15 | PASS     |
+------------------+----------+
| Debian Bullseye  | PASS     |
+------------------+----------+
| Debian 12 (arm)  | PASS     |
+------------------+----------+
| Fedora 38        | PASS     |
+------------------+----------+
| CentOS Stream 9  | PASS     |
+------------------+----------+
| Fedora 37        | PASS     |
+------------------+----------+
| CentOS Stream 8  | PASS     |
+------------------+----------+
| RHEL8            | PASS     |
+------------------+----------+
| Ubuntu 22.04     | PASS     |
+------------------+----------+


openSUSE Leap 15
	Kernel: 4.18.0-240.10.1.el8_3.x86_64
	Compiler: gcc 7.5.0

Debian Bullseye
	Kernel: 5.4.0-122-generic
	Compiler: gcc 10.2.1-6

Debian 12 (arm)
	Kernel: Container Host Kernel
	Compiler: gcc 11

Fedora 38
	Kernel: Depends on container host
	Compiler: clang 16.0.3

CentOS Stream 9
	Kernel: 4.18.0-240.10.1.el8_3.x86_64
	Compiler: gcc 11.3.1 20220421

Fedora 37
	Kernel: Depends on container host system
	Compiler: gcc 12.3.1

CentOS Stream 8
	Kernel: 4.18.0-240.10.1.el8_3.x86_64
	Compiler: gcc 8.4.1 20200928

RHEL8
	Kernel: 4.18.0-240.10.1.el8_3.x86_64
	Compiler: gcc 8.3.1 20191121 (Red Hat 8.3.1-5)

Ubuntu 22.04
	Kernel: 4.18.0-240.10.1.el8_3.x86_64
	Compiler: gcc 11.3.0

To view detailed results, visit:
https://lab.dpdk.org/results/dashboard/patchsets/29396/

UNH-IOL DPDK Community Lab

To manage your email subscriptions, visit: 
https://lab.dpdk.org/results/dashboard/preferences/subscriptions/