From mboxrd@z Thu Jan  1 00:00:00 1970
Return-Path: <test-report-bounces@dpdk.org>
Received: from mails.dpdk.org (mails.dpdk.org [217.70.189.124])
	by inbox.dpdk.org (Postfix) with ESMTP id 9FBB643B9D
	for <public@inbox.dpdk.org>; Mon,  4 Mar 2024 11:10:13 +0100 (CET)
Received: from mails.dpdk.org (localhost [127.0.0.1])
	by mails.dpdk.org (Postfix) with ESMTP id 996AE40267;
	Mon,  4 Mar 2024 11:10:13 +0100 (CET)
Received: from mail-yb1-f225.google.com (mail-yb1-f225.google.com
 [209.85.219.225])
 by mails.dpdk.org (Postfix) with ESMTP id D739E40262
 for <test-report@dpdk.org>; Mon,  4 Mar 2024 11:10:12 +0100 (CET)
Received: by mail-yb1-f225.google.com with SMTP id
 3f1490d57ef6-dc6d8bd612dso4298919276.1
 for <test-report@dpdk.org>; Mon, 04 Mar 2024 02:10:12 -0800 (PST)
DKIM-Signature: v=1; a=rsa-sha256; c=relaxed/relaxed;
 d=iol.unh.edu; s=unh-iol; t=1709547012; x=1710151812; darn=dpdk.org;
 h=references:in-reply-to:cc:to:from:subject:message-id:date:from:to
 :cc:subject:date:message-id:reply-to;
 bh=DNdBDGuonvK+upp6czDSF/kUcoZEYNWbgYS6PSQeDE4=;
 b=iIACpWZJLV5yvrSiUaI/Yl2shBPV9ljEukU8BOgiIUcjuOtj4+Eu3B9zkQmafOIF9+
 JLK9QIMb202Qi0wKhZ9ifxgMhijpqARhvoH33Wamh+rIEJ7hnnAIe2PfBfj91eH/xm8v
 8oD5SfCjKmQfZkLG+s4/meGzRcPVeV4vxBeZo=
X-Google-DKIM-Signature: v=1; a=rsa-sha256; c=relaxed/relaxed;
 d=1e100.net; s=20230601; t=1709547012; x=1710151812;
 h=references:in-reply-to:cc:to:from:subject:message-id:date
 :x-gm-message-state:from:to:cc:subject:date:message-id:reply-to;
 bh=DNdBDGuonvK+upp6czDSF/kUcoZEYNWbgYS6PSQeDE4=;
 b=XrTPeH1NIRBSZIr6JeFkipCow79bLJWkRF0rHBAjBFcDnrk2GQ30QnwPVICjuz4qWp
 E6BaEeLfeGyjBXIDXM8TCJELQs9EPDEH/F2OFmBeemeYqA8N4ZozO+JSR1wLSzfbFVy2
 BvGoNlt6J/9FuuwlaKiswNU9guqMA6qUsYh/xSDKd6tzanBGvbf3/6gxIL8FIN1p+QvT
 o/U2ddHKU+Bf3BqCKn56Vt42mcvO5quPARrkpUBKMoclPeHXRC342xw/DC/VM9QRuDh9
 iao8DwggB5uNnGN8291GyE9wRh8S++tSL9/5cnZp5zd9IT1HwBUdEolJtRV7IyHooVwZ
 C9Jw==
X-Gm-Message-State: AOJu0Yy88MNrh2aQNeccNuClzimseW0b4NHhQWp2mn9rmjHT1ECaZhcr
 lUklqVrZRVII2czm99HQIRk7kn0V5yqQkbcWB6V9WztpWvxd/muzqpBMBsE3AxHsbbd+SDavutf
 FDIV+4za4UJyxgmvlCtm3i0xzC5ERLtWSfRdBCJ4Y
X-Google-Smtp-Source: AGHT+IG18jNsRDXUuoC8vN0qnudGtJydNeg4qPcTbtfKZnaPI2E0g+z6+grBCqUVfYWj9w17AuQfmTgE5HJM
X-Received: by 2002:a5b:651:0:b0:dcc:383b:e48d with SMTP id
 o17-20020a5b0651000000b00dcc383be48dmr6240775ybq.26.1709547012291; 
 Mon, 04 Mar 2024 02:10:12 -0800 (PST)
Received: from postal.iol.unh.edu (postal.iol.unh.edu. [132.177.123.84])
 by smtp-relay.gmail.com with ESMTPS id
 n132-20020a25728a000000b00dbdb208b416sm537778ybc.35.2024.03.04.02.10.12
 (version=TLS1_2 cipher=ECDHE-ECDSA-AES128-GCM-SHA256 bits=128/128);
 Mon, 04 Mar 2024 02:10:12 -0800 (PST)
X-Relaying-Domain: iol.unh.edu
Date: Mon, 04 Mar 2024 02:10:12 -0800 (PST)
Message-ID: <65e59e04.250a0220.9bca6.1be8SMTPIN_ADDED_MISSING@mx.google.com>
Received: from [172.17.0.6] (unknown [172.18.0.217])
 by postal.iol.unh.edu (Postfix) with ESMTP id 056F86052712;
 Mon,  4 Mar 2024 05:10:12 -0500 (EST)
Subject: |SUCCESS| pw137843-137873 [PATCH] [33/33] net/ena: upgrade driver ve
From: dpdklab@iol.unh.edu
To: Test Report <test-report@dpdk.org>
Cc: dpdk-test-reports@iol.unh.edu
In-Reply-To: <20240304090136.861-34-shaibran@amazon.com>
References: <20240304090136.861-34-shaibran@amazon.com>
Content-Type: text/plain
X-BeenThere: test-report@dpdk.org
X-Mailman-Version: 2.1.29
Precedence: list
List-Id: automatic DPDK test reports <test-report.dpdk.org>
List-Unsubscribe: <https://mails.dpdk.org/options/test-report>,
 <mailto:test-report-request@dpdk.org?subject=unsubscribe>
List-Archive: <http://mails.dpdk.org/archives/test-report/>
List-Post: <mailto:test-report@dpdk.org>
List-Help: <mailto:test-report-request@dpdk.org?subject=help>
List-Subscribe: <https://mails.dpdk.org/listinfo/test-report>,
 <mailto:test-report-request@dpdk.org?subject=subscribe>
Errors-To: test-report-bounces@dpdk.org

Test-Label: iol-compile-amd64-testing
Test-Status: SUCCESS
http://dpdk.org/patch/137873

_Testing PASS_

Submitter: Brandes, Shai <shaibran@amazon.com>
Date: Monday, March 04 2024 09:01:36 
DPDK git baseline: Repo:dpdk
  Branch: master
  CommitID:d4d5bbe6791850987d6d28da675574a868e8274c

137843-137873 --> testing pass

Test environment and result as below:

+---------------------+--------------------+----------------------+
|     Environment     | dpdk_meson_compile | dpdk_mingw64_compile |
+=====================+====================+======================+
| CentOS Stream 9     | PASS               | SKIPPED              |
+---------------------+--------------------+----------------------+
| Windows Server 2022 | PASS               | SKIPPED              |
+---------------------+--------------------+----------------------+
| Debian Bullseye     | PASS               | SKIPPED              |
+---------------------+--------------------+----------------------+
| FreeBSD 13.2        | PASS               | SKIPPED              |
+---------------------+--------------------+----------------------+
| CentOS Stream 8     | PASS               | SKIPPED              |
+---------------------+--------------------+----------------------+
| Fedora 38           | PASS               | SKIPPED              |
+---------------------+--------------------+----------------------+
| openSUSE Leap 15    | PASS               | SKIPPED              |
+---------------------+--------------------+----------------------+
| Windows Server 2019 | PASS               | PASS                 |
+---------------------+--------------------+----------------------+
| Ubuntu 22.04        | PASS               | SKIPPED              |
+---------------------+--------------------+----------------------+
| RHEL8               | PASS               | SKIPPED              |
+---------------------+--------------------+----------------------+
| Ubuntu 20.04        | PASS               | SKIPPED              |
+---------------------+--------------------+----------------------+
| Fedora 37           | PASS               | SKIPPED              |
+---------------------+--------------------+----------------------+


CentOS Stream 9
	Kernel: 4.18.0-240.10.1.el8_3.x86_64
	Compiler: gcc 11.3.1 20220421

Windows Server 2022
	Kernel: OS Build 20348.2031
	Compiler: MSVC VS-Preview

Debian Bullseye
	Kernel: 5.4.0-122-generic
	Compiler: gcc 10.2.1-6

FreeBSD 13.2
	Kernel: 13.2
	Compiler: clang 11.3.0

CentOS Stream 8
	Kernel: 4.18.0-240.10.1.el8_3.x86_64
	Compiler: gcc 8.4.1 20200928

Fedora 38
	Kernel: Depends on container host
	Compiler: gcc 13.1.1

openSUSE Leap 15
	Kernel: 4.18.0-240.10.1.el8_3.x86_64
	Compiler: gcc 7.5.0

Windows Server 2019
	Kernel: 10.0
	Compiler: clang 14.0 and gcc 8.1.0 (MinGW)

Ubuntu 22.04
	Kernel: 4.18.0-240.10.1.el8_3.x86_64
	Compiler: gcc 11.3.0

RHEL8
	Kernel: 4.18.0-240.10.1.el8_3.x86_64
	Compiler: gcc 8.3.1 20191121 (Red Hat 8.3.1-5)

Ubuntu 20.04
	Kernel: 5.4.0-153-generic
	Compiler: gcc 9.4.0-1ubuntu1~20.04.1

Fedora 37
	Kernel: Depends on container host system
	Compiler: gcc 12.3.1

To view detailed results, visit:
https://lab.dpdk.org/results/dashboard/patchsets/29396/

UNH-IOL DPDK Community Lab

To manage your email subscriptions, visit: 
https://lab.dpdk.org/results/dashboard/preferences/subscriptions/