From mboxrd@z Thu Jan  1 00:00:00 1970
Return-Path: <test-report-bounces@dpdk.org>
Received: from mails.dpdk.org (mails.dpdk.org [217.70.189.124])
	by inbox.dpdk.org (Postfix) with ESMTP id EEAF543B81
	for <public@inbox.dpdk.org>; Mon,  4 Mar 2024 11:10:51 +0100 (CET)
Received: from mails.dpdk.org (localhost [127.0.0.1])
	by mails.dpdk.org (Postfix) with ESMTP id EB08A40267;
	Mon,  4 Mar 2024 11:10:51 +0100 (CET)
Received: from mail-il1-f225.google.com (mail-il1-f225.google.com
 [209.85.166.225])
 by mails.dpdk.org (Postfix) with ESMTP id A2CD840262
 for <test-report@dpdk.org>; Mon,  4 Mar 2024 11:10:51 +0100 (CET)
Received: by mail-il1-f225.google.com with SMTP id
 e9e14a558f8ab-365c9d37995so15062755ab.0
 for <test-report@dpdk.org>; Mon, 04 Mar 2024 02:10:51 -0800 (PST)
DKIM-Signature: v=1; a=rsa-sha256; c=relaxed/relaxed;
 d=iol.unh.edu; s=unh-iol; t=1709547051; x=1710151851; darn=dpdk.org;
 h=references:in-reply-to:cc:to:from:subject:message-id:date:from:to
 :cc:subject:date:message-id:reply-to;
 bh=HbVM4GC+NELzrc8dSQsGNy54+mQi768UG5RSWfTUd5I=;
 b=Snzb5G/d8ICLUVN7qLvtJM7jAg8UtI68AJKGWGVI3AAdzOU+VygrKF0G+YEWMkdHBz
 WzLiUKS7UB91g13YmQgwQI0PlWxSyvmNeMOVXUghDKMYEnWd79m9oNnk8FyAw437DLqP
 5xTCsNDGDaW9CTmXciJodkqTzMMycFNMH+R90=
X-Google-DKIM-Signature: v=1; a=rsa-sha256; c=relaxed/relaxed;
 d=1e100.net; s=20230601; t=1709547051; x=1710151851;
 h=references:in-reply-to:cc:to:from:subject:message-id:date
 :x-gm-message-state:from:to:cc:subject:date:message-id:reply-to;
 bh=HbVM4GC+NELzrc8dSQsGNy54+mQi768UG5RSWfTUd5I=;
 b=Qdf8vnisNnE1u0zRR3/gQ/BtO0OQgU0xpusCreWh1Zs9Zdt8kryTbhJBMaZQL3T5NV
 168m3Wg/ePdrJyaTmajsZl6gG/fEurFTpeNp5oApcKsYOXwjm1Ct7qXklTBwJyRoz7Fr
 Ueq7sldblGVt0TIp6zwb0onKHlbdU4l+1KB9wM//pnpXfOL0An9LAs/ANg72YlrIaXXF
 kUm5G7jXdpArMoGl2u6w4eUaag3U8gEKOAd208zQuSkm0iqRUsInq8SWOuk89LyKFBbx
 6tAs64VwKjEryOXkKKPr2TDeLkux7weG62J9JoDomaTMCs5V6Z0CAs1vBiR1v3Dcd2e1
 mSUQ==
X-Gm-Message-State: AOJu0YxG+3FEPbTC/c72LsBso05GpmcQ7qb46C2XdYFWYGwW/wsJBjVq
 jRrh7r055ZNfjZ/StUGWAMRYSd8F6PG2xEFGvml9QR0nAgXttXKGOs91l6Cc5bgtWOvsRYQkYut
 JxC01lyv4ZpoADhyP1eij0GNfjBxdfuN6tdE5srX26/wEdoAdEnAl4WFK
X-Google-Smtp-Source: AGHT+IE0TyBNvxY9KwAqbvcI7D3TDrA9ecyBuM1sLp+zp84fTvTojUinhiOthyDLZm0j8zIGtY44Cv3qWIji
X-Received: by 2002:a92:cda9:0:b0:364:216e:d1dc with SMTP id
 g9-20020a92cda9000000b00364216ed1dcmr12848494ild.22.1709547051142; 
 Mon, 04 Mar 2024 02:10:51 -0800 (PST)
Received: from postal.iol.unh.edu (postal.iol.unh.edu.
 [2606:4100:3880:1234::84]) by smtp-relay.gmail.com with ESMTPS id
 y4-20020a056a00180400b006e6276ac8adsm60919pfa.25.2024.03.04.02.10.51
 (version=TLS1_2 cipher=ECDHE-ECDSA-AES128-GCM-SHA256 bits=128/128);
 Mon, 04 Mar 2024 02:10:51 -0800 (PST)
X-Relaying-Domain: iol.unh.edu
Date: Mon, 04 Mar 2024 02:10:51 -0800 (PST)
Message-ID: <65e59e2b.050a0220.bdadb.285eSMTPIN_ADDED_MISSING@mx.google.com>
Received: from [172.17.0.7] (unknown [172.18.0.217])
 by postal.iol.unh.edu (Postfix) with ESMTP id 9864E6052712;
 Mon,  4 Mar 2024 05:10:50 -0500 (EST)
Subject: |SUCCESS| pw137843-137873 [PATCH] [33/33] net/ena: upgrade driver ve
From: dpdklab@iol.unh.edu
To: Test Report <test-report@dpdk.org>
Cc: dpdk-test-reports@iol.unh.edu
In-Reply-To: <20240304090136.861-34-shaibran@amazon.com>
References: <20240304090136.861-34-shaibran@amazon.com>
Content-Type: text/plain
X-BeenThere: test-report@dpdk.org
X-Mailman-Version: 2.1.29
Precedence: list
List-Id: automatic DPDK test reports <test-report.dpdk.org>
List-Unsubscribe: <https://mails.dpdk.org/options/test-report>,
 <mailto:test-report-request@dpdk.org?subject=unsubscribe>
List-Archive: <http://mails.dpdk.org/archives/test-report/>
List-Post: <mailto:test-report@dpdk.org>
List-Help: <mailto:test-report-request@dpdk.org?subject=help>
List-Subscribe: <https://mails.dpdk.org/listinfo/test-report>,
 <mailto:test-report-request@dpdk.org?subject=subscribe>
Errors-To: test-report-bounces@dpdk.org

Test-Label: iol-abi-testing
Test-Status: SUCCESS
http://dpdk.org/patch/137873

_Testing PASS_

Submitter: Brandes, Shai <shaibran@amazon.com>
Date: Monday, March 04 2024 09:01:36 
DPDK git baseline: Repo:dpdk
  Branch: master
  CommitID:d4d5bbe6791850987d6d28da675574a868e8274c

137843-137873 --> testing pass

Test environment and result as below:

+------------------+----------+
|   Environment    | abi_test |
+==================+==========+
| openSUSE Leap 15 | PASS     |
+------------------+----------+
| Debian Bullseye  | PASS     |
+------------------+----------+
| Debian 12 (arm)  | PASS     |
+------------------+----------+
| Fedora 38        | PASS     |
+------------------+----------+
| CentOS Stream 9  | PASS     |
+------------------+----------+
| Fedora 37        | PASS     |
+------------------+----------+
| CentOS Stream 8  | PASS     |
+------------------+----------+
| RHEL8            | PASS     |
+------------------+----------+
| Ubuntu 22.04     | PASS     |
+------------------+----------+


openSUSE Leap 15
	Kernel: 4.18.0-240.10.1.el8_3.x86_64
	Compiler: gcc 7.5.0

Debian Bullseye
	Kernel: 5.4.0-122-generic
	Compiler: gcc 10.2.1-6

Debian 12 (arm)
	Kernel: Container Host Kernel
	Compiler: gcc 11

Fedora 38
	Kernel: Depends on container host
	Compiler: clang 16.0.3

CentOS Stream 9
	Kernel: 4.18.0-240.10.1.el8_3.x86_64
	Compiler: gcc 11.3.1 20220421

Fedora 37
	Kernel: Depends on container host system
	Compiler: gcc 12.3.1

CentOS Stream 8
	Kernel: 4.18.0-240.10.1.el8_3.x86_64
	Compiler: gcc 8.4.1 20200928

RHEL8
	Kernel: 4.18.0-240.10.1.el8_3.x86_64
	Compiler: gcc 8.3.1 20191121 (Red Hat 8.3.1-5)

Ubuntu 22.04
	Kernel: 4.18.0-240.10.1.el8_3.x86_64
	Compiler: gcc 11.3.0

To view detailed results, visit:
https://lab.dpdk.org/results/dashboard/patchsets/29396/

UNH-IOL DPDK Community Lab

To manage your email subscriptions, visit: 
https://lab.dpdk.org/results/dashboard/preferences/subscriptions/