From mboxrd@z Thu Jan  1 00:00:00 1970
Return-Path: <test-report-bounces@dpdk.org>
Received: from mails.dpdk.org (mails.dpdk.org [217.70.189.124])
	by inbox.dpdk.org (Postfix) with ESMTP id 9353A43B81
	for <public@inbox.dpdk.org>; Mon,  4 Mar 2024 11:11:20 +0100 (CET)
Received: from mails.dpdk.org (localhost [127.0.0.1])
	by mails.dpdk.org (Postfix) with ESMTP id 8B63640267;
	Mon,  4 Mar 2024 11:11:20 +0100 (CET)
Received: from mail-pg1-f227.google.com (mail-pg1-f227.google.com
 [209.85.215.227])
 by mails.dpdk.org (Postfix) with ESMTP id 7D3B740262
 for <test-report@dpdk.org>; Mon,  4 Mar 2024 11:11:18 +0100 (CET)
Received: by mail-pg1-f227.google.com with SMTP id
 41be03b00d2f7-5c6bd3100fcso3052129a12.3
 for <test-report@dpdk.org>; Mon, 04 Mar 2024 02:11:18 -0800 (PST)
DKIM-Signature: v=1; a=rsa-sha256; c=relaxed/relaxed;
 d=iol.unh.edu; s=unh-iol; t=1709547077; x=1710151877; darn=dpdk.org;
 h=references:in-reply-to:cc:to:from:subject:message-id:date:from:to
 :cc:subject:date:message-id:reply-to;
 bh=CDWWTZbb4ZK0HwwkoBppvcg1flmb4Kc6p3LKIY5zrW4=;
 b=Mx1l/O18VX/M6AA5g73iZRCq79U/l1D4uv4U1RH3xUf41jl3ti9IxeSxH/YrZXCooG
 pZMxwgOeXZUV8BfA7K3ZK6J2ZTc5O4NoWcMLo6BxRXn0IslWQ7mCfOHo1uU83NMyo6zr
 h6vlhqPkScmdKwbBXmz0eXEgoc8RfOXEcSAJs=
X-Google-DKIM-Signature: v=1; a=rsa-sha256; c=relaxed/relaxed;
 d=1e100.net; s=20230601; t=1709547077; x=1710151877;
 h=references:in-reply-to:cc:to:from:subject:message-id:date
 :x-gm-message-state:from:to:cc:subject:date:message-id:reply-to;
 bh=CDWWTZbb4ZK0HwwkoBppvcg1flmb4Kc6p3LKIY5zrW4=;
 b=YbQ89CP5a8Q3kwrxrtf6x4j/t4ufuyd6dcoaZquF5r3rATuz9r7n9IvknEkVvCqRTH
 mTs5hNa2BffeohJEftd1JNQEbj1TRBmqxTnjypHwk/E85RMjGv+/DTLwVw5WYQXk298P
 txewpUuYpM/i24qzVoEj9BYsXr+PyMOkHHxULgNWl7aW1r2vWAk1GZFZAJGJ6KoFNAti
 6GBmn5wo6xtjgpttHql59uG5Y4hW7j6Dx3aiBB8dNEe+iCuin30jFT6I4YzFmd8D455G
 poHxd+LT1jnaYdCM5Tw6+hpEtOqpyXcWt5H7jCNFqzivXpzO+jjTqDK63RdEjUYby6MB
 B5kQ==
X-Gm-Message-State: AOJu0YyRfMV5yY+LcQO2xyjOLtfD9mPEe68bV7AgsKuvVsRTAAernLW0
 YZLXCFcM3Nmq2+6cWP03XYDU442rUOAUv+aG2Bw6oOfegTFBxxerM2o2cLOMMeBVjhUV3ToMJBm
 UrFU/h2ZcIKDQ+jiL+VpxHbDV57pnNwpZhxwSTRlvVNBE23Uad4F6WChe
X-Google-Smtp-Source: AGHT+IGBK0vkgr0dufdDiM0ooUJLDr3jH9MGlybk9zQ9VfOi7kbWYxG9S9EmPnZUOz9R+XA+Y/oAd8jBW3x6
X-Received: by 2002:a05:6a21:1693:b0:1a1:209b:fb87 with SMTP id
 np19-20020a056a21169300b001a1209bfb87mr5858445pzb.37.1709547077682; 
 Mon, 04 Mar 2024 02:11:17 -0800 (PST)
Received: from postal.iol.unh.edu (postal.iol.unh.edu.
 [2606:4100:3880:1234::84]) by smtp-relay.gmail.com with ESMTPS id
 b17-20020a056a000a9100b006e615ca19fesm108468pfl.4.2024.03.04.02.11.17
 (version=TLS1_2 cipher=ECDHE-ECDSA-AES128-GCM-SHA256 bits=128/128);
 Mon, 04 Mar 2024 02:11:17 -0800 (PST)
X-Relaying-Domain: iol.unh.edu
Date: Mon, 04 Mar 2024 02:11:17 -0800 (PST)
Message-ID: <65e59e45.050a0220.073d.5a87SMTPIN_ADDED_MISSING@mx.google.com>
Received: from [172.17.0.7] (unknown [172.18.0.217])
 by postal.iol.unh.edu (Postfix) with ESMTP id 29EA96052712;
 Mon,  4 Mar 2024 05:11:17 -0500 (EST)
Subject: |SUCCESS| pw137843-137873 [PATCH] [33/33] net/ena: upgrade driver ve
From: dpdklab@iol.unh.edu
To: Test Report <test-report@dpdk.org>
Cc: dpdk-test-reports@iol.unh.edu
In-Reply-To: <20240304090136.861-34-shaibran@amazon.com>
References: <20240304090136.861-34-shaibran@amazon.com>
Content-Type: text/plain
X-BeenThere: test-report@dpdk.org
X-Mailman-Version: 2.1.29
Precedence: list
List-Id: automatic DPDK test reports <test-report.dpdk.org>
List-Unsubscribe: <https://mails.dpdk.org/options/test-report>,
 <mailto:test-report-request@dpdk.org?subject=unsubscribe>
List-Archive: <http://mails.dpdk.org/archives/test-report/>
List-Post: <mailto:test-report@dpdk.org>
List-Help: <mailto:test-report-request@dpdk.org?subject=help>
List-Subscribe: <https://mails.dpdk.org/listinfo/test-report>,
 <mailto:test-report-request@dpdk.org?subject=subscribe>
Errors-To: test-report-bounces@dpdk.org

Test-Label: iol-compile-arm64-testing
Test-Status: SUCCESS
http://dpdk.org/patch/137873

_Testing PASS_

Submitter: Brandes, Shai <shaibran@amazon.com>
Date: Monday, March 04 2024 09:01:36 
DPDK git baseline: Repo:dpdk
  Branch: master
  CommitID:d4d5bbe6791850987d6d28da675574a868e8274c

137843-137873 --> testing pass

Test environment and result as below:

+------------------------------------+--------------------+
|            Environment             | dpdk_meson_compile |
+====================================+====================+
| Ubuntu 20.04 ARM SVE               | PASS               |
+------------------------------------+--------------------+
| Fedora 37 (ARM)                    | PASS               |
+------------------------------------+--------------------+
| Fedora 38 (ARM)                    | PASS               |
+------------------------------------+--------------------+
| Debian 12 (arm)                    | PASS               |
+------------------------------------+--------------------+
| CentOS Stream 9 (ARM)              | PASS               |
+------------------------------------+--------------------+
| Ubuntu 20.04 (ARM)                 | PASS               |
+------------------------------------+--------------------+
| Ubuntu 20.04 ARM GCC Cross Compile | PASS               |
+------------------------------------+--------------------+
| Debian 11 (Buster) (ARM)           | PASS               |
+------------------------------------+--------------------+


Ubuntu 20.04 ARM SVE
	Kernel: 5.4.0-80-generic
	Compiler: gcc 10.3.0 (Ubuntu 10.3.0-1ubuntu1~20.04)

Fedora 37 (ARM)
	Kernel: Depends on container host
	Compiler: gcc 12.3.1

Fedora 38 (ARM)
	Kernel: Depends on container host
	Compiler: gcc 13.1.1

Debian 12 (arm)
	Kernel: Container Host Kernel
	Compiler: gcc 11

CentOS Stream 9 (ARM)
	Kernel: Container Host Kernel
	Compiler: gcc 11.3.1

Ubuntu 20.04 (ARM)
	Kernel: Container Host Kernel
	Compiler: gcc 9.4.0

Ubuntu 20.04 ARM GCC Cross Compile
	Kernel: 5.4.0-72-generic
	Compiler: aarch64-linux-gnu-gcc (Ubuntu 9.3.0-17ubuntu1~20.04) 9.3.0

Debian 11 (Buster) (ARM)
	Kernel: Container Host Kernel
	Compiler: gcc 10.2.1

To view detailed results, visit:
https://lab.dpdk.org/results/dashboard/patchsets/29396/

UNH-IOL DPDK Community Lab

To manage your email subscriptions, visit: 
https://lab.dpdk.org/results/dashboard/preferences/subscriptions/