From mboxrd@z Thu Jan  1 00:00:00 1970
Return-Path: <test-report-bounces@dpdk.org>
Received: from mails.dpdk.org (mails.dpdk.org [217.70.189.124])
	by inbox.dpdk.org (Postfix) with ESMTP id 0100543B8A
	for <public@inbox.dpdk.org>; Mon,  4 Mar 2024 11:11:55 +0100 (CET)
Received: from mails.dpdk.org (localhost [127.0.0.1])
	by mails.dpdk.org (Postfix) with ESMTP id F0DED40267;
	Mon,  4 Mar 2024 11:11:54 +0100 (CET)
Received: from mail-qt1-f225.google.com (mail-qt1-f225.google.com
 [209.85.160.225])
 by mails.dpdk.org (Postfix) with ESMTP id 8025840262
 for <test-report@dpdk.org>; Mon,  4 Mar 2024 11:11:53 +0100 (CET)
Received: by mail-qt1-f225.google.com with SMTP id
 d75a77b69052e-42ef1822b07so3254241cf.0
 for <test-report@dpdk.org>; Mon, 04 Mar 2024 02:11:53 -0800 (PST)
DKIM-Signature: v=1; a=rsa-sha256; c=relaxed/relaxed;
 d=iol.unh.edu; s=unh-iol; t=1709547113; x=1710151913; darn=dpdk.org;
 h=references:in-reply-to:cc:to:from:subject:message-id:date:from:to
 :cc:subject:date:message-id:reply-to;
 bh=/r2UlMcgdoigq/RMm7UEuYM56YOMSXd3NbiHnDcQB0Q=;
 b=PZYCW5q9FHHhhgK4hdZSsG14fyPHfGAs1/cW4lCnKX2iAO/h6WCC9+88JYRoMqpcte
 uU58aQAMsn3rJWgb1ZjZHH6zjKWbQD3MLWknBYmQNxIIeTKqwedPUI5QZsSWf77W4k+e
 KJl2VlrDpyhtRK+YuWFeFwWzo2uKO4uWpJf4c=
X-Google-DKIM-Signature: v=1; a=rsa-sha256; c=relaxed/relaxed;
 d=1e100.net; s=20230601; t=1709547113; x=1710151913;
 h=references:in-reply-to:cc:to:from:subject:message-id:date
 :x-gm-message-state:from:to:cc:subject:date:message-id:reply-to;
 bh=/r2UlMcgdoigq/RMm7UEuYM56YOMSXd3NbiHnDcQB0Q=;
 b=ATe2y1m3LiOgnTHNn3mOs6oCc4L6dzY1iA4NZ0w0teBKZu7w4Qm98XpWTM1FePz30A
 8phUdsusUAHxWKOnuMuQ5uxcttHs3mUHvhWizeT7Z2D/tNrPTT6I9AKfgcIuemh16ZBo
 ccKhlBKZFPNW+PH4IlAYoI2VXEYZ+6Ndu2rasHoNj7BpzTcRg00a/slh+e0kv4dzvMUo
 TNz+paxMLUoF45emowViHwj9A4Lkn9cl0iSNxr+eEnwZNTPImlD9rRg4aTxPspb6XvuV
 gkK/Ack3BQoqMgcN9YpHQ3huQLibfFK8SdkliCopzsPj17VbrY83/P8HpIUmD+Ofi1FZ
 b5Pw==
X-Gm-Message-State: AOJu0Yw4MJ4bzFz0KkIWq8i2qAHfsNhO1m/rbzqG5a+5Rvd2AALjDmVY
 Juwz5rdx20CUpQ4broUQfWUFeDfLkOYNvjU9vVnEPwjrmRtktmrUchVb71PjkKh8UzkZjaqt/a1
 WdqzWdb9VLIDMOpcFgjwS1JcbqT5/mgEODJI+dkcJ6Bvd7i+pYakBI6ZR
X-Google-Smtp-Source: AGHT+IG34IQh6vIiab8/5AYYX1l4nbl5dz9InmjvB+0M82RKitGcOnkbELFZ12f+W6BFO+0S+U/jDkeH1hFB
X-Received: by 2002:ac8:5bcf:0:b0:42e:7999:3f58 with SMTP id
 b15-20020ac85bcf000000b0042e79993f58mr9721295qtb.57.1709547113074; 
 Mon, 04 Mar 2024 02:11:53 -0800 (PST)
Received: from postal.iol.unh.edu (postal.iol.unh.edu.
 [2606:4100:3880:1234::84]) by smtp-relay.gmail.com with ESMTPS id
 fy22-20020a05622a5a1600b0042edb84b9c1sm339392qtb.18.2024.03.04.02.11.52
 (version=TLS1_2 cipher=ECDHE-ECDSA-AES128-GCM-SHA256 bits=128/128);
 Mon, 04 Mar 2024 02:11:53 -0800 (PST)
X-Relaying-Domain: iol.unh.edu
Date: Mon, 04 Mar 2024 02:11:53 -0800 (PST)
Message-ID: <65e59e69.050a0220.c320c.4c10SMTPIN_ADDED_MISSING@mx.google.com>
Received: from [172.17.0.7] (unknown [172.18.0.217])
 by postal.iol.unh.edu (Postfix) with ESMTP id C74276052712;
 Mon,  4 Mar 2024 05:11:52 -0500 (EST)
Subject: |SUCCESS| pw137843-137873 [PATCH] [33/33] net/ena: upgrade driver ve
From: dpdklab@iol.unh.edu
To: Test Report <test-report@dpdk.org>
Cc: dpdk-test-reports@iol.unh.edu
In-Reply-To: <20240304090136.861-34-shaibran@amazon.com>
References: <20240304090136.861-34-shaibran@amazon.com>
Content-Type: text/plain
X-BeenThere: test-report@dpdk.org
X-Mailman-Version: 2.1.29
Precedence: list
List-Id: automatic DPDK test reports <test-report.dpdk.org>
List-Unsubscribe: <https://mails.dpdk.org/options/test-report>,
 <mailto:test-report-request@dpdk.org?subject=unsubscribe>
List-Archive: <http://mails.dpdk.org/archives/test-report/>
List-Post: <mailto:test-report@dpdk.org>
List-Help: <mailto:test-report-request@dpdk.org?subject=help>
List-Subscribe: <https://mails.dpdk.org/listinfo/test-report>,
 <mailto:test-report-request@dpdk.org?subject=subscribe>
Errors-To: test-report-bounces@dpdk.org

Test-Label: iol-compile-amd64-testing
Test-Status: SUCCESS
http://dpdk.org/patch/137873

_Testing PASS_

Submitter: Brandes, Shai <shaibran@amazon.com>
Date: Monday, March 04 2024 09:01:36 
DPDK git baseline: Repo:dpdk
  Branch: master
  CommitID:d4d5bbe6791850987d6d28da675574a868e8274c

137843-137873 --> testing pass

Test environment and result as below:

+---------------------+--------------------+----------------------+
|     Environment     | dpdk_meson_compile | dpdk_mingw64_compile |
+=====================+====================+======================+
| CentOS Stream 9     | PASS               | SKIPPED              |
+---------------------+--------------------+----------------------+
| Windows Server 2022 | PASS               | SKIPPED              |
+---------------------+--------------------+----------------------+
| Debian Bullseye     | PASS               | SKIPPED              |
+---------------------+--------------------+----------------------+
| FreeBSD 13.2        | PASS               | SKIPPED              |
+---------------------+--------------------+----------------------+
| CentOS Stream 8     | PASS               | SKIPPED              |
+---------------------+--------------------+----------------------+
| Fedora 38           | PASS               | SKIPPED              |
+---------------------+--------------------+----------------------+
| openSUSE Leap 15    | PASS               | SKIPPED              |
+---------------------+--------------------+----------------------+
| Windows Server 2019 | PASS               | PASS                 |
+---------------------+--------------------+----------------------+
| Ubuntu 22.04        | PASS               | SKIPPED              |
+---------------------+--------------------+----------------------+
| RHEL8               | PASS               | SKIPPED              |
+---------------------+--------------------+----------------------+
| Ubuntu 20.04        | PASS               | SKIPPED              |
+---------------------+--------------------+----------------------+
| Fedora 37           | PASS               | SKIPPED              |
+---------------------+--------------------+----------------------+
| Debian 12 (arm)     | PASS               | SKIPPED              |
+---------------------+--------------------+----------------------+


CentOS Stream 9
	Kernel: 4.18.0-240.10.1.el8_3.x86_64
	Compiler: gcc 11.3.1 20220421

Windows Server 2022
	Kernel: OS Build 20348.2031
	Compiler: MSVC VS-Preview

Debian Bullseye
	Kernel: 5.4.0-122-generic
	Compiler: gcc 10.2.1-6

FreeBSD 13.2
	Kernel: 13.2
	Compiler: clang 11.3.0

CentOS Stream 8
	Kernel: 4.18.0-240.10.1.el8_3.x86_64
	Compiler: gcc 8.4.1 20200928

Fedora 38
	Kernel: Depends on container host
	Compiler: gcc 13.1.1

openSUSE Leap 15
	Kernel: 4.18.0-240.10.1.el8_3.x86_64
	Compiler: gcc 7.5.0

Windows Server 2019
	Kernel: 10.0
	Compiler: clang 14.0 and gcc 8.1.0 (MinGW)

Ubuntu 22.04
	Kernel: 4.18.0-240.10.1.el8_3.x86_64
	Compiler: gcc 11.3.0

RHEL8
	Kernel: 4.18.0-240.10.1.el8_3.x86_64
	Compiler: gcc 8.3.1 20191121 (Red Hat 8.3.1-5)

Ubuntu 20.04
	Kernel: 5.4.0-153-generic
	Compiler: gcc 9.4.0-1ubuntu1~20.04.1

Fedora 37
	Kernel: Depends on container host system
	Compiler: gcc 12.3.1

Debian 12 (arm)
	Kernel: Container Host Kernel
	Compiler: gcc 11

To view detailed results, visit:
https://lab.dpdk.org/results/dashboard/patchsets/29396/

UNH-IOL DPDK Community Lab

To manage your email subscriptions, visit: 
https://lab.dpdk.org/results/dashboard/preferences/subscriptions/