From mboxrd@z Thu Jan  1 00:00:00 1970
Return-Path: <test-report-bounces@dpdk.org>
Received: from mails.dpdk.org (mails.dpdk.org [217.70.189.124])
	by inbox.dpdk.org (Postfix) with ESMTP id ACD5243B8E
	for <public@inbox.dpdk.org>; Mon,  4 Mar 2024 11:16:27 +0100 (CET)
Received: from mails.dpdk.org (localhost [127.0.0.1])
	by mails.dpdk.org (Postfix) with ESMTP id 9522740267;
	Mon,  4 Mar 2024 11:16:27 +0100 (CET)
Received: from mail-oi1-f227.google.com (mail-oi1-f227.google.com
 [209.85.167.227])
 by mails.dpdk.org (Postfix) with ESMTP id D550740262
 for <test-report@dpdk.org>; Mon,  4 Mar 2024 11:16:26 +0100 (CET)
Received: by mail-oi1-f227.google.com with SMTP id
 5614622812f47-3c1ebd4c228so468441b6e.2
 for <test-report@dpdk.org>; Mon, 04 Mar 2024 02:16:26 -0800 (PST)
DKIM-Signature: v=1; a=rsa-sha256; c=relaxed/relaxed;
 d=iol.unh.edu; s=unh-iol; t=1709547386; x=1710152186; darn=dpdk.org;
 h=references:in-reply-to:cc:to:from:subject:message-id:date:from:to
 :cc:subject:date:message-id:reply-to;
 bh=e0PcfwCN/W4PGWhZwIIXo637lLa7XPAiXpYqo6pwmR8=;
 b=F/AUzQTONBe/mbCHZ2rLP2LADmQc/P1l7NtNt1/zK8piayVN1MUbryg+WFiTiaoh1e
 C2qALw9CPpv0Po+8e9ob4z2yete/4tUgKltyUkmfPPRdgHtTXWeOo+BOtsbOHr2NelBx
 jfHH772xYkm0pa4hcbUEFsLbZaZOdI7oYSKDc=
X-Google-DKIM-Signature: v=1; a=rsa-sha256; c=relaxed/relaxed;
 d=1e100.net; s=20230601; t=1709547386; x=1710152186;
 h=references:in-reply-to:cc:to:from:subject:message-id:date
 :x-gm-message-state:from:to:cc:subject:date:message-id:reply-to;
 bh=e0PcfwCN/W4PGWhZwIIXo637lLa7XPAiXpYqo6pwmR8=;
 b=AHRIetX1oj9FK9+2I4QyaL2hcS1qdoFqciwQCWbVLhi/aqqzu7eQrRxnkh14kJNQbI
 cyQ3tnKuSFt0+7G2xrIhS2gVqKnVWvfqYsAVq/nAgWD3tVd7yJSL9RC+lp2B2I8jba5x
 NHQJgyriXPJyvfU1BL+R2bdg1WP7oKpzBnW01MtmJI1gpR4h4Ec38pfp3iycihA4Esxw
 aFqBHtS4TLMQF3Ar1T3dpsPVnEjWAXUUhcLApQTPsqxbt36ejTTFfcr5+k1Q6SfrhH3D
 UpKzW1zOYkYkESq+EftsEBLmvfiTAk/8NWxkJ/pXUQp+C6CO6qJtH6nnbe7cXrrPEFXJ
 XCpg==
X-Gm-Message-State: AOJu0YwRRsdVPo30OT1HespL2PbYVGPYhIOpg2hAqzB4SeexClS2uTX7
 yR3D+wnyFhCNTsuTZnst0HXurKlwkYIu8D8CVPJUIkQDVHALhIrzOLlT8aOVoBu8bpHJVa7f1Mz
 1kmoyK+ZXTLxrU4m7ubqF4FxrGKt/fenlLn5R3bX+Sf84pUycX6MKUSrC
X-Google-Smtp-Source: AGHT+IEc/1tnRXSSJdlO1rvjejjzToXHYgjEpmXV7VXvQFA54GzusFgQeKs27mozlb4sBW9lRUiTZRKSZc6F
X-Received: by 2002:a05:6808:13d3:b0:3c1:7c55:373f with SMTP id
 d19-20020a05680813d300b003c17c55373fmr10336934oiw.6.1709547386186; 
 Mon, 04 Mar 2024 02:16:26 -0800 (PST)
Received: from postal.iol.unh.edu (postal.iol.unh.edu.
 [2606:4100:3880:1234::84]) by smtp-relay.gmail.com with ESMTPS id
 cq7-20020a05622a424700b0042eea427303sm238016qtb.15.2024.03.04.02.16.26
 (version=TLS1_2 cipher=ECDHE-ECDSA-AES128-GCM-SHA256 bits=128/128);
 Mon, 04 Mar 2024 02:16:26 -0800 (PST)
X-Relaying-Domain: iol.unh.edu
Date: Mon, 04 Mar 2024 02:16:26 -0800 (PST)
Message-ID: <65e59f7a.050a0220.7067a.d698SMTPIN_ADDED_MISSING@mx.google.com>
Received: from [172.17.0.6] (unknown [172.18.0.217])
 by postal.iol.unh.edu (Postfix) with ESMTP id D74D16052712;
 Mon,  4 Mar 2024 05:16:25 -0500 (EST)
Subject: |SUCCESS| pw137843-137873 [PATCH] [33/33] net/ena: upgrade driver ve
From: dpdklab@iol.unh.edu
To: Test Report <test-report@dpdk.org>
Cc: dpdk-test-reports@iol.unh.edu
In-Reply-To: <20240304090136.861-34-shaibran@amazon.com>
References: <20240304090136.861-34-shaibran@amazon.com>
Content-Type: text/plain
X-BeenThere: test-report@dpdk.org
X-Mailman-Version: 2.1.29
Precedence: list
List-Id: automatic DPDK test reports <test-report.dpdk.org>
List-Unsubscribe: <https://mails.dpdk.org/options/test-report>,
 <mailto:test-report-request@dpdk.org?subject=unsubscribe>
List-Archive: <http://mails.dpdk.org/archives/test-report/>
List-Post: <mailto:test-report@dpdk.org>
List-Help: <mailto:test-report-request@dpdk.org?subject=help>
List-Subscribe: <https://mails.dpdk.org/listinfo/test-report>,
 <mailto:test-report-request@dpdk.org?subject=subscribe>
Errors-To: test-report-bounces@dpdk.org

Test-Label: iol-compile-amd64-testing
Test-Status: SUCCESS
http://dpdk.org/patch/137873

_Testing PASS_

Submitter: Brandes, Shai <shaibran@amazon.com>
Date: Monday, March 04 2024 09:01:36 
DPDK git baseline: Repo:dpdk
  Branch: master
  CommitID:d4d5bbe6791850987d6d28da675574a868e8274c

137843-137873 --> testing pass

Test environment and result as below:

+---------------------+--------------------+----------------------+
|     Environment     | dpdk_meson_compile | dpdk_mingw64_compile |
+=====================+====================+======================+
| CentOS Stream 9     | PASS               | SKIPPED              |
+---------------------+--------------------+----------------------+
| Windows Server 2022 | PASS               | SKIPPED              |
+---------------------+--------------------+----------------------+
| Debian Bullseye     | PASS               | SKIPPED              |
+---------------------+--------------------+----------------------+
| FreeBSD 13.2        | PASS               | SKIPPED              |
+---------------------+--------------------+----------------------+
| CentOS Stream 8     | PASS               | SKIPPED              |
+---------------------+--------------------+----------------------+
| Fedora 38           | PASS               | SKIPPED              |
+---------------------+--------------------+----------------------+
| openSUSE Leap 15    | PASS               | SKIPPED              |
+---------------------+--------------------+----------------------+
| Windows Server 2019 | PASS               | PASS                 |
+---------------------+--------------------+----------------------+
| Ubuntu 22.04        | PASS               | SKIPPED              |
+---------------------+--------------------+----------------------+
| RHEL8               | PASS               | SKIPPED              |
+---------------------+--------------------+----------------------+
| Ubuntu 20.04        | PASS               | SKIPPED              |
+---------------------+--------------------+----------------------+
| Fedora 37           | PASS               | SKIPPED              |
+---------------------+--------------------+----------------------+
| Debian 12 (arm)     | PASS               | SKIPPED              |
+---------------------+--------------------+----------------------+
| Alpine              | PASS               | SKIPPED              |
+---------------------+--------------------+----------------------+


CentOS Stream 9
	Kernel: 4.18.0-240.10.1.el8_3.x86_64
	Compiler: gcc 11.3.1 20220421

Windows Server 2022
	Kernel: OS Build 20348.2031
	Compiler: MSVC VS-Preview

Debian Bullseye
	Kernel: 5.4.0-122-generic
	Compiler: gcc 10.2.1-6

FreeBSD 13.2
	Kernel: 13.2
	Compiler: clang 11.3.0

CentOS Stream 8
	Kernel: 4.18.0-240.10.1.el8_3.x86_64
	Compiler: gcc 8.4.1 20200928

Fedora 38
	Kernel: Depends on container host
	Compiler: gcc 13.1.1

openSUSE Leap 15
	Kernel: 4.18.0-240.10.1.el8_3.x86_64
	Compiler: gcc 7.5.0

Windows Server 2019
	Kernel: 10.0
	Compiler: clang 14.0 and gcc 8.1.0 (MinGW)

Ubuntu 22.04
	Kernel: 4.18.0-240.10.1.el8_3.x86_64
	Compiler: gcc 11.3.0

RHEL8
	Kernel: 4.18.0-240.10.1.el8_3.x86_64
	Compiler: gcc 8.3.1 20191121 (Red Hat 8.3.1-5)

Ubuntu 20.04
	Kernel: 5.4.0-153-generic
	Compiler: gcc 9.4.0-1ubuntu1~20.04.1

Fedora 37
	Kernel: Depends on container host system
	Compiler: gcc 12.3.1

Debian 12 (arm)
	Kernel: Container Host Kernel
	Compiler: gcc 11

Alpine
	Kernel: 5.4.0-73-generic
	Compiler: gcc (Alpine 10.3.1_git20210424) 10.3.1 20210424

To view detailed results, visit:
https://lab.dpdk.org/results/dashboard/patchsets/29396/

UNH-IOL DPDK Community Lab

To manage your email subscriptions, visit: 
https://lab.dpdk.org/results/dashboard/preferences/subscriptions/