From mboxrd@z Thu Jan  1 00:00:00 1970
Return-Path: <test-report-bounces@dpdk.org>
Received: from mails.dpdk.org (mails.dpdk.org [217.70.189.124])
	by inbox.dpdk.org (Postfix) with ESMTP id 9F06943B81
	for <public@inbox.dpdk.org>; Mon,  4 Mar 2024 14:48:11 +0100 (CET)
Received: from mails.dpdk.org (localhost [127.0.0.1])
	by mails.dpdk.org (Postfix) with ESMTP id 978D94027D;
	Mon,  4 Mar 2024 14:48:11 +0100 (CET)
Received: from mail-io1-f99.google.com (mail-io1-f99.google.com
 [209.85.166.99]) by mails.dpdk.org (Postfix) with ESMTP id 95FE54026B
 for <test-report@dpdk.org>; Mon,  4 Mar 2024 14:48:09 +0100 (CET)
Received: by mail-io1-f99.google.com with SMTP id
 ca18e2360f4ac-7c76a566218so237083539f.2
 for <test-report@dpdk.org>; Mon, 04 Mar 2024 05:48:09 -0800 (PST)
DKIM-Signature: v=1; a=rsa-sha256; c=relaxed/relaxed;
 d=iol.unh.edu; s=unh-iol; t=1709560089; x=1710164889; darn=dpdk.org;
 h=references:in-reply-to:cc:to:from:subject:message-id:date:from:to
 :cc:subject:date:message-id:reply-to;
 bh=2Yffrhj9nKzWbLKgArMUt4Dx55MDZ8vHoKjyA0+X4Sc=;
 b=PpHPOhwq8n8mHykcEhnZvo+Mx3BoNt/vINR7QbrieQyg/Dx6EN2RIP2F2Z8vBz2iUF
 4Etq8aFJkxDO8Jgj1n2fYVa59UTxEr7n/5WpUF/h9LMlACdktghpMwwENCW0Oj3wtezI
 u+Fo6ed7TXox5QU7EJP4vVjc3aGb8fIqlCCDM=
X-Google-DKIM-Signature: v=1; a=rsa-sha256; c=relaxed/relaxed;
 d=1e100.net; s=20230601; t=1709560089; x=1710164889;
 h=references:in-reply-to:cc:to:from:subject:message-id:date
 :x-gm-message-state:from:to:cc:subject:date:message-id:reply-to;
 bh=2Yffrhj9nKzWbLKgArMUt4Dx55MDZ8vHoKjyA0+X4Sc=;
 b=lNY2Jrg4xCOtkTkfhTVeI/ou3ZgSYlA8Wx2gdYulDAUiqUrgZIrdc0JVEMabfHHQcP
 /Fg9OW0M5xgb80wgiuJQTMyCQDrjVGm+CG/JqeGhXQC07R7wtV7B7lLCAfO1oDLd4SFz
 5CzHxYQlo4YadyV4fr4EjGf/s5EQoFq0a4gtZyKd2pJGISr1HcnVkb0Gk7lBfexMIM2n
 56vsc7MumWVjKTM3dUlTQC9KiYXrqwciv9aWPdmnq6lRuPNFnBoyHXEgO1TpOxAT1lTh
 ae/wgZHHGvwWxdHHcGIrTG3g5xkIuPolLc93pcKAwdiUZ0CpaZBmg9sOhxEKlOjp9h9Z
 AAkQ==
X-Gm-Message-State: AOJu0Ywb+hPzru0XZ4pUe8xbkyTrp1gaUwnxQGMn7MZgZ2QRBZBpWpgw
 CXQUL5YHr3c6mAxnkkKIMMFc5p8S6VqEsR8kdOpmkuVwIHh3+1C+i/IxySQlXKT1+YJVk3q2PVV
 BVyYYOh6c476aXsKeUPSLDzOsKY2T8wiZm1D13NWXOgZwekcLrslqnRFN
X-Google-Smtp-Source: AGHT+IEO1IxcdorX+a/d4Jay4fWl5E2VgKVxRxQHrItG/0ftl4BICM9q6dB3HK1CX5OlmAwFjl7JjZmK5RJJ
X-Received: by 2002:a05:6602:29b1:b0:7c8:5c0a:5e88 with SMTP id
 u17-20020a05660229b100b007c85c0a5e88mr1273883ios.9.1709560089056; 
 Mon, 04 Mar 2024 05:48:09 -0800 (PST)
Received: from postal.iol.unh.edu (postal.iol.unh.edu.
 [2606:4100:3880:1234::84]) by smtp-relay.gmail.com with ESMTPS id
 gn11-20020a056602640b00b007c85adc5190sm40308iob.1.2024.03.04.05.48.08
 (version=TLS1_2 cipher=ECDHE-ECDSA-AES128-GCM-SHA256 bits=128/128);
 Mon, 04 Mar 2024 05:48:09 -0800 (PST)
X-Relaying-Domain: iol.unh.edu
Date: Mon, 04 Mar 2024 05:48:09 -0800 (PST)
Message-ID: <65e5d119.050a0220.f16c2.248aSMTPIN_ADDED_MISSING@mx.google.com>
Received: from [172.21.0.7] (unknown [172.18.0.240])
 by postal.iol.unh.edu (Postfix) with ESMTP id 95319605183F;
 Mon,  4 Mar 2024 08:48:08 -0500 (EST)
Subject: |SUCCESS| pw137913 [PATCH] common/cnxk: fix loopback port dataflow i
From: dpdklab@iol.unh.edu
To: Test Report <test-report@dpdk.org>
Cc: dpdk-test-reports@iol.unh.edu
In-Reply-To: <20240304123335.1769854-1-rbhansali@marvell.com>
References: <20240304123335.1769854-1-rbhansali@marvell.com>
Content-Type: text/plain
X-BeenThere: test-report@dpdk.org
X-Mailman-Version: 2.1.29
Precedence: list
List-Id: automatic DPDK test reports <test-report.dpdk.org>
List-Unsubscribe: <https://mails.dpdk.org/options/test-report>,
 <mailto:test-report-request@dpdk.org?subject=unsubscribe>
List-Archive: <http://mails.dpdk.org/archives/test-report/>
List-Post: <mailto:test-report@dpdk.org>
List-Help: <mailto:test-report-request@dpdk.org?subject=help>
List-Subscribe: <https://mails.dpdk.org/listinfo/test-report>,
 <mailto:test-report-request@dpdk.org?subject=subscribe>
Errors-To: test-report-bounces@dpdk.org

Test-Label: iol-unit-amd64-testing
Test-Status: SUCCESS
http://dpdk.org/patch/137913

_Testing PASS_

Submitter: Rahul Bhansali <rbhansali@marvell.com>
Date: Monday, March 04 2024 12:33:35 
DPDK git baseline: Repo:dpdk
  Branch: master
  CommitID:cc7ce74402f29c5850eccc5828492135b91135cf

137913 --> testing pass

Test environment and result as below:

+-----------------+----------------+
|   Environment   | dpdk_unit_test |
+=================+================+
| CentOS Stream 9 | PASS           |
+-----------------+----------------+
| Debian Bullseye | PASS           |
+-----------------+----------------+
| Debian 12 (arm) | PASS           |
+-----------------+----------------+
| Fedora 38       | PASS           |
+-----------------+----------------+
| CentOS Stream 8 | PASS           |
+-----------------+----------------+
| Fedora 37       | PASS           |
+-----------------+----------------+


CentOS Stream 9
	Kernel: 4.18.0-240.10.1.el8_3.x86_64
	Compiler: gcc 11.3.1 20220421

Debian Bullseye
	Kernel: 5.4.0-122-generic
	Compiler: gcc 10.2.1-6

Debian 12 (arm)
	Kernel: Container Host Kernel
	Compiler: gcc 11

Fedora 38
	Kernel: Depends on container host
	Compiler: gcc 13.1.1

CentOS Stream 8
	Kernel: 4.18.0-240.10.1.el8_3.x86_64
	Compiler: gcc 8.4.1 20200928

Fedora 37
	Kernel: Depends on container host system
	Compiler: gcc 12.3.1

To view detailed results, visit:
https://lab.dpdk.org/results/dashboard/patchsets/29403/

UNH-IOL DPDK Community Lab

To manage your email subscriptions, visit: 
https://lab.dpdk.org/results/dashboard/preferences/subscriptions/