From mboxrd@z Thu Jan  1 00:00:00 1970
Return-Path: <test-report-bounces@dpdk.org>
Received: from mails.dpdk.org (mails.dpdk.org [217.70.189.124])
	by inbox.dpdk.org (Postfix) with ESMTP id CA43243B81
	for <public@inbox.dpdk.org>; Mon,  4 Mar 2024 14:55:01 +0100 (CET)
Received: from mails.dpdk.org (localhost [127.0.0.1])
	by mails.dpdk.org (Postfix) with ESMTP id C68B24027D;
	Mon,  4 Mar 2024 14:55:01 +0100 (CET)
Received: from mail-qv1-f100.google.com (mail-qv1-f100.google.com
 [209.85.219.100])
 by mails.dpdk.org (Postfix) with ESMTP id D01474026B
 for <test-report@dpdk.org>; Mon,  4 Mar 2024 14:55:00 +0100 (CET)
Received: by mail-qv1-f100.google.com with SMTP id
 6a1803df08f44-6900f479e3cso49487366d6.0
 for <test-report@dpdk.org>; Mon, 04 Mar 2024 05:55:00 -0800 (PST)
DKIM-Signature: v=1; a=rsa-sha256; c=relaxed/relaxed;
 d=iol.unh.edu; s=unh-iol; t=1709560500; x=1710165300; darn=dpdk.org;
 h=references:in-reply-to:cc:to:from:subject:message-id:date:from:to
 :cc:subject:date:message-id:reply-to;
 bh=rOLyCJofpQUdaQzAoDht7DSrhBa5KuR7eRSsdYjl2iY=;
 b=MNbPOhzbRSpDzgWZU21/D/cB0Mv1W2rTKBGpv3UBBWKc/MkeVrls5TCO4NI9hOSVPC
 VBqHS06KZl5ND7T19mOoKt5e28cYAAAQoCdipuHdMzyae4nt0re/FXYiIUFYlNmFwbch
 S9nCzV+Sp4snR6dtRTumTqsqFDYud6oLD2d9c=
X-Google-DKIM-Signature: v=1; a=rsa-sha256; c=relaxed/relaxed;
 d=1e100.net; s=20230601; t=1709560500; x=1710165300;
 h=references:in-reply-to:cc:to:from:subject:message-id:date
 :x-gm-message-state:from:to:cc:subject:date:message-id:reply-to;
 bh=rOLyCJofpQUdaQzAoDht7DSrhBa5KuR7eRSsdYjl2iY=;
 b=WkALlNHiBt7NEmJHTRk8O0h/nMPEcxXHa9b2PLuAo02s+0RKxqQ7XCzPOwZdsdbIiq
 JXtkOZHwC/du5Luzfiq7Qea+EIrZmcZ3Gvm/HI0VfsjUynMB/7qF5OyA2agKXHK4RN6K
 e4KuGq7Vs65nZn9Tetw+vMDIKO1SzVIaJUDgShWsnUZQHIxK2abBaaAdKrIHaUkDD6Iu
 r5Lgw1OfOzrNjsQZ2mVCKFksU95lhJsmv29aKyPa3cOb3mrUZZkBN1CtbfqGe0gIWXsE
 Zfo/LkhtEoqIim8U9lvaRK/n7kr3SZxDYD9MTbBmmmpWCYDT0zlbyX8NZF8h8/5TpYm4
 QIdA==
X-Gm-Message-State: AOJu0YyZSMXvCZa5/9Bd7pMI/e/kZeGckfEZWbQa5iFJmS68spWVesvR
 X5MPyMaafJcHWTbGn1XcaV9YI+f+zq4LSmzTEPN7bOl20Dnpi/VImvi9cFVGLMbej00QbHpONsC
 dllZ3vrzfckZwM82ZyQdCfMSvQON9AHGxrZk9saWrywaTAmLK+4nrAd5+
X-Google-Smtp-Source: AGHT+IGxBmAIvxOUgiHfYDp9tcqt1oa3O8MCuFdvn2Fw4QRqaA/hrJDa0LEVHihfcm2KlRQ2mSI5RRgHpISw
X-Received: by 2002:a0c:ea4b:0:b0:690:644c:ed8b with SMTP id
 u11-20020a0cea4b000000b00690644ced8bmr6003460qvp.37.1709560500377; 
 Mon, 04 Mar 2024 05:55:00 -0800 (PST)
Received: from postal.iol.unh.edu (postal.iol.unh.edu.
 [2606:4100:3880:1234::84]) by smtp-relay.gmail.com with ESMTPS id
 r10-20020ad4576a000000b0068fa300e9c8sm514941qvx.48.2024.03.04.05.55.00
 (version=TLS1_2 cipher=ECDHE-ECDSA-AES128-GCM-SHA256 bits=128/128);
 Mon, 04 Mar 2024 05:55:00 -0800 (PST)
X-Relaying-Domain: iol.unh.edu
Date: Mon, 04 Mar 2024 05:55:00 -0800 (PST)
Message-ID: <65e5d2b4.d40a0220.2c35d.17f0SMTPIN_ADDED_MISSING@mx.google.com>
Received: from [172.21.0.6] (unknown [172.18.0.240])
 by postal.iol.unh.edu (Postfix) with ESMTP id 186CF605183F;
 Mon,  4 Mar 2024 08:55:00 -0500 (EST)
Subject: |SUCCESS| pw137880-137911 [PATCH] [v2,33/33] net/ena: upgrade driver
From: dpdklab@iol.unh.edu
To: Test Report <test-report@dpdk.org>
Cc: dpdk-test-reports@iol.unh.edu
In-Reply-To: <20240304122942.3496-34-shaibran@amazon.com>
References: <20240304122942.3496-34-shaibran@amazon.com>
Content-Type: text/plain
X-BeenThere: test-report@dpdk.org
X-Mailman-Version: 2.1.29
Precedence: list
List-Id: automatic DPDK test reports <test-report.dpdk.org>
List-Unsubscribe: <https://mails.dpdk.org/options/test-report>,
 <mailto:test-report-request@dpdk.org?subject=unsubscribe>
List-Archive: <http://mails.dpdk.org/archives/test-report/>
List-Post: <mailto:test-report@dpdk.org>
List-Help: <mailto:test-report-request@dpdk.org?subject=help>
List-Subscribe: <https://mails.dpdk.org/listinfo/test-report>,
 <mailto:test-report-request@dpdk.org?subject=subscribe>
Errors-To: test-report-bounces@dpdk.org

Test-Label: iol-compile-amd64-testing
Test-Status: SUCCESS
http://dpdk.org/patch/137911

_Testing PASS_

Submitter: Brandes, Shai <shaibran@amazon.com>
Date: Monday, March 04 2024 12:29:42 
DPDK git baseline: Repo:dpdk
  Branch: master
  CommitID:d4d5bbe6791850987d6d28da675574a868e8274c

137880-137911 --> testing pass

Test environment and result as below:

+---------------------+--------------------+
|     Environment     | dpdk_meson_compile |
+=====================+====================+
| Windows Server 2022 | PASS               |
+---------------------+--------------------+
| FreeBSD 13.2        | PASS               |
+---------------------+--------------------+
| Windows Server 2019 | PASS               |
+---------------------+--------------------+


Windows Server 2022
	Kernel: OS Build 20348.2031
	Compiler: MSVC VS-Preview

FreeBSD 13.2
	Kernel: 13.2
	Compiler: clang 11.3.0

Windows Server 2019
	Kernel: 10.0
	Compiler: clang 14.0 and gcc 8.1.0 (MinGW)

To view detailed results, visit:
https://lab.dpdk.org/results/dashboard/patchsets/29402/

UNH-IOL DPDK Community Lab

To manage your email subscriptions, visit: 
https://lab.dpdk.org/results/dashboard/preferences/subscriptions/