From mboxrd@z Thu Jan  1 00:00:00 1970
Return-Path: <test-report-bounces@dpdk.org>
Received: from mails.dpdk.org (mails.dpdk.org [217.70.189.124])
	by inbox.dpdk.org (Postfix) with ESMTP id 383F543B81
	for <public@inbox.dpdk.org>; Mon,  4 Mar 2024 14:59:00 +0100 (CET)
Received: from mails.dpdk.org (localhost [127.0.0.1])
	by mails.dpdk.org (Postfix) with ESMTP id 3377F4027D;
	Mon,  4 Mar 2024 14:59:00 +0100 (CET)
Received: from mail-yw1-f225.google.com (mail-yw1-f225.google.com
 [209.85.128.225])
 by mails.dpdk.org (Postfix) with ESMTP id 19FEF4026B
 for <test-report@dpdk.org>; Mon,  4 Mar 2024 14:58:59 +0100 (CET)
Received: by mail-yw1-f225.google.com with SMTP id
 00721157ae682-60821136c5aso30490557b3.1
 for <test-report@dpdk.org>; Mon, 04 Mar 2024 05:58:59 -0800 (PST)
DKIM-Signature: v=1; a=rsa-sha256; c=relaxed/relaxed;
 d=iol.unh.edu; s=unh-iol; t=1709560738; x=1710165538; darn=dpdk.org;
 h=references:in-reply-to:cc:to:from:subject:message-id:date:from:to
 :cc:subject:date:message-id:reply-to;
 bh=FhCrOog98kuFkQLBgSpPQxUlRRHhIR0ZKpaX2vNBMMA=;
 b=bQGrAvMOqnhOvpr4/Ssj00GZhSegl/1kqdyGWRqlTg5OrIdcULWRvb2Aj6BolLRb1x
 ffC4T1vIVNMrQyNj58Y2e1Koq0mZtkLeRZE6ZkjooGh/P4YLS9cxx4atLdmvPlN4Gbbt
 957wMyYcA9AhTieRvJkoHgYEelsK9lKL4nmGw=
X-Google-DKIM-Signature: v=1; a=rsa-sha256; c=relaxed/relaxed;
 d=1e100.net; s=20230601; t=1709560738; x=1710165538;
 h=references:in-reply-to:cc:to:from:subject:message-id:date
 :x-gm-message-state:from:to:cc:subject:date:message-id:reply-to;
 bh=FhCrOog98kuFkQLBgSpPQxUlRRHhIR0ZKpaX2vNBMMA=;
 b=REpnE5Dm0tJBgX5dv8Le7TpPcy54bJNJd8Ez868hzL4FPDjM7+4YRNMs9qcaAkO8T0
 AIfsReRa/8UyFKl6Ljn8A+W8eu1fGZZNquuCsztrpKPXc7lBG+VjxcPEo4CbFNRtdg56
 9vIS4NELMyh1VvMFwgjYGooK7avswVFyND7V3HLCzwcRZaGFPS/Nps8WQe3VDoy+Ipa2
 tdSjZJ5aZESJOdXBv9BVkm95HazjHjX/VYK7XGA+mm1BRHTLy0sVyWL6gmFXJg5Dazhm
 M9sADRHoHktRxLsSCgLsK91ne3YyfofsEEiPytqn4wh9fXmbyGKEnjrAm3/OAgO3iIvT
 ENBQ==
X-Gm-Message-State: AOJu0YxBCHU7ZqMmpuW+sNYbQYCpPwIuyyGyj9hPv2lJsiJLgx5XXqwt
 yAwxuZ/LDrTlH/7xm3v7Q1NIRKV6rpwOYveWhEkZt+6+c5bSFmMrnl8HO1hJNi5y5dNAggJVKcM
 PCHzmKE7GKE9/AjQvfH4au+Jhe7TpXp13zIu6/bo2
X-Google-Smtp-Source: AGHT+IFnaW5ntha0fsH5uLmHEaBBA3eal3pnvedkVYlhGpHX/3mUcpRql08ObU0NnJSJHChx2XNp+2/3XAAk
X-Received: by 2002:a05:690c:d93:b0:608:b193:5a3e with SMTP id
 da19-20020a05690c0d9300b00608b1935a3emr10339336ywb.32.1709560737981; 
 Mon, 04 Mar 2024 05:58:57 -0800 (PST)
Received: from postal.iol.unh.edu (postal.iol.unh.edu. [132.177.123.84])
 by smtp-relay.gmail.com with ESMTPS id
 x63-20020a0dd542000000b006093b5c3b13sm546337ywd.19.2024.03.04.05.58.57
 (version=TLS1_2 cipher=ECDHE-ECDSA-AES128-GCM-SHA256 bits=128/128);
 Mon, 04 Mar 2024 05:58:57 -0800 (PST)
X-Relaying-Domain: iol.unh.edu
Date: Mon, 04 Mar 2024 05:58:57 -0800 (PST)
Message-ID: <65e5d3a1.0d0a0220.2be3e.46b9SMTPIN_ADDED_MISSING@mx.google.com>
Received: from [172.21.0.6] (unknown [172.18.0.240])
 by postal.iol.unh.edu (Postfix) with ESMTP id 9B179605183F;
 Mon,  4 Mar 2024 08:58:57 -0500 (EST)
Subject: |SUCCESS| pw137913 [PATCH] common/cnxk: fix loopback port dataflow i
From: dpdklab@iol.unh.edu
To: Test Report <test-report@dpdk.org>
Cc: dpdk-test-reports@iol.unh.edu
In-Reply-To: <20240304123335.1769854-1-rbhansali@marvell.com>
References: <20240304123335.1769854-1-rbhansali@marvell.com>
Content-Type: text/plain
X-BeenThere: test-report@dpdk.org
X-Mailman-Version: 2.1.29
Precedence: list
List-Id: automatic DPDK test reports <test-report.dpdk.org>
List-Unsubscribe: <https://mails.dpdk.org/options/test-report>,
 <mailto:test-report-request@dpdk.org?subject=unsubscribe>
List-Archive: <http://mails.dpdk.org/archives/test-report/>
List-Post: <mailto:test-report@dpdk.org>
List-Help: <mailto:test-report-request@dpdk.org?subject=help>
List-Subscribe: <https://mails.dpdk.org/listinfo/test-report>,
 <mailto:test-report-request@dpdk.org?subject=subscribe>
Errors-To: test-report-bounces@dpdk.org

Test-Label: iol-unit-arm64-testing
Test-Status: SUCCESS
http://dpdk.org/patch/137913

_Testing PASS_

Submitter: Rahul Bhansali <rbhansali@marvell.com>
Date: Monday, March 04 2024 12:33:35 
DPDK git baseline: Repo:dpdk
  Branch: master
  CommitID:cc7ce74402f29c5850eccc5828492135b91135cf

137913 --> testing pass

Test environment and result as below:

+--------------------------+----------------+
|       Environment        | dpdk_unit_test |
+==========================+================+
| Debian 11 (Buster) (ARM) | PASS           |
+--------------------------+----------------+
| CentOS Stream 9 (ARM)    | PASS           |
+--------------------------+----------------+
| Debian 12 (arm)          | PASS           |
+--------------------------+----------------+
| Fedora 37 (ARM)          | PASS           |
+--------------------------+----------------+
| Fedora 38 (ARM)          | PASS           |
+--------------------------+----------------+
| Ubuntu 20.04 (ARM)       | PASS           |
+--------------------------+----------------+


Debian 11 (Buster) (ARM)
	Kernel: Container Host Kernel
	Compiler: gcc 10.2.1

CentOS Stream 9 (ARM)
	Kernel: Container Host Kernel
	Compiler: gcc 11.3.1

Debian 12 (arm)
	Kernel: Container Host Kernel
	Compiler: gcc 11

Fedora 37 (ARM)
	Kernel: Depends on container host
	Compiler: gcc 12.3.1

Fedora 38 (ARM)
	Kernel: Depends on container host
	Compiler: gcc 13.1.1

Ubuntu 20.04 (ARM)
	Kernel: Container Host Kernel
	Compiler: gcc 9.4.0

To view detailed results, visit:
https://lab.dpdk.org/results/dashboard/patchsets/29403/

UNH-IOL DPDK Community Lab

To manage your email subscriptions, visit: 
https://lab.dpdk.org/results/dashboard/preferences/subscriptions/