From mboxrd@z Thu Jan  1 00:00:00 1970
Return-Path: <test-report-bounces@dpdk.org>
Received: from mails.dpdk.org (mails.dpdk.org [217.70.189.124])
	by inbox.dpdk.org (Postfix) with ESMTP id 23FC843B81
	for <public@inbox.dpdk.org>; Mon,  4 Mar 2024 15:02:27 +0100 (CET)
Received: from mails.dpdk.org (localhost [127.0.0.1])
	by mails.dpdk.org (Postfix) with ESMTP id 1FDCB4027D;
	Mon,  4 Mar 2024 15:02:27 +0100 (CET)
Received: from mail-io1-f100.google.com (mail-io1-f100.google.com
 [209.85.166.100])
 by mails.dpdk.org (Postfix) with ESMTP id 3ED2D4026B
 for <test-report@dpdk.org>; Mon,  4 Mar 2024 15:02:25 +0100 (CET)
Received: by mail-io1-f100.google.com with SMTP id
 ca18e2360f4ac-7c846c59a2aso47813339f.3
 for <test-report@dpdk.org>; Mon, 04 Mar 2024 06:02:25 -0800 (PST)
DKIM-Signature: v=1; a=rsa-sha256; c=relaxed/relaxed;
 d=iol.unh.edu; s=unh-iol; t=1709560944; x=1710165744; darn=dpdk.org;
 h=references:in-reply-to:cc:to:from:subject:message-id:date:from:to
 :cc:subject:date:message-id:reply-to;
 bh=nu2eQsAfJ7U0liRM7D7zDklf/fd/CkrKqOzw7fkaQ5M=;
 b=GeAeacPJ4IZNmlmNoFiNtsOW2cxCnQT07qC+OPmkMVVu+kThEltzKXlmE+X9WlLcig
 gVIzG+GUVqYs5VHqfx9TtcqWIlhifrsKNCD8QB0zGa6/9amyKLFj/Q+r7/XPgRiT8N27
 qXIQCv477EFuAuFub7oWsWHnT8znweG2+MU+M=
X-Google-DKIM-Signature: v=1; a=rsa-sha256; c=relaxed/relaxed;
 d=1e100.net; s=20230601; t=1709560944; x=1710165744;
 h=references:in-reply-to:cc:to:from:subject:message-id:date
 :x-gm-message-state:from:to:cc:subject:date:message-id:reply-to;
 bh=nu2eQsAfJ7U0liRM7D7zDklf/fd/CkrKqOzw7fkaQ5M=;
 b=HqalNwZVrm5dkzYjpGQ3km7N+5tRg5ubOuPoUG7CEaCCdwePhaEAyg6k5fGa6R0wyr
 r2XK2O7BR6rg6ndecGBJ/LB9D85n4o3A9WywpVag/8TO4hGnNDjEplInWfScARj0GUR1
 AXO4yZ5BXSqnaqY4hqBT8GZTlk3H5p7ohGrw8MGCKdvUWzEkqveJhNOrNAZPvhakqEeT
 ukFdT+J2NARnvKmBuKfW86M0BJesexcD51I8KadmTIou2i+y5imwTuEXP9QOCsx1BWfY
 uJlppagub9TJDWJZSMcCb3Swa2MERndEekHbAhU/VNkeoxIGGBoSH+Ggh1XdYvje8sKD
 t+NA==
X-Gm-Message-State: AOJu0YzIuocOEfj1xakzIxKjXN7FZ8DqN5hg+xRsEoujWkDwgSZBWT/v
 vfh884YmB+xosZIIJgwtFYWk8WAN8VGVhvkIx7eMKZW3L+scb2BXYJgxnj34SKj1ybHhVN3NqTK
 w4IhVXepjh+vYFJTa75NNO5Li90Sa9pcBW5mt6yzkMho+clbrtYWduqjc
X-Google-Smtp-Source: AGHT+IHnMTaA8hSJOjrDOeb/gPWCvWFUcuVA2CUG+I//XZdaVoUWBFRRdkLeLTBWnSTAT3IWqNJoJb88Pq6c
X-Received: by 2002:a05:6e02:1a6a:b0:364:21b4:f59a with SMTP id
 w10-20020a056e021a6a00b0036421b4f59amr12442318ilv.14.1709560944154; 
 Mon, 04 Mar 2024 06:02:24 -0800 (PST)
Received: from postal.iol.unh.edu (postal.iol.unh.edu.
 [2606:4100:3880:1234::84]) by smtp-relay.gmail.com with ESMTPS id
 u17-20020a02cb91000000b00474801ebd65sm297522jap.42.2024.03.04.06.02.24
 (version=TLS1_2 cipher=ECDHE-ECDSA-AES128-GCM-SHA256 bits=128/128);
 Mon, 04 Mar 2024 06:02:24 -0800 (PST)
X-Relaying-Domain: iol.unh.edu
Date: Mon, 04 Mar 2024 06:02:24 -0800 (PST)
Message-ID: <65e5d470.020a0220.f94d6.1a4bSMTPIN_ADDED_MISSING@mx.google.com>
Received: from [172.21.0.6] (unknown [172.18.0.240])
 by postal.iol.unh.edu (Postfix) with ESMTP id A2F9D605183F;
 Mon,  4 Mar 2024 09:02:22 -0500 (EST)
Subject: |SUCCESS| pw137880-137911 [PATCH] [v2,33/33] net/ena: upgrade driver
From: dpdklab@iol.unh.edu
To: Test Report <test-report@dpdk.org>
Cc: dpdk-test-reports@iol.unh.edu
In-Reply-To: <20240304122942.3496-34-shaibran@amazon.com>
References: <20240304122942.3496-34-shaibran@amazon.com>
Content-Type: text/plain
X-BeenThere: test-report@dpdk.org
X-Mailman-Version: 2.1.29
Precedence: list
List-Id: automatic DPDK test reports <test-report.dpdk.org>
List-Unsubscribe: <https://mails.dpdk.org/options/test-report>,
 <mailto:test-report-request@dpdk.org?subject=unsubscribe>
List-Archive: <http://mails.dpdk.org/archives/test-report/>
List-Post: <mailto:test-report@dpdk.org>
List-Help: <mailto:test-report-request@dpdk.org?subject=help>
List-Subscribe: <https://mails.dpdk.org/listinfo/test-report>,
 <mailto:test-report-request@dpdk.org?subject=subscribe>
Errors-To: test-report-bounces@dpdk.org

Test-Label: iol-abi-testing
Test-Status: SUCCESS
http://dpdk.org/patch/137911

_Testing PASS_

Submitter: Brandes, Shai <shaibran@amazon.com>
Date: Monday, March 04 2024 12:29:42 
DPDK git baseline: Repo:dpdk
  Branch: master
  CommitID:d4d5bbe6791850987d6d28da675574a868e8274c

137880-137911 --> testing pass

Test environment and result as below:

+------------------+----------+
|   Environment    | abi_test |
+==================+==========+
| openSUSE Leap 15 | PASS     |
+------------------+----------+
| CentOS Stream 9  | PASS     |
+------------------+----------+
| Fedora 38        | PASS     |
+------------------+----------+


openSUSE Leap 15
	Kernel: 4.18.0-240.10.1.el8_3.x86_64
	Compiler: gcc 7.5.0

CentOS Stream 9
	Kernel: 4.18.0-240.10.1.el8_3.x86_64
	Compiler: gcc 11.3.1 20220421

Fedora 38
	Kernel: Depends on container host
	Compiler: gcc 13.1.1

To view detailed results, visit:
https://lab.dpdk.org/results/dashboard/patchsets/29402/

UNH-IOL DPDK Community Lab

To manage your email subscriptions, visit: 
https://lab.dpdk.org/results/dashboard/preferences/subscriptions/