From mboxrd@z Thu Jan  1 00:00:00 1970
Return-Path: <test-report-bounces@dpdk.org>
Received: from mails.dpdk.org (mails.dpdk.org [217.70.189.124])
	by inbox.dpdk.org (Postfix) with ESMTP id 3877843B81
	for <public@inbox.dpdk.org>; Mon,  4 Mar 2024 15:02:51 +0100 (CET)
Received: from mails.dpdk.org (localhost [127.0.0.1])
	by mails.dpdk.org (Postfix) with ESMTP id 338BE4027D;
	Mon,  4 Mar 2024 15:02:51 +0100 (CET)
Received: from mail-yb1-f226.google.com (mail-yb1-f226.google.com
 [209.85.219.226])
 by mails.dpdk.org (Postfix) with ESMTP id 6D5A94026B
 for <test-report@dpdk.org>; Mon,  4 Mar 2024 15:02:49 +0100 (CET)
Received: by mail-yb1-f226.google.com with SMTP id
 3f1490d57ef6-dcbf82cdf05so4449465276.2
 for <test-report@dpdk.org>; Mon, 04 Mar 2024 06:02:49 -0800 (PST)
DKIM-Signature: v=1; a=rsa-sha256; c=relaxed/relaxed;
 d=iol.unh.edu; s=unh-iol; t=1709560969; x=1710165769; darn=dpdk.org;
 h=references:in-reply-to:cc:to:from:subject:message-id:date:from:to
 :cc:subject:date:message-id:reply-to;
 bh=NenkEFsOeHCzBi95oaAedMJ/yMs6x+ExfO5blVdT3j0=;
 b=eLXsXJn7E6YiKCVnU0lU7/mtoOat4V8eLBe7Pfp0O6xY72F3RBunyg4QYLdPzp1fYa
 tb9p4Zv0oGxAg69UkSHH52rGZfLYY2CKcxyhQmE25AQ0TFzBRm4VkhBG3Gi2VyKCa/DW
 2zdetC5WGaxJnun/w/S64uq/BDKx8HrR/L+Gw=
X-Google-DKIM-Signature: v=1; a=rsa-sha256; c=relaxed/relaxed;
 d=1e100.net; s=20230601; t=1709560969; x=1710165769;
 h=references:in-reply-to:cc:to:from:subject:message-id:date
 :x-gm-message-state:from:to:cc:subject:date:message-id:reply-to;
 bh=NenkEFsOeHCzBi95oaAedMJ/yMs6x+ExfO5blVdT3j0=;
 b=Tfm/ts6FgHU2tAB2FttHz1hElz2DGNEDobv/961flOCmreHU6Jc8fwjVhdpbuK1tyX
 utKuwg8uJhxetOm9xgyTZ/VDcp7PcMez2BnmXspTSZQli4hY+mnnJtb0gfaOn7CeXne/
 fVh144xRD+zi9H0DzGy7U18HTA5C0a4gmaDNX/pciWbfZb04/CbH818z+cRi5n0alnD3
 Nwyq0sr0VxKsC10L98rzVsffHwcAGO0QoynNc3CFpIwfJppPR94+Ybl80qK4VssrRAEu
 UG9aR0QSU9DOKd2ptkBkhlqfqnm/8COcnqCVMs0tbm0db1wVoFiIwUzY4HiIL7SiXeRI
 Akiw==
X-Gm-Message-State: AOJu0YwoO8qWbSwxW1ALfGgIC0k8rbXppFVEFWtT3h76h7EPVJWGqfac
 P9R0QWHYYpnOqRkvXAtC2vT/WTr8zGo6I6CNDTsga2zv6EuE8eeupfaMxP9I3A0TosnX7r42efg
 XSwsS+AqZgdk+JvVGyX9GFporUEXYnmQYh/Q+cKu9
X-Google-Smtp-Source: AGHT+IFJ0xn7JBahaCBJhV9NV0MQn2w1SiMQs9HLicetwNLjK4ApiK37a+9YtJV0b2D5FgDUTIMmlZUt0EZa
X-Received: by 2002:a25:258:0:b0:dcc:54d0:85e2 with SMTP id
 85-20020a250258000000b00dcc54d085e2mr6297835ybc.24.1709560968710; 
 Mon, 04 Mar 2024 06:02:48 -0800 (PST)
Received: from postal.iol.unh.edu (postal.iol.unh.edu. [132.177.123.84])
 by smtp-relay.gmail.com with ESMTPS id
 k66-20020a256f45000000b00dcc2e5ea19fsm546974ybc.22.2024.03.04.06.02.48
 (version=TLS1_2 cipher=ECDHE-ECDSA-AES128-GCM-SHA256 bits=128/128);
 Mon, 04 Mar 2024 06:02:48 -0800 (PST)
X-Relaying-Domain: iol.unh.edu
Date: Mon, 04 Mar 2024 06:02:48 -0800 (PST)
Message-ID: <65e5d488.250a0220.9290.3df9SMTPIN_ADDED_MISSING@mx.google.com>
Received: from [172.21.0.7] (unknown [172.18.0.240])
 by postal.iol.unh.edu (Postfix) with ESMTP id 59D4E605183F;
 Mon,  4 Mar 2024 09:02:48 -0500 (EST)
Subject: |SUCCESS| pw137880-137911 [PATCH] [v2,33/33] net/ena: upgrade driver
From: dpdklab@iol.unh.edu
To: Test Report <test-report@dpdk.org>
Cc: dpdk-test-reports@iol.unh.edu
In-Reply-To: <20240304122942.3496-34-shaibran@amazon.com>
References: <20240304122942.3496-34-shaibran@amazon.com>
Content-Type: text/plain
X-BeenThere: test-report@dpdk.org
X-Mailman-Version: 2.1.29
Precedence: list
List-Id: automatic DPDK test reports <test-report.dpdk.org>
List-Unsubscribe: <https://mails.dpdk.org/options/test-report>,
 <mailto:test-report-request@dpdk.org?subject=unsubscribe>
List-Archive: <http://mails.dpdk.org/archives/test-report/>
List-Post: <mailto:test-report@dpdk.org>
List-Help: <mailto:test-report-request@dpdk.org?subject=help>
List-Subscribe: <https://mails.dpdk.org/listinfo/test-report>,
 <mailto:test-report-request@dpdk.org?subject=subscribe>
Errors-To: test-report-bounces@dpdk.org

Test-Label: iol-compile-arm64-testing
Test-Status: SUCCESS
http://dpdk.org/patch/137911

_Testing PASS_

Submitter: Brandes, Shai <shaibran@amazon.com>
Date: Monday, March 04 2024 12:29:42 
DPDK git baseline: Repo:dpdk
  Branch: master
  CommitID:d4d5bbe6791850987d6d28da675574a868e8274c

137880-137911 --> testing pass

Test environment and result as below:

+-----------------------+--------------------+
|      Environment      | dpdk_meson_compile |
+=======================+====================+
| Ubuntu 20.04 ARM SVE  | PASS               |
+-----------------------+--------------------+
| Fedora 38 (ARM)       | PASS               |
+-----------------------+--------------------+
| Fedora 37 (ARM)       | PASS               |
+-----------------------+--------------------+
| Ubuntu 20.04 (ARM)    | PASS               |
+-----------------------+--------------------+
| CentOS Stream 9 (ARM) | PASS               |
+-----------------------+--------------------+


Ubuntu 20.04 ARM SVE
	Kernel: 5.4.0-80-generic
	Compiler: gcc 10.3.0 (Ubuntu 10.3.0-1ubuntu1~20.04)

Fedora 38 (ARM)
	Kernel: Depends on container host
	Compiler: gcc 13.1.1

Fedora 37 (ARM)
	Kernel: Depends on container host
	Compiler: gcc 12.3.1

Ubuntu 20.04 (ARM)
	Kernel: Container Host Kernel
	Compiler: gcc 9.4.0

CentOS Stream 9 (ARM)
	Kernel: Container Host Kernel
	Compiler: gcc 11.3.1

To view detailed results, visit:
https://lab.dpdk.org/results/dashboard/patchsets/29402/

UNH-IOL DPDK Community Lab

To manage your email subscriptions, visit: 
https://lab.dpdk.org/results/dashboard/preferences/subscriptions/