From mboxrd@z Thu Jan  1 00:00:00 1970
Return-Path: <test-report-bounces@dpdk.org>
Received: from mails.dpdk.org (mails.dpdk.org [217.70.189.124])
	by inbox.dpdk.org (Postfix) with ESMTP id 984BE43B81
	for <public@inbox.dpdk.org>; Mon,  4 Mar 2024 15:06:32 +0100 (CET)
Received: from mails.dpdk.org (localhost [127.0.0.1])
	by mails.dpdk.org (Postfix) with ESMTP id 939864027D;
	Mon,  4 Mar 2024 15:06:32 +0100 (CET)
Received: from mail-qt1-f226.google.com (mail-qt1-f226.google.com
 [209.85.160.226])
 by mails.dpdk.org (Postfix) with ESMTP id 7B4FE4026B
 for <test-report@dpdk.org>; Mon,  4 Mar 2024 15:06:31 +0100 (CET)
Received: by mail-qt1-f226.google.com with SMTP id
 d75a77b69052e-42ee33b2d58so8982171cf.3
 for <test-report@dpdk.org>; Mon, 04 Mar 2024 06:06:31 -0800 (PST)
DKIM-Signature: v=1; a=rsa-sha256; c=relaxed/relaxed;
 d=iol.unh.edu; s=unh-iol; t=1709561191; x=1710165991; darn=dpdk.org;
 h=references:in-reply-to:cc:to:from:subject:message-id:date:from:to
 :cc:subject:date:message-id:reply-to;
 bh=RruRY0/fnJKNfbTl2AWKy5kFkkAR47sg8PR0nGYSxoE=;
 b=aoH6c+3RFbaNzr75vGHmzQ/5LBfek6niw5Je45sQbsm4HGKNj2MxDGe8q3JV10Ou6p
 rLJMdorqwTDFKyMSBQ0nA4wJSAApPXUCjRLyiHZ7v3IgI5KXmlbjKz9txjsWa2Y+JNhA
 PfzCTnXfC38x9MDMoBJdZAZ3uXTxX8deDt+4M=
X-Google-DKIM-Signature: v=1; a=rsa-sha256; c=relaxed/relaxed;
 d=1e100.net; s=20230601; t=1709561191; x=1710165991;
 h=references:in-reply-to:cc:to:from:subject:message-id:date
 :x-gm-message-state:from:to:cc:subject:date:message-id:reply-to;
 bh=RruRY0/fnJKNfbTl2AWKy5kFkkAR47sg8PR0nGYSxoE=;
 b=bIDIlYKwQ/YrxKyLWigl43xP9xYcmnfsBPPS6r4wQKSRIAJZq5avkw+ET5OpWsCq5/
 NfvKhpMIHS1cziYsiyB3QphclWJSioo94/+srIVj1dmoCvD67Wo/xqarGQnHtHi8K2qR
 tJ3hfZnC5xxi2veu6ZPBlSqZer0rO5pz/O8u11z+jRilnzSUiUPBh0ESWAyNzB+DScoB
 jZNio+IgpITBTUvY/qUKpBdmXXMMXdoBFuHZ+FM7M3IXG9MfVHGVuB24h0wqyyYYrgf3
 xIhU8wK4DAd/AWv3mBxjrsVj/mcvsPE30e4Fs9at0O7E61Gq5javojE4bJhGCMST3pB3
 rEEA==
X-Gm-Message-State: AOJu0YwjsEYXuHfsendFMukrZJHuovYXwN8WWv5ekkN1Mb5p5NGBuPVi
 2H+OolGMK0i/dJgHnGI+QLkpVN4t1V0Dkx2kfntP2Dy8Mww91AlBNXJ94HNgnfS0pddVasNiuc9
 ou7TbRcLrzrKwj/J0JjDeW4m9+DiMg4EYOI0G4cTl
X-Google-Smtp-Source: AGHT+IGe0oyggacw7SpZlLfRsdiXfFOw9npu7X5rTt/UjoQegdhbcVT8QJ53Fa+qh0Nkd8ZkIP3wvwGqGpVG
X-Received: by 2002:a05:622a:190d:b0:42e:ce6d:bef1 with SMTP id
 w13-20020a05622a190d00b0042ece6dbef1mr10629592qtc.13.1709561190949; 
 Mon, 04 Mar 2024 06:06:30 -0800 (PST)
Received: from postal.iol.unh.edu (postal.iol.unh.edu. [132.177.123.84])
 by smtp-relay.gmail.com with ESMTPS id
 cd11-20020a05622a418b00b0042eeeccf978sm206734qtb.13.2024.03.04.06.06.30
 (version=TLS1_2 cipher=ECDHE-ECDSA-AES128-GCM-SHA256 bits=128/128);
 Mon, 04 Mar 2024 06:06:30 -0800 (PST)
X-Relaying-Domain: iol.unh.edu
Date: Mon, 04 Mar 2024 06:06:30 -0800 (PST)
Message-ID: <65e5d566.050a0220.e31e4.b651SMTPIN_ADDED_MISSING@mx.google.com>
Received: from [172.21.0.7] (unknown [172.18.0.240])
 by postal.iol.unh.edu (Postfix) with ESMTP id A3036605183F;
 Mon,  4 Mar 2024 09:06:30 -0500 (EST)
Subject: |SUCCESS| pw137913 [PATCH] common/cnxk: fix loopback port dataflow i
From: dpdklab@iol.unh.edu
To: Test Report <test-report@dpdk.org>
Cc: dpdk-test-reports@iol.unh.edu
In-Reply-To: <20240304123335.1769854-1-rbhansali@marvell.com>
References: <20240304123335.1769854-1-rbhansali@marvell.com>
Content-Type: text/plain
X-BeenThere: test-report@dpdk.org
X-Mailman-Version: 2.1.29
Precedence: list
List-Id: automatic DPDK test reports <test-report.dpdk.org>
List-Unsubscribe: <https://mails.dpdk.org/options/test-report>,
 <mailto:test-report-request@dpdk.org?subject=unsubscribe>
List-Archive: <http://mails.dpdk.org/archives/test-report/>
List-Post: <mailto:test-report@dpdk.org>
List-Help: <mailto:test-report-request@dpdk.org?subject=help>
List-Subscribe: <https://mails.dpdk.org/listinfo/test-report>,
 <mailto:test-report-request@dpdk.org?subject=subscribe>
Errors-To: test-report-bounces@dpdk.org

Test-Label: iol-compile-arm64-testing
Test-Status: SUCCESS
http://dpdk.org/patch/137913

_Testing PASS_

Submitter: Rahul Bhansali <rbhansali@marvell.com>
Date: Monday, March 04 2024 12:33:35 
DPDK git baseline: Repo:dpdk
  Branch: master
  CommitID:cc7ce74402f29c5850eccc5828492135b91135cf

137913 --> testing pass

Test environment and result as below:

+----------------------------------------+--------------------+
|              Environment               | dpdk_meson_compile |
+========================================+====================+
| Ubuntu 20.04 ARM SVE                   | PASS               |
+----------------------------------------+--------------------+
| Ubuntu 20.04 aarch32 GCC Cross Compile | PASS               |
+----------------------------------------+--------------------+
| Fedora 37 (ARM)                        | PASS               |
+----------------------------------------+--------------------+
| Fedora 38 (ARM)                        | PASS               |
+----------------------------------------+--------------------+
| Ubuntu 20.04 ARM Clang Cross Compile   | PASS               |
+----------------------------------------+--------------------+
| CentOS Stream 9 (ARM)                  | PASS               |
+----------------------------------------+--------------------+
| Ubuntu 20.04 ARM GCC Cross Compile     | PASS               |
+----------------------------------------+--------------------+


Ubuntu 20.04 ARM SVE
	Kernel: 5.4.0-80-generic
	Compiler: gcc 10.3.0 (Ubuntu 10.3.0-1ubuntu1~20.04)

Ubuntu 20.04 aarch32 GCC Cross Compile
	Kernel: 5.4.0-72-generic
	Compiler: gcc 9.3.0

Fedora 37 (ARM)
	Kernel: Depends on container host
	Compiler: gcc 12.3.1

Fedora 38 (ARM)
	Kernel: Depends on container host
	Compiler: gcc 13.1.1

Ubuntu 20.04 ARM Clang Cross Compile
	Kernel: 5.4.0-72-generic
	Compiler: clang version 10.0.0-4ubuntu1

CentOS Stream 9 (ARM)
	Kernel: Container Host Kernel
	Compiler: gcc 11.3.1

Ubuntu 20.04 ARM GCC Cross Compile
	Kernel: 5.4.0-72-generic
	Compiler: aarch64-linux-gnu-gcc (Ubuntu 9.3.0-17ubuntu1~20.04) 9.3.0

To view detailed results, visit:
https://lab.dpdk.org/results/dashboard/patchsets/29403/

UNH-IOL DPDK Community Lab

To manage your email subscriptions, visit: 
https://lab.dpdk.org/results/dashboard/preferences/subscriptions/