From mboxrd@z Thu Jan  1 00:00:00 1970
Return-Path: <test-report-bounces@dpdk.org>
Received: from mails.dpdk.org (mails.dpdk.org [217.70.189.124])
	by inbox.dpdk.org (Postfix) with ESMTP id 026F243B81
	for <public@inbox.dpdk.org>; Mon,  4 Mar 2024 15:07:23 +0100 (CET)
Received: from mails.dpdk.org (localhost [127.0.0.1])
	by mails.dpdk.org (Postfix) with ESMTP id F24144027D;
	Mon,  4 Mar 2024 15:07:22 +0100 (CET)
Received: from mail-qk1-f225.google.com (mail-qk1-f225.google.com
 [209.85.222.225])
 by mails.dpdk.org (Postfix) with ESMTP id 4AC0F4026B
 for <test-report@dpdk.org>; Mon,  4 Mar 2024 15:07:22 +0100 (CET)
Received: by mail-qk1-f225.google.com with SMTP id
 af79cd13be357-788201e3a87so178103285a.1
 for <test-report@dpdk.org>; Mon, 04 Mar 2024 06:07:22 -0800 (PST)
DKIM-Signature: v=1; a=rsa-sha256; c=relaxed/relaxed;
 d=iol.unh.edu; s=unh-iol; t=1709561241; x=1710166041; darn=dpdk.org;
 h=references:in-reply-to:cc:to:from:subject:message-id:date:from:to
 :cc:subject:date:message-id:reply-to;
 bh=jA8a1JnQoyoQCGn8oFb3XZG8tJP5pVV5AGmqUD0g/3c=;
 b=FQc0M+6Tt6bd/oMAEteotmDpKrUTPHYoo1MF3W+Coiprr6cyj28kzovhjshfEWs5Fc
 i2ubTL7fU2a4Y1cOt2wtyHbtt1fjyn/NvFYzW7XC+FMuopkpcWPg0bYjco/giidjXWRF
 mVX4d1UyGWryIC+M9TVfr0zt1IqbP8bjq4vhM=
X-Google-DKIM-Signature: v=1; a=rsa-sha256; c=relaxed/relaxed;
 d=1e100.net; s=20230601; t=1709561241; x=1710166041;
 h=references:in-reply-to:cc:to:from:subject:message-id:date
 :x-gm-message-state:from:to:cc:subject:date:message-id:reply-to;
 bh=jA8a1JnQoyoQCGn8oFb3XZG8tJP5pVV5AGmqUD0g/3c=;
 b=NaBa3IGxNA8GHr0+r/zxkE1mQJZd/49kX+zKtZv6ees0m8mDiCt1hKD825fPEAsF51
 ohk0ObdjD1P3HZ6DZgdxFRXTlX5RPpc0kCRwLg2xBe7KoeDgu+MIKLbiV0E7MF/7jFq/
 oxHevt//A09WeWGJlJJfLkDqYw3y5kxIKsJtaVMv/GHJnGcj3pxVYcLvYZXPmX1nZIhN
 wrFxf0zUW/nBKDOcsGqsz51eJ35ymJYNGcoRhuMpb3c1UqVPqFvrDAQLEQqmDiLvyAmB
 vBMYAAjtVtTstDzy8FmZT0BvtU0fheeNmLGjsnQb/qNUPJPq2pzGnJO8Dtb3GZXruWdA
 VYpw==
X-Gm-Message-State: AOJu0YyPOA7Z3MjTWhxEfbMUo3soL2nWDexAYvYYW1sdKciscXD5sGag
 Rci7jSZnvnmgWoVnrjctsMlHgihGJLfgbQia+ic3nc4vLlGsao0lUBtOL6G2/2FWnc/dVPgjguW
 PliNFEgrVuKx0KVXn1wBWojWpkQrzteJLSQfPrX1JiNXnEdgvBJebQCr1
X-Google-Smtp-Source: AGHT+IG8SrqafRH138exWGpZU2nVgJouNayiGMd7RnSkp3UFXXQNh7F19uv7G8BNKeuVwkmWjKcu0ytAIQvC
X-Received: by 2002:ad4:4d49:0:b0:690:5745:5b49 with SMTP id
 m9-20020ad44d49000000b0069057455b49mr7519641qvm.11.1709561241641; 
 Mon, 04 Mar 2024 06:07:21 -0800 (PST)
Received: from postal.iol.unh.edu (postal.iol.unh.edu.
 [2606:4100:3880:1234::84]) by smtp-relay.gmail.com with ESMTPS id
 gi8-20020a056214248800b0068f3d78e17dsm440089qvb.41.2024.03.04.06.07.21
 (version=TLS1_2 cipher=ECDHE-ECDSA-AES128-GCM-SHA256 bits=128/128);
 Mon, 04 Mar 2024 06:07:21 -0800 (PST)
X-Relaying-Domain: iol.unh.edu
Date: Mon, 04 Mar 2024 06:07:21 -0800 (PST)
Message-ID: <65e5d599.050a0220.595e8.daefSMTPIN_ADDED_MISSING@mx.google.com>
Received: from [172.21.0.6] (unknown [172.18.0.240])
 by postal.iol.unh.edu (Postfix) with ESMTP id 5235C605183F;
 Mon,  4 Mar 2024 09:07:21 -0500 (EST)
Subject: |SUCCESS| pw137880-137911 [PATCH] [v2,33/33] net/ena: upgrade driver
From: dpdklab@iol.unh.edu
To: Test Report <test-report@dpdk.org>
Cc: dpdk-test-reports@iol.unh.edu
In-Reply-To: <20240304122942.3496-34-shaibran@amazon.com>
References: <20240304122942.3496-34-shaibran@amazon.com>
Content-Type: text/plain
X-BeenThere: test-report@dpdk.org
X-Mailman-Version: 2.1.29
Precedence: list
List-Id: automatic DPDK test reports <test-report.dpdk.org>
List-Unsubscribe: <https://mails.dpdk.org/options/test-report>,
 <mailto:test-report-request@dpdk.org?subject=unsubscribe>
List-Archive: <http://mails.dpdk.org/archives/test-report/>
List-Post: <mailto:test-report@dpdk.org>
List-Help: <mailto:test-report-request@dpdk.org?subject=help>
List-Subscribe: <https://mails.dpdk.org/listinfo/test-report>,
 <mailto:test-report-request@dpdk.org?subject=subscribe>
Errors-To: test-report-bounces@dpdk.org

Test-Label: iol-abi-testing
Test-Status: SUCCESS
http://dpdk.org/patch/137911

_Testing PASS_

Submitter: Brandes, Shai <shaibran@amazon.com>
Date: Monday, March 04 2024 12:29:42 
DPDK git baseline: Repo:dpdk
  Branch: master
  CommitID:d4d5bbe6791850987d6d28da675574a868e8274c

137880-137911 --> testing pass

Test environment and result as below:

+------------------+----------+
|   Environment    | abi_test |
+==================+==========+
| openSUSE Leap 15 | PASS     |
+------------------+----------+
| CentOS Stream 9  | PASS     |
+------------------+----------+
| Fedora 38        | PASS     |
+------------------+----------+
| Ubuntu 22.04     | PASS     |
+------------------+----------+
| Debian 12 (arm)  | PASS     |
+------------------+----------+


openSUSE Leap 15
	Kernel: 4.18.0-240.10.1.el8_3.x86_64
	Compiler: gcc 7.5.0

CentOS Stream 9
	Kernel: 4.18.0-240.10.1.el8_3.x86_64
	Compiler: gcc 11.3.1 20220421

Fedora 38
	Kernel: Depends on container host
	Compiler: gcc 13.1.1

Ubuntu 22.04
	Kernel: 4.18.0-240.10.1.el8_3.x86_64
	Compiler: gcc 11.3.0

Debian 12 (arm)
	Kernel: Container Host Kernel
	Compiler: gcc 11

To view detailed results, visit:
https://lab.dpdk.org/results/dashboard/patchsets/29402/

UNH-IOL DPDK Community Lab

To manage your email subscriptions, visit: 
https://lab.dpdk.org/results/dashboard/preferences/subscriptions/