From mboxrd@z Thu Jan  1 00:00:00 1970
Return-Path: <test-report-bounces@dpdk.org>
Received: from mails.dpdk.org (mails.dpdk.org [217.70.189.124])
	by inbox.dpdk.org (Postfix) with ESMTP id 22C9B43B81
	for <public@inbox.dpdk.org>; Mon,  4 Mar 2024 15:07:57 +0100 (CET)
Received: from mails.dpdk.org (localhost [127.0.0.1])
	by mails.dpdk.org (Postfix) with ESMTP id 15C3E4027D;
	Mon,  4 Mar 2024 15:07:57 +0100 (CET)
Received: from mail-yw1-f225.google.com (mail-yw1-f225.google.com
 [209.85.128.225])
 by mails.dpdk.org (Postfix) with ESMTP id EFBD24026B
 for <test-report@dpdk.org>; Mon,  4 Mar 2024 15:07:55 +0100 (CET)
Received: by mail-yw1-f225.google.com with SMTP id
 00721157ae682-607e60d01b2so22586727b3.1
 for <test-report@dpdk.org>; Mon, 04 Mar 2024 06:07:55 -0800 (PST)
DKIM-Signature: v=1; a=rsa-sha256; c=relaxed/relaxed;
 d=iol.unh.edu; s=unh-iol; t=1709561275; x=1710166075; darn=dpdk.org;
 h=references:in-reply-to:cc:to:from:subject:message-id:date:from:to
 :cc:subject:date:message-id:reply-to;
 bh=LweVn9t0uHJ6lam04OYkdSRra74EK3EKqT21YaxLMpg=;
 b=IzeXV2a/3A3Jnu9WgEGchJZ79pjUM6HETjaaYRq8bdXtsJT6VHXA9MNUt9jgEWQeZl
 8ahhXlPa29TMyCeLdfj0HD06oti9m1gBz+hbWRQVtPvTox1tM+AeEgF8GIlfqvoZPttZ
 nMItnwacENjE9OSZkr3ml1gad1Bcia3DczsCs=
X-Google-DKIM-Signature: v=1; a=rsa-sha256; c=relaxed/relaxed;
 d=1e100.net; s=20230601; t=1709561275; x=1710166075;
 h=references:in-reply-to:cc:to:from:subject:message-id:date
 :x-gm-message-state:from:to:cc:subject:date:message-id:reply-to;
 bh=LweVn9t0uHJ6lam04OYkdSRra74EK3EKqT21YaxLMpg=;
 b=sdAHcm6xwYHi2XudWduvty4JeUGrjUFTGB9OBcxEoSI7a9KXQ/kqaV2+tgtZB3MBLm
 qoY+tgaD59XpTfeWpt1J7SzdxLxZH9WUIizdkTYAthF29sQYh6a24fGb2/zoVzrDkKB9
 7SulCL+0eD7/YVFsJD+PTWpmIwciiHagpfcgo+GGO/pKAa68Hl9UHH2B/xJ0DXVfHElm
 fVyn2REbzehNG8HZcvECHOv8Ge6fduKWkpTeJIfngOvXdXjMrGVkaNQn54TIY3Rw0s3J
 ZX7hJK2tJ4mB0k3w3vMZSj51Pxx0eKvwFLXd1ERV/8YfVFyXlXS3UjUFtIrkxjiZ2a8p
 KDGA==
X-Gm-Message-State: AOJu0YxYGx7myPiX7wVlmP+ZpM7J8mXEXHPS+ovLLAVmlXLRNp7RnLcT
 YJfG6RzS2jMbktk2e56F8O5S5ZRp6EB+LisJb4Irp97AO2FVAxHu+tj0nstu13NoR+OekgkFoda
 LAkcrusuchHWGfk6nPm/kq4e/OQdaMrz4ch6ZsK1b
X-Google-Smtp-Source: AGHT+IGE5CQatKbKTG9nno1FGRWQezjPHiTvmTVgzJotgMQdZGgN6Rfzt/gXVzDNS4HQ7BqTCl4hduJba6ME
X-Received: by 2002:a81:6fd4:0:b0:604:49f5:bbde with SMTP id
 k203-20020a816fd4000000b0060449f5bbdemr7458182ywc.32.1709561274420; 
 Mon, 04 Mar 2024 06:07:54 -0800 (PST)
Received: from postal.iol.unh.edu (postal.iol.unh.edu. [132.177.123.84])
 by smtp-relay.gmail.com with ESMTPS id
 m204-20020a0dcad5000000b0060995a3aa78sm304494ywd.42.2024.03.04.06.07.54
 (version=TLS1_2 cipher=ECDHE-ECDSA-AES128-GCM-SHA256 bits=128/128);
 Mon, 04 Mar 2024 06:07:54 -0800 (PST)
X-Relaying-Domain: iol.unh.edu
Date: Mon, 04 Mar 2024 06:07:54 -0800 (PST)
Message-ID: <65e5d5ba.0d0a0220.6fdb.452dSMTPIN_ADDED_MISSING@mx.google.com>
Received: from [172.21.0.6] (unknown [172.18.0.240])
 by postal.iol.unh.edu (Postfix) with ESMTP id 14D68605183F;
 Mon,  4 Mar 2024 09:07:54 -0500 (EST)
Subject: |SUCCESS| pw137880-137911 [PATCH] [v2,33/33] net/ena: upgrade driver
From: dpdklab@iol.unh.edu
To: Test Report <test-report@dpdk.org>
Cc: dpdk-test-reports@iol.unh.edu
In-Reply-To: <20240304122942.3496-34-shaibran@amazon.com>
References: <20240304122942.3496-34-shaibran@amazon.com>
Content-Type: text/plain
X-BeenThere: test-report@dpdk.org
X-Mailman-Version: 2.1.29
Precedence: list
List-Id: automatic DPDK test reports <test-report.dpdk.org>
List-Unsubscribe: <https://mails.dpdk.org/options/test-report>,
 <mailto:test-report-request@dpdk.org?subject=unsubscribe>
List-Archive: <http://mails.dpdk.org/archives/test-report/>
List-Post: <mailto:test-report@dpdk.org>
List-Help: <mailto:test-report-request@dpdk.org?subject=help>
List-Subscribe: <https://mails.dpdk.org/listinfo/test-report>,
 <mailto:test-report-request@dpdk.org?subject=subscribe>
Errors-To: test-report-bounces@dpdk.org

Test-Label: iol-compile-amd64-testing
Test-Status: SUCCESS
http://dpdk.org/patch/137911

_Testing PASS_

Submitter: Brandes, Shai <shaibran@amazon.com>
Date: Monday, March 04 2024 12:29:42 
DPDK git baseline: Repo:dpdk
  Branch: master
  CommitID:d4d5bbe6791850987d6d28da675574a868e8274c

137880-137911 --> testing pass

Test environment and result as below:

+---------------------+--------------------+----------------------+
|     Environment     | dpdk_meson_compile | dpdk_mingw64_compile |
+=====================+====================+======================+
| Windows Server 2022 | PASS               | SKIPPED              |
+---------------------+--------------------+----------------------+
| FreeBSD 13.2        | PASS               | SKIPPED              |
+---------------------+--------------------+----------------------+
| Windows Server 2019 | PASS               | PASS                 |
+---------------------+--------------------+----------------------+
| CentOS Stream 8     | PASS               | SKIPPED              |
+---------------------+--------------------+----------------------+
| CentOS Stream 9     | PASS               | SKIPPED              |
+---------------------+--------------------+----------------------+


Windows Server 2022
	Kernel: OS Build 20348.2031
	Compiler: MSVC VS-Preview

FreeBSD 13.2
	Kernel: 13.2
	Compiler: clang 11.3.0

Windows Server 2019
	Kernel: 10.0
	Compiler: clang 14.0 and gcc 8.1.0 (MinGW)

CentOS Stream 8
	Kernel: 4.18.0-240.10.1.el8_3.x86_64
	Compiler: gcc 8.4.1 20200928

CentOS Stream 9
	Kernel: 4.18.0-240.10.1.el8_3.x86_64
	Compiler: gcc 11.3.1 20220421

To view detailed results, visit:
https://lab.dpdk.org/results/dashboard/patchsets/29402/

UNH-IOL DPDK Community Lab

To manage your email subscriptions, visit: 
https://lab.dpdk.org/results/dashboard/preferences/subscriptions/