From mboxrd@z Thu Jan  1 00:00:00 1970
Return-Path: <test-report-bounces@dpdk.org>
Received: from mails.dpdk.org (mails.dpdk.org [217.70.189.124])
	by inbox.dpdk.org (Postfix) with ESMTP id 0964643B81
	for <public@inbox.dpdk.org>; Mon,  4 Mar 2024 15:11:33 +0100 (CET)
Received: from mails.dpdk.org (localhost [127.0.0.1])
	by mails.dpdk.org (Postfix) with ESMTP id 046224027D;
	Mon,  4 Mar 2024 15:11:33 +0100 (CET)
Received: from mail-yw1-f227.google.com (mail-yw1-f227.google.com
 [209.85.128.227])
 by mails.dpdk.org (Postfix) with ESMTP id B250D4026B
 for <test-report@dpdk.org>; Mon,  4 Mar 2024 15:11:31 +0100 (CET)
Received: by mail-yw1-f227.google.com with SMTP id
 00721157ae682-6098a20ab22so23157337b3.2
 for <test-report@dpdk.org>; Mon, 04 Mar 2024 06:11:31 -0800 (PST)
DKIM-Signature: v=1; a=rsa-sha256; c=relaxed/relaxed;
 d=iol.unh.edu; s=unh-iol; t=1709561491; x=1710166291; darn=dpdk.org;
 h=references:in-reply-to:cc:to:from:subject:message-id:date:from:to
 :cc:subject:date:message-id:reply-to;
 bh=VNiKQ+HssEpDGvFsKobR7xSdgcaW5jIkqCDiSgY6Ovo=;
 b=c3dfp+V/L2HnPlpeaAfVv7xtC6N0DzxjUi1CkJ6Wqzuo7bzF+8kt4PuSggYbrHj0xt
 9FnRcbZ3SjkE9v/HMcv2o1DIFCm/AYo228JeU94Ey7nWZ9BuWBvt7g/R0walI/bCrCNt
 LzS50osHyyuTfGkNBTk00Y47+hM2h8qeo6t50=
X-Google-DKIM-Signature: v=1; a=rsa-sha256; c=relaxed/relaxed;
 d=1e100.net; s=20230601; t=1709561491; x=1710166291;
 h=references:in-reply-to:cc:to:from:subject:message-id:date
 :x-gm-message-state:from:to:cc:subject:date:message-id:reply-to;
 bh=VNiKQ+HssEpDGvFsKobR7xSdgcaW5jIkqCDiSgY6Ovo=;
 b=Yt6hpxeN+C3SsWIf1HoPq7ERx5smbgTLHosbSTkmc6UnpYi/anqUpyF12jxJ/0XjLq
 HEHDPeOsxo6mkfZy/UKtDGChZc/GYfsLVuyLmTUTZhzjeNXTkdHCeR0xkhZLPxffJw5A
 l9oLCAXGtkJHtKm02qWiOdhYCk2oQcauSjENrvjNOPvOjeUyeZjmSYdfHqzj/Y+lxgxY
 UzRonIHPeq9zAwgxfxuQpExugJmE+Mzs2inb/EpJWeIXVzVN5W+5RuRGHoXdtw1x00d6
 aj0bfKENESNAU0kqfn2ue6pySnffoqH68GcrteHNzDqkFouky/spbXzeKwaHL599GNFC
 HD8w==
X-Gm-Message-State: AOJu0YxpO9fGKlvjiWAUmw5QJRfu88C8mB1eSv3/TbErmroE1CZs7jG9
 6xT5Kk+YYzi2TYpFRbrdkBCgV/aEnLm4s068JZSQvM8vLPkAsuSEV4E7Ltuk7lF0VAmnGgVkPSo
 IcllaYOG9DAS+BoLLTH1R+ybHDYd/jGrHwL0cS5dgvMLMPQ4cWQGFTvDC
X-Google-Smtp-Source: AGHT+IHjrHwBe0bHKLvO0GtNvIm1Oz4RMKKZmHgVMnx7RYYXW4mFYEnTvD1hMH9kC3Uzw9vy0TS02nMLzjcd
X-Received: by 2002:a81:6f44:0:b0:5ff:4959:1da8 with SMTP id
 k65-20020a816f44000000b005ff49591da8mr8041346ywc.50.1709561491008; 
 Mon, 04 Mar 2024 06:11:31 -0800 (PST)
Received: from postal.iol.unh.edu (postal.iol.unh.edu.
 [2606:4100:3880:1234::84]) by smtp-relay.gmail.com with ESMTPS id
 u128-20020a816086000000b006093c2c7542sm548451ywb.39.2024.03.04.06.11.30
 (version=TLS1_2 cipher=ECDHE-ECDSA-AES128-GCM-SHA256 bits=128/128);
 Mon, 04 Mar 2024 06:11:30 -0800 (PST)
X-Relaying-Domain: iol.unh.edu
Date: Mon, 04 Mar 2024 06:11:30 -0800 (PST)
Message-ID: <65e5d692.810a0220.c670d.418aSMTPIN_ADDED_MISSING@mx.google.com>
Received: from [172.21.0.6] (unknown [172.18.0.240])
 by postal.iol.unh.edu (Postfix) with ESMTP id A6AC5605183F;
 Mon,  4 Mar 2024 09:11:30 -0500 (EST)
Subject: |SUCCESS| pw137880-137911 [PATCH] [v2,33/33] net/ena: upgrade driver
From: dpdklab@iol.unh.edu
To: Test Report <test-report@dpdk.org>
Cc: dpdk-test-reports@iol.unh.edu
In-Reply-To: <20240304122942.3496-34-shaibran@amazon.com>
References: <20240304122942.3496-34-shaibran@amazon.com>
Content-Type: text/plain
X-BeenThere: test-report@dpdk.org
X-Mailman-Version: 2.1.29
Precedence: list
List-Id: automatic DPDK test reports <test-report.dpdk.org>
List-Unsubscribe: <https://mails.dpdk.org/options/test-report>,
 <mailto:test-report-request@dpdk.org?subject=unsubscribe>
List-Archive: <http://mails.dpdk.org/archives/test-report/>
List-Post: <mailto:test-report@dpdk.org>
List-Help: <mailto:test-report-request@dpdk.org?subject=help>
List-Subscribe: <https://mails.dpdk.org/listinfo/test-report>,
 <mailto:test-report-request@dpdk.org?subject=subscribe>
Errors-To: test-report-bounces@dpdk.org

Test-Label: iol-compile-amd64-testing
Test-Status: SUCCESS
http://dpdk.org/patch/137911

_Testing PASS_

Submitter: Brandes, Shai <shaibran@amazon.com>
Date: Monday, March 04 2024 12:29:42 
DPDK git baseline: Repo:dpdk
  Branch: master
  CommitID:d4d5bbe6791850987d6d28da675574a868e8274c

137880-137911 --> testing pass

Test environment and result as below:

+---------------------+--------------------+----------------------+
|     Environment     | dpdk_meson_compile | dpdk_mingw64_compile |
+=====================+====================+======================+
| Windows Server 2022 | PASS               | SKIPPED              |
+---------------------+--------------------+----------------------+
| FreeBSD 13.2        | PASS               | SKIPPED              |
+---------------------+--------------------+----------------------+
| Windows Server 2019 | PASS               | PASS                 |
+---------------------+--------------------+----------------------+
| CentOS Stream 8     | PASS               | SKIPPED              |
+---------------------+--------------------+----------------------+
| CentOS Stream 9     | PASS               | SKIPPED              |
+---------------------+--------------------+----------------------+
| Fedora 37           | PASS               | SKIPPED              |
+---------------------+--------------------+----------------------+
| Debian Bullseye     | PASS               | SKIPPED              |
+---------------------+--------------------+----------------------+
| openSUSE Leap 15    | PASS               | SKIPPED              |
+---------------------+--------------------+----------------------+


Windows Server 2022
	Kernel: OS Build 20348.2031
	Compiler: MSVC VS-Preview

FreeBSD 13.2
	Kernel: 13.2
	Compiler: clang 11.3.0

Windows Server 2019
	Kernel: 10.0
	Compiler: clang 14.0 and gcc 8.1.0 (MinGW)

CentOS Stream 8
	Kernel: 4.18.0-240.10.1.el8_3.x86_64
	Compiler: gcc 8.4.1 20200928

CentOS Stream 9
	Kernel: 4.18.0-240.10.1.el8_3.x86_64
	Compiler: gcc 11.3.1 20220421

Fedora 37
	Kernel: Depends on container host system
	Compiler: gcc 12.3.1

Debian Bullseye
	Kernel: 5.4.0-122-generic
	Compiler: gcc 10.2.1-6

openSUSE Leap 15
	Kernel: 4.18.0-240.10.1.el8_3.x86_64
	Compiler: gcc 7.5.0

To view detailed results, visit:
https://lab.dpdk.org/results/dashboard/patchsets/29402/

UNH-IOL DPDK Community Lab

To manage your email subscriptions, visit: 
https://lab.dpdk.org/results/dashboard/preferences/subscriptions/