From mboxrd@z Thu Jan  1 00:00:00 1970
Return-Path: <test-report-bounces@dpdk.org>
Received: from mails.dpdk.org (mails.dpdk.org [217.70.189.124])
	by inbox.dpdk.org (Postfix) with ESMTP id 1AEF943B81
	for <public@inbox.dpdk.org>; Mon,  4 Mar 2024 15:11:58 +0100 (CET)
Received: from mails.dpdk.org (localhost [127.0.0.1])
	by mails.dpdk.org (Postfix) with ESMTP id 172534027D;
	Mon,  4 Mar 2024 15:11:58 +0100 (CET)
Received: from mail-qt1-f225.google.com (mail-qt1-f225.google.com
 [209.85.160.225])
 by mails.dpdk.org (Postfix) with ESMTP id 23A744026B
 for <test-report@dpdk.org>; Mon,  4 Mar 2024 15:11:57 +0100 (CET)
Received: by mail-qt1-f225.google.com with SMTP id
 d75a77b69052e-42ee7fa077bso7198401cf.3
 for <test-report@dpdk.org>; Mon, 04 Mar 2024 06:11:57 -0800 (PST)
DKIM-Signature: v=1; a=rsa-sha256; c=relaxed/relaxed;
 d=iol.unh.edu; s=unh-iol; t=1709561516; x=1710166316; darn=dpdk.org;
 h=references:in-reply-to:cc:to:from:subject:message-id:date:from:to
 :cc:subject:date:message-id:reply-to;
 bh=VNiKQ+HssEpDGvFsKobR7xSdgcaW5jIkqCDiSgY6Ovo=;
 b=MXVbX/j+bXUZanq9jWm/E/JiE7Xz0POVafcfNrznp63/TN0E65cj9xv7y+zhpmBE8Y
 oB4vFf789sPPyQVPE/k2KBkuLoxkMmgEsSaDyHA2+jQxCdWFyqonI+Foi0KaLdhacxMp
 DQZv9N9mx9wU2YiYfaJ+KR5klFmvmDxDZn7XA=
X-Google-DKIM-Signature: v=1; a=rsa-sha256; c=relaxed/relaxed;
 d=1e100.net; s=20230601; t=1709561516; x=1710166316;
 h=references:in-reply-to:cc:to:from:subject:message-id:date
 :x-gm-message-state:from:to:cc:subject:date:message-id:reply-to;
 bh=VNiKQ+HssEpDGvFsKobR7xSdgcaW5jIkqCDiSgY6Ovo=;
 b=rox1HClCL2UwwytoV4jVLLzyFOeK6Q3PBPsBqqIUJcRjwG1m1XDWRFj1AlGO9s5ckd
 U9h88zk74nGu3Vin+EoyQXeEl9wXEs7CePPIkAvzhNQ+eoWuxCBEudjaGa2a0AGGiZRN
 zJoVWlzW8LpKP2mCQqxIPISmqn2GRMXO5PhFPpamWlQqYRiRa2DDeYSoKuwO/HG1UmTZ
 ixEGH6LjAMmIl1Zkm/dXOsu7FLuIzFNWe5JNzod8d0bTbG4oS/r5Wx4yjgHmj/EJ1Nic
 zG7w3xJHK1o035He2CnRuWnk69JTlfkJH16/PuXA+w0oyIPhb7MbuyrUV7fA/IVVJmsW
 rt8g==
X-Gm-Message-State: AOJu0Yx4s9xA6GIV6AtMhle6O8LJ+LCipJ7EQFzi8lOL+bblN2Bru2aj
 oN3y5fENKwtZNi+RNRxqYiM4O3w9UDFop3X8fCHg94+Y5CpiSGuVFWhbCsGEX/3i6ZXdB7nAv9e
 565FvVDj/umpr2Nag9NkgTzNVo7RZ1W7R95alVyhUoeL0W+r0paiaEfmj
X-Google-Smtp-Source: AGHT+IHv4M+5ywpZfDGa1+m6geCebgRcSIRPuMLWUgLbPADwt/0H3PoVGl97tnClP0tZhHgkylXPpWKfuYa9
X-Received: by 2002:a05:622a:199a:b0:42e:f733:669d with SMTP id
 u26-20020a05622a199a00b0042ef733669dmr1219842qtc.58.1709561516572; 
 Mon, 04 Mar 2024 06:11:56 -0800 (PST)
Received: from postal.iol.unh.edu (postal.iol.unh.edu.
 [2606:4100:3880:1234::84]) by smtp-relay.gmail.com with ESMTPS id
 fv6-20020a05622a4a0600b0042e57890351sm313921qtb.9.2024.03.04.06.11.56
 (version=TLS1_2 cipher=ECDHE-ECDSA-AES128-GCM-SHA256 bits=128/128);
 Mon, 04 Mar 2024 06:11:56 -0800 (PST)
X-Relaying-Domain: iol.unh.edu
Date: Mon, 04 Mar 2024 06:11:56 -0800 (PST)
Message-ID: <65e5d6ac.050a0220.716fc.28bfSMTPIN_ADDED_MISSING@mx.google.com>
Received: from [172.21.0.7] (unknown [172.18.0.240])
 by postal.iol.unh.edu (Postfix) with ESMTP id 49109605183F;
 Mon,  4 Mar 2024 09:11:56 -0500 (EST)
Subject: |SUCCESS| pw137880-137911 [PATCH] [v2,33/33] net/ena: upgrade driver
From: dpdklab@iol.unh.edu
To: Test Report <test-report@dpdk.org>
Cc: dpdk-test-reports@iol.unh.edu
In-Reply-To: <20240304122942.3496-34-shaibran@amazon.com>
References: <20240304122942.3496-34-shaibran@amazon.com>
Content-Type: text/plain
X-BeenThere: test-report@dpdk.org
X-Mailman-Version: 2.1.29
Precedence: list
List-Id: automatic DPDK test reports <test-report.dpdk.org>
List-Unsubscribe: <https://mails.dpdk.org/options/test-report>,
 <mailto:test-report-request@dpdk.org?subject=unsubscribe>
List-Archive: <http://mails.dpdk.org/archives/test-report/>
List-Post: <mailto:test-report@dpdk.org>
List-Help: <mailto:test-report-request@dpdk.org?subject=help>
List-Subscribe: <https://mails.dpdk.org/listinfo/test-report>,
 <mailto:test-report-request@dpdk.org?subject=subscribe>
Errors-To: test-report-bounces@dpdk.org

Test-Label: iol-compile-amd64-testing
Test-Status: SUCCESS
http://dpdk.org/patch/137911

_Testing PASS_

Submitter: Brandes, Shai <shaibran@amazon.com>
Date: Monday, March 04 2024 12:29:42 
DPDK git baseline: Repo:dpdk
  Branch: master
  CommitID:d4d5bbe6791850987d6d28da675574a868e8274c

137880-137911 --> testing pass

Test environment and result as below:

+---------------------+--------------------+----------------------+
|     Environment     | dpdk_meson_compile | dpdk_mingw64_compile |
+=====================+====================+======================+
| Windows Server 2022 | PASS               | SKIPPED              |
+---------------------+--------------------+----------------------+
| FreeBSD 13.2        | PASS               | SKIPPED              |
+---------------------+--------------------+----------------------+
| Windows Server 2019 | PASS               | PASS                 |
+---------------------+--------------------+----------------------+
| CentOS Stream 8     | PASS               | SKIPPED              |
+---------------------+--------------------+----------------------+
| CentOS Stream 9     | PASS               | SKIPPED              |
+---------------------+--------------------+----------------------+
| Fedora 37           | PASS               | SKIPPED              |
+---------------------+--------------------+----------------------+
| Debian Bullseye     | PASS               | SKIPPED              |
+---------------------+--------------------+----------------------+
| openSUSE Leap 15    | PASS               | SKIPPED              |
+---------------------+--------------------+----------------------+


Windows Server 2022
	Kernel: OS Build 20348.2031
	Compiler: MSVC VS-Preview

FreeBSD 13.2
	Kernel: 13.2
	Compiler: clang 11.3.0

Windows Server 2019
	Kernel: 10.0
	Compiler: clang 14.0 and gcc 8.1.0 (MinGW)

CentOS Stream 8
	Kernel: 4.18.0-240.10.1.el8_3.x86_64
	Compiler: gcc 8.4.1 20200928

CentOS Stream 9
	Kernel: 4.18.0-240.10.1.el8_3.x86_64
	Compiler: gcc 11.3.1 20220421

Fedora 37
	Kernel: Depends on container host system
	Compiler: gcc 12.3.1

Debian Bullseye
	Kernel: 5.4.0-122-generic
	Compiler: gcc 10.2.1-6

openSUSE Leap 15
	Kernel: 4.18.0-240.10.1.el8_3.x86_64
	Compiler: gcc 7.5.0

To view detailed results, visit:
https://lab.dpdk.org/results/dashboard/patchsets/29402/

UNH-IOL DPDK Community Lab

To manage your email subscriptions, visit: 
https://lab.dpdk.org/results/dashboard/preferences/subscriptions/