From mboxrd@z Thu Jan  1 00:00:00 1970
Return-Path: <test-report-bounces@dpdk.org>
Received: from mails.dpdk.org (mails.dpdk.org [217.70.189.124])
	by inbox.dpdk.org (Postfix) with ESMTP id 2EFAA43B81
	for <public@inbox.dpdk.org>; Mon,  4 Mar 2024 15:12:28 +0100 (CET)
Received: from mails.dpdk.org (localhost [127.0.0.1])
	by mails.dpdk.org (Postfix) with ESMTP id 2B8074027D;
	Mon,  4 Mar 2024 15:12:28 +0100 (CET)
Received: from mail-ua1-f99.google.com (mail-ua1-f99.google.com
 [209.85.222.99]) by mails.dpdk.org (Postfix) with ESMTP id 95DDC4026B
 for <test-report@dpdk.org>; Mon,  4 Mar 2024 15:12:26 +0100 (CET)
Received: by mail-ua1-f99.google.com with SMTP id
 a1e0cc1a2514c-7d6275d7d4dso2170024241.2
 for <test-report@dpdk.org>; Mon, 04 Mar 2024 06:12:26 -0800 (PST)
DKIM-Signature: v=1; a=rsa-sha256; c=relaxed/relaxed;
 d=iol.unh.edu; s=unh-iol; t=1709561546; x=1710166346; darn=dpdk.org;
 h=references:in-reply-to:cc:to:from:subject:message-id:date:from:to
 :cc:subject:date:message-id:reply-to;
 bh=FJem/AR1jwEEQ4HqMXbhzl0UeI1hf+lOo/hzUaH1QiE=;
 b=Ll5JBl70/w5XGuo4Jj4M+Z+sI3G0Mu30ybw1jD1YkjEP7iw77QZQVJbKrCyXPzQHk+
 GndfdxkAfBAkQ123yg7+pjZMY+3R09vybFiPTRFyQtrg4uL5quqJn895LMvgmUH/e2xP
 KvtdMdHSlZHxhz1126njImy6pJl/t1a7VTOes=
X-Google-DKIM-Signature: v=1; a=rsa-sha256; c=relaxed/relaxed;
 d=1e100.net; s=20230601; t=1709561546; x=1710166346;
 h=references:in-reply-to:cc:to:from:subject:message-id:date
 :x-gm-message-state:from:to:cc:subject:date:message-id:reply-to;
 bh=FJem/AR1jwEEQ4HqMXbhzl0UeI1hf+lOo/hzUaH1QiE=;
 b=HbJ6/g6xPLFZ3D3fLh0rnK4egV8+Vt4rbe2MWihAO7I3m5puySMu6665TIQqGG+bp6
 G8afTGKKmPuUVZoHeWOcNaEZBCB7ysocEC9gdHWHONDO9IOytQJPo379dKupAMVPOzIb
 vq4L4lLipIrAxtxGaIjHIG/d23W1R1evd84S6/d4qhByXjqxYfRSxmdexHkb5adTOq8r
 CMI0qjwmzg6Oib+ii+ecsXcP1dbfrMbQwbzWCWm1pU8S71WrJV3/h7vlxFuZumwiY8B0
 9WiR44kM+3Lv/mfWZ1pDNj594ASN1Ligxy2UwxPVn2S+HN7ygXTZrsIiaXdXul9NAkaB
 VEjQ==
X-Gm-Message-State: AOJu0YztpMa1UplfNdUffxoCjxaA1i2xi3S9fdXH8L7Jt6yiM5ThNw3T
 c7NoqcDWGj6UvKDg9BLAhaZoPVI0ha8JoEdAi8DP1/f1l9j2fB5HlVChgsrFV1B8F0zRyM7hdrS
 uwKUUWklLLS7MmKU7Rjya2RrXhlPomZIG0BzSUMBB
X-Google-Smtp-Source: AGHT+IH11sf0SGMPvhiomX+banrEwRplSlmv7q4OoWpH2hfoz0wsA6bOOumlImYZCVMR5+wOO/oO6mrNWfQd
X-Received: by 2002:a05:6122:a27:b0:4d3:3446:6bc7 with SMTP id
 39-20020a0561220a2700b004d334466bc7mr6439843vkn.14.1709561545982; 
 Mon, 04 Mar 2024 06:12:25 -0800 (PST)
Received: from postal.iol.unh.edu (postal.iol.unh.edu. [132.177.123.84])
 by smtp-relay.gmail.com with ESMTPS id
 i25-20020ac5cbf9000000b004c0368180b6sm474748vkn.13.2024.03.04.06.12.25
 (version=TLS1_2 cipher=ECDHE-ECDSA-AES128-GCM-SHA256 bits=128/128);
 Mon, 04 Mar 2024 06:12:25 -0800 (PST)
X-Relaying-Domain: iol.unh.edu
Date: Mon, 04 Mar 2024 06:12:25 -0800 (PST)
Message-ID: <65e5d6c9.c50a0220.3dd85.a6e6SMTPIN_ADDED_MISSING@mx.google.com>
Received: from [172.21.0.6] (unknown [172.18.0.240])
 by postal.iol.unh.edu (Postfix) with ESMTP id 96A45605183F;
 Mon,  4 Mar 2024 09:12:25 -0500 (EST)
Subject: |SUCCESS| pw137880-137911 [PATCH] [v2,33/33] net/ena: upgrade driver
From: dpdklab@iol.unh.edu
To: Test Report <test-report@dpdk.org>
Cc: dpdk-test-reports@iol.unh.edu
In-Reply-To: <20240304122942.3496-34-shaibran@amazon.com>
References: <20240304122942.3496-34-shaibran@amazon.com>
Content-Type: text/plain
X-BeenThere: test-report@dpdk.org
X-Mailman-Version: 2.1.29
Precedence: list
List-Id: automatic DPDK test reports <test-report.dpdk.org>
List-Unsubscribe: <https://mails.dpdk.org/options/test-report>,
 <mailto:test-report-request@dpdk.org?subject=unsubscribe>
List-Archive: <http://mails.dpdk.org/archives/test-report/>
List-Post: <mailto:test-report@dpdk.org>
List-Help: <mailto:test-report-request@dpdk.org?subject=help>
List-Subscribe: <https://mails.dpdk.org/listinfo/test-report>,
 <mailto:test-report-request@dpdk.org?subject=subscribe>
Errors-To: test-report-bounces@dpdk.org

Test-Label: iol-unit-arm64-testing
Test-Status: SUCCESS
http://dpdk.org/patch/137911

_Testing PASS_

Submitter: Brandes, Shai <shaibran@amazon.com>
Date: Monday, March 04 2024 12:29:42 
DPDK git baseline: Repo:dpdk
  Branch: master
  CommitID:d4d5bbe6791850987d6d28da675574a868e8274c

137880-137911 --> testing pass

Test environment and result as below:

+--------------------------+------------------------------+---------------------------+--------------+----------------+
|       Environment        | cryptodev_sw_snow3g_autotest | cryptodev_sw_zuc_autotest | lpm_autotest | dpdk_unit_test |
+==========================+==============================+===========================+==============+================+
| Debian 12 (arm)          | PASS                         | PASS                      | SKIPPED      | SKIPPED        |
+--------------------------+------------------------------+---------------------------+--------------+----------------+
| Ubuntu 20.04 ARM SVE     | SKIPPED                      | SKIPPED                   | PASS         | SKIPPED        |
+--------------------------+------------------------------+---------------------------+--------------+----------------+
| CentOS Stream 9 (ARM)    | SKIPPED                      | SKIPPED                   | SKIPPED      | PASS           |
+--------------------------+------------------------------+---------------------------+--------------+----------------+
| Debian 11 (Buster) (ARM) | SKIPPED                      | SKIPPED                   | SKIPPED      | PASS           |
+--------------------------+------------------------------+---------------------------+--------------+----------------+


Debian 12 (arm)
	Kernel: Container Host Kernel
	Compiler: gcc 11

Ubuntu 20.04 ARM SVE
	Kernel: 5.4.0-80-generic
	Compiler: gcc 10.3.0 (Ubuntu 10.3.0-1ubuntu1~20.04)

CentOS Stream 9 (ARM)
	Kernel: Container Host Kernel
	Compiler: gcc 11.3.1

Debian 11 (Buster) (ARM)
	Kernel: Container Host Kernel
	Compiler: gcc 10.2.1

To view detailed results, visit:
https://lab.dpdk.org/results/dashboard/patchsets/29402/

UNH-IOL DPDK Community Lab

To manage your email subscriptions, visit: 
https://lab.dpdk.org/results/dashboard/preferences/subscriptions/