From mboxrd@z Thu Jan  1 00:00:00 1970
Return-Path: <test-report-bounces@dpdk.org>
Received: from mails.dpdk.org (mails.dpdk.org [217.70.189.124])
	by inbox.dpdk.org (Postfix) with ESMTP id 4EED543B81
	for <public@inbox.dpdk.org>; Mon,  4 Mar 2024 15:13:01 +0100 (CET)
Received: from mails.dpdk.org (localhost [127.0.0.1])
	by mails.dpdk.org (Postfix) with ESMTP id 41DC34027D;
	Mon,  4 Mar 2024 15:13:01 +0100 (CET)
Received: from mail-pl1-f225.google.com (mail-pl1-f225.google.com
 [209.85.214.225])
 by mails.dpdk.org (Postfix) with ESMTP id 86D094026B
 for <test-report@dpdk.org>; Mon,  4 Mar 2024 15:12:59 +0100 (CET)
Received: by mail-pl1-f225.google.com with SMTP id
 d9443c01a7336-1dc139ed11fso42651695ad.0
 for <test-report@dpdk.org>; Mon, 04 Mar 2024 06:12:59 -0800 (PST)
DKIM-Signature: v=1; a=rsa-sha256; c=relaxed/relaxed;
 d=iol.unh.edu; s=unh-iol; t=1709561579; x=1710166379; darn=dpdk.org;
 h=references:in-reply-to:cc:to:from:subject:message-id:date:from:to
 :cc:subject:date:message-id:reply-to;
 bh=czU85YAShTMq6fpI/ieVjInRw7Zc+WE6Rd3+7viOG0I=;
 b=BghsL9hanyARMeng/QkkiJIuZMpP5re+rUAaXpVHqFQ7e302BODh/i1oPuOvZmH1Gq
 hrjnWHwo9OpSjIgyCFudDy+ndJQ8WVnkxNLgJt1tRXMyjYsYKh0L4Iz2a82LBJXWMe2m
 xYGeefGYyxfaQH2PRrVJ6pqzOT1hZXi9qmRJc=
X-Google-DKIM-Signature: v=1; a=rsa-sha256; c=relaxed/relaxed;
 d=1e100.net; s=20230601; t=1709561579; x=1710166379;
 h=references:in-reply-to:cc:to:from:subject:message-id:date
 :x-gm-message-state:from:to:cc:subject:date:message-id:reply-to;
 bh=czU85YAShTMq6fpI/ieVjInRw7Zc+WE6Rd3+7viOG0I=;
 b=FaUXGRsL/HtQciALBlh+MdSBsGZFG3oBfRHYaciD3hRg3RYRQ/7nNkz/Jf2lF1DKI/
 0xmKWi4icn/XFcOLlJJm2Neh5Zb5VhZuRyUE33ZxCcEhzyvRexHL5rMm2eP5GhMH4C4/
 dFbTBTVp/EEkqfbIYzEGxAeAAOgANUkg6mTJnIOQkNBOLosuygAIiAmKMzKRQSYK2gCB
 jlvIsV3DoDqACezlXlKCK7zk1LzQJ5vwxbZU+TfukCstEWk5TYV10aKu166W+ZlNh8dV
 X8Bg9+gofIAlWUtdRSMsFjX5aC1O88SQDO0HITEpgExD2yPYCBJDo3fYvDfA78I9KGLQ
 T2Eg==
X-Gm-Message-State: AOJu0YyeWx79U5BQfvaBjX7KGqRfqY+/Svdh2U2TPcrmK4vkyn5ZcTRM
 A7dWPUGMgxf+ERdmGeDvOLe+URIvo8vqjga0z0oy1gzL94xTEXBcGvMvwILeK1ARcmrHTiiONsx
 gwJXtGeKFggKBq9aBz0vtvR8tZaGsZdDFgnLqaibG
X-Google-Smtp-Source: AGHT+IHnKH+7KvpUoc1bq308xxKb+RnpJ138hWA+kRRkdIEwZnXZzVexuN8yhpOEbzMnhr3IBRD7RkNDHWM2
X-Received: by 2002:a17:902:7848:b0:1dc:ad9a:7602 with SMTP id
 e8-20020a170902784800b001dcad9a7602mr13215376pln.34.1709561578775; 
 Mon, 04 Mar 2024 06:12:58 -0800 (PST)
Received: from postal.iol.unh.edu (postal.iol.unh.edu. [132.177.123.84])
 by smtp-relay.gmail.com with ESMTPS id
 q19-20020a170902b11300b001dd090c7b09sm40456plr.67.2024.03.04.06.12.58
 (version=TLS1_2 cipher=ECDHE-ECDSA-AES128-GCM-SHA256 bits=128/128);
 Mon, 04 Mar 2024 06:12:58 -0800 (PST)
X-Relaying-Domain: iol.unh.edu
Date: Mon, 04 Mar 2024 06:12:58 -0800 (PST)
Message-ID: <65e5d6ea.170a0220.6c60e.1b22SMTPIN_ADDED_MISSING@mx.google.com>
Received: from [172.21.0.6] (unknown [172.18.0.240])
 by postal.iol.unh.edu (Postfix) with ESMTP id F1294605183F;
 Mon,  4 Mar 2024 09:12:57 -0500 (EST)
Subject: |SUCCESS| pw137880-137911 [PATCH] [v2,33/33] net/ena: upgrade driver
From: dpdklab@iol.unh.edu
To: Test Report <test-report@dpdk.org>
Cc: dpdk-test-reports@iol.unh.edu
In-Reply-To: <20240304122942.3496-34-shaibran@amazon.com>
References: <20240304122942.3496-34-shaibran@amazon.com>
Content-Type: text/plain
X-BeenThere: test-report@dpdk.org
X-Mailman-Version: 2.1.29
Precedence: list
List-Id: automatic DPDK test reports <test-report.dpdk.org>
List-Unsubscribe: <https://mails.dpdk.org/options/test-report>,
 <mailto:test-report-request@dpdk.org?subject=unsubscribe>
List-Archive: <http://mails.dpdk.org/archives/test-report/>
List-Post: <mailto:test-report@dpdk.org>
List-Help: <mailto:test-report-request@dpdk.org?subject=help>
List-Subscribe: <https://mails.dpdk.org/listinfo/test-report>,
 <mailto:test-report-request@dpdk.org?subject=subscribe>
Errors-To: test-report-bounces@dpdk.org

Test-Label: iol-compile-amd64-testing
Test-Status: SUCCESS
http://dpdk.org/patch/137911

_Testing PASS_

Submitter: Brandes, Shai <shaibran@amazon.com>
Date: Monday, March 04 2024 12:29:42 
DPDK git baseline: Repo:dpdk
  Branch: master
  CommitID:d4d5bbe6791850987d6d28da675574a868e8274c

137880-137911 --> testing pass

Test environment and result as below:

+---------------------+--------------------+----------------------+
|     Environment     | dpdk_meson_compile | dpdk_mingw64_compile |
+=====================+====================+======================+
| Windows Server 2022 | PASS               | SKIPPED              |
+---------------------+--------------------+----------------------+
| FreeBSD 13.2        | PASS               | SKIPPED              |
+---------------------+--------------------+----------------------+
| Windows Server 2019 | PASS               | PASS                 |
+---------------------+--------------------+----------------------+
| CentOS Stream 8     | PASS               | SKIPPED              |
+---------------------+--------------------+----------------------+
| CentOS Stream 9     | PASS               | SKIPPED              |
+---------------------+--------------------+----------------------+
| Fedora 37           | PASS               | SKIPPED              |
+---------------------+--------------------+----------------------+
| Debian Bullseye     | PASS               | SKIPPED              |
+---------------------+--------------------+----------------------+
| openSUSE Leap 15    | PASS               | SKIPPED              |
+---------------------+--------------------+----------------------+
| RHEL8               | PASS               | SKIPPED              |
+---------------------+--------------------+----------------------+


Windows Server 2022
	Kernel: OS Build 20348.2031
	Compiler: MSVC VS-Preview

FreeBSD 13.2
	Kernel: 13.2
	Compiler: clang 11.3.0

Windows Server 2019
	Kernel: 10.0
	Compiler: clang 14.0 and gcc 8.1.0 (MinGW)

CentOS Stream 8
	Kernel: 4.18.0-240.10.1.el8_3.x86_64
	Compiler: gcc 8.4.1 20200928

CentOS Stream 9
	Kernel: 4.18.0-240.10.1.el8_3.x86_64
	Compiler: gcc 11.3.1 20220421

Fedora 37
	Kernel: Depends on container host system
	Compiler: gcc 12.3.1

Debian Bullseye
	Kernel: 5.4.0-122-generic
	Compiler: gcc 10.2.1-6

openSUSE Leap 15
	Kernel: 4.18.0-240.10.1.el8_3.x86_64
	Compiler: gcc 7.5.0

RHEL8
	Kernel: 4.18.0-240.10.1.el8_3.x86_64
	Compiler: gcc 8.3.1 20191121 (Red Hat 8.3.1-5)

To view detailed results, visit:
https://lab.dpdk.org/results/dashboard/patchsets/29402/

UNH-IOL DPDK Community Lab

To manage your email subscriptions, visit: 
https://lab.dpdk.org/results/dashboard/preferences/subscriptions/