From mboxrd@z Thu Jan  1 00:00:00 1970
Return-Path: <test-report-bounces@dpdk.org>
Received: from mails.dpdk.org (mails.dpdk.org [217.70.189.124])
	by inbox.dpdk.org (Postfix) with ESMTP id 3E9C443B81
	for <public@inbox.dpdk.org>; Mon,  4 Mar 2024 15:32:48 +0100 (CET)
Received: from mails.dpdk.org (localhost [127.0.0.1])
	by mails.dpdk.org (Postfix) with ESMTP id 374F34027D;
	Mon,  4 Mar 2024 15:32:48 +0100 (CET)
Received: from mail-yw1-f228.google.com (mail-yw1-f228.google.com
 [209.85.128.228])
 by mails.dpdk.org (Postfix) with ESMTP id 32FF24026B
 for <test-report@dpdk.org>; Mon,  4 Mar 2024 15:32:47 +0100 (CET)
Received: by mail-yw1-f228.google.com with SMTP id
 00721157ae682-608342633b8so45024637b3.1
 for <test-report@dpdk.org>; Mon, 04 Mar 2024 06:32:47 -0800 (PST)
DKIM-Signature: v=1; a=rsa-sha256; c=relaxed/relaxed;
 d=iol.unh.edu; s=unh-iol; t=1709562766; x=1710167566; darn=dpdk.org;
 h=references:in-reply-to:cc:to:from:subject:message-id:date:from:to
 :cc:subject:date:message-id:reply-to;
 bh=q/ggQ/OZu7zvm2f0vIXvZjVb2YDxB1vks2YhVq4nGWo=;
 b=FW2cc5Z9np3I+KqMWdH9/o70bYBFxn9Z/x5ryhvJsej4gilQ7nGX0jjB28cGXiq4La
 jfv38vKHYJC0dYB/3eIMokIVAI03a4p/QNTIe5p+rL6LasZL+VGFRbZsVFLntS6w+1Uo
 ungY9pXPnSgreSgRuok3MSGWtuOQ44AueFIEk=
X-Google-DKIM-Signature: v=1; a=rsa-sha256; c=relaxed/relaxed;
 d=1e100.net; s=20230601; t=1709562766; x=1710167566;
 h=references:in-reply-to:cc:to:from:subject:message-id:date
 :x-gm-message-state:from:to:cc:subject:date:message-id:reply-to;
 bh=q/ggQ/OZu7zvm2f0vIXvZjVb2YDxB1vks2YhVq4nGWo=;
 b=LdFEkIEpe6OaPMaD2AtNbRkRsqlc98X3IHrq3AEn7D95nM9QI8FxAbqjXynUhGLIM6
 SLaXxVCCOih2dgMFnMHzCq5il9rAgB8TXIWMb4YPF08XYUrksNBc1TDyL94vHkfsC1xG
 e/TLeDmb1FYP9CXNtuh+j/FBJL+FgDy1Uvjx0+GdfT7/+9HGWhlYhNpxWSjR4xRJu0fK
 bWtfwtue4f/nqS/suhj0zkxFEIBeXBMrX2lmWS/yxL8YtJPDyGVJgSsapZ5MYZVXd8K5
 M/fMDN4/NNg38DciNbngj6B9txf83xRmmja6V00JP/jZCKTaJDDHasESAWUdx9nyFC2a
 D+xQ==
X-Gm-Message-State: AOJu0Yx7To+Vt3/dJoqiKfHmW3vSi+ecoNUTXCqNe8VCkfauXDXN/9ql
 PVBZnlQfUhdjOXZdPe7263bqYFF6RCPld6Rjtm80t8hBQ3Lf2iFXgqEM4TLEBOa8lCH/nkkDLfU
 8BqncuWeUeTqBgdQ4d4ntI/QNXPA7VjfSJNZJOjMK
X-Google-Smtp-Source: AGHT+IGKeJea73mtgjmMHvQ0xhxPAyKFKeB2fkotBKAnpHb1YGm5bW6CSVaqLLY7HazgPoZktqn5vNDE5p39
X-Received: by 2002:a81:9386:0:b0:609:8377:c1cb with SMTP id
 k128-20020a819386000000b006098377c1cbmr9370160ywg.29.1709562765090; 
 Mon, 04 Mar 2024 06:32:45 -0800 (PST)
Received: from postal.iol.unh.edu (postal.iol.unh.edu. [132.177.123.84])
 by smtp-relay.gmail.com with ESMTPS id
 u203-20020a8184d4000000b006094292e76csm554328ywf.13.2024.03.04.06.32.45
 (version=TLS1_2 cipher=ECDHE-ECDSA-AES128-GCM-SHA256 bits=128/128);
 Mon, 04 Mar 2024 06:32:45 -0800 (PST)
X-Relaying-Domain: iol.unh.edu
Date: Mon, 04 Mar 2024 06:32:45 -0800 (PST)
Message-ID: <65e5db8d.810a0220.33ab2.4bf5SMTPIN_ADDED_MISSING@mx.google.com>
Received: from [172.17.0.6] (unknown [172.18.0.217])
 by postal.iol.unh.edu (Postfix) with ESMTP id B0B8E605183F;
 Mon,  4 Mar 2024 09:32:44 -0500 (EST)
Subject: |SUCCESS| pw137880-137911 [PATCH] [v2,33/33] net/ena: upgrade driver
From: dpdklab@iol.unh.edu
To: Test Report <test-report@dpdk.org>
Cc: dpdk-test-reports@iol.unh.edu
In-Reply-To: <20240304122942.3496-34-shaibran@amazon.com>
References: <20240304122942.3496-34-shaibran@amazon.com>
Content-Type: text/plain
X-BeenThere: test-report@dpdk.org
X-Mailman-Version: 2.1.29
Precedence: list
List-Id: automatic DPDK test reports <test-report.dpdk.org>
List-Unsubscribe: <https://mails.dpdk.org/options/test-report>,
 <mailto:test-report-request@dpdk.org?subject=unsubscribe>
List-Archive: <http://mails.dpdk.org/archives/test-report/>
List-Post: <mailto:test-report@dpdk.org>
List-Help: <mailto:test-report-request@dpdk.org?subject=help>
List-Subscribe: <https://mails.dpdk.org/listinfo/test-report>,
 <mailto:test-report-request@dpdk.org?subject=subscribe>
Errors-To: test-report-bounces@dpdk.org

Test-Label: iol-compile-amd64-testing
Test-Status: SUCCESS
http://dpdk.org/patch/137911

_Testing PASS_

Submitter: Brandes, Shai <shaibran@amazon.com>
Date: Monday, March 04 2024 12:29:42 
DPDK git baseline: Repo:dpdk
  Branch: master
  CommitID:d4d5bbe6791850987d6d28da675574a868e8274c

137880-137911 --> testing pass

Test environment and result as below:

+---------------------+--------------------+----------------------+
|     Environment     | dpdk_meson_compile | dpdk_mingw64_compile |
+=====================+====================+======================+
| Windows Server 2022 | PASS               | SKIPPED              |
+---------------------+--------------------+----------------------+
| FreeBSD 13.2        | PASS               | SKIPPED              |
+---------------------+--------------------+----------------------+
| Windows Server 2019 | PASS               | PASS                 |
+---------------------+--------------------+----------------------+
| CentOS Stream 8     | PASS               | SKIPPED              |
+---------------------+--------------------+----------------------+
| CentOS Stream 9     | PASS               | SKIPPED              |
+---------------------+--------------------+----------------------+
| Fedora 37           | PASS               | SKIPPED              |
+---------------------+--------------------+----------------------+
| Debian Bullseye     | PASS               | SKIPPED              |
+---------------------+--------------------+----------------------+
| openSUSE Leap 15    | PASS               | SKIPPED              |
+---------------------+--------------------+----------------------+
| RHEL8               | PASS               | SKIPPED              |
+---------------------+--------------------+----------------------+
| Debian 12 (arm)     | PASS               | SKIPPED              |
+---------------------+--------------------+----------------------+
| Fedora 38           | PASS               | SKIPPED              |
+---------------------+--------------------+----------------------+
| Alpine              | PASS               | SKIPPED              |
+---------------------+--------------------+----------------------+
| Ubuntu 22.04        | PASS               | SKIPPED              |
+---------------------+--------------------+----------------------+
| Ubuntu 20.04        | PASS               | SKIPPED              |
+---------------------+--------------------+----------------------+


Windows Server 2022
	Kernel: OS Build 20348.2031
	Compiler: MSVC VS-Preview

FreeBSD 13.2
	Kernel: 13.2
	Compiler: clang 11.3.0

Windows Server 2019
	Kernel: 10.0
	Compiler: clang 14.0 and gcc 8.1.0 (MinGW)

CentOS Stream 8
	Kernel: 4.18.0-240.10.1.el8_3.x86_64
	Compiler: gcc 8.4.1 20200928

CentOS Stream 9
	Kernel: 4.18.0-240.10.1.el8_3.x86_64
	Compiler: gcc 11.3.1 20220421

Fedora 37
	Kernel: Depends on container host system
	Compiler: gcc 12.3.1

Debian Bullseye
	Kernel: 5.4.0-122-generic
	Compiler: gcc 10.2.1-6

openSUSE Leap 15
	Kernel: 4.18.0-240.10.1.el8_3.x86_64
	Compiler: gcc 7.5.0

RHEL8
	Kernel: 4.18.0-240.10.1.el8_3.x86_64
	Compiler: gcc 8.3.1 20191121 (Red Hat 8.3.1-5)

Debian 12 (arm)
	Kernel: Container Host Kernel
	Compiler: gcc 11

Fedora 38
	Kernel: Depends on container host
	Compiler: gcc 13.1.1

Alpine
	Kernel: 5.4.0-73-generic
	Compiler: gcc (Alpine 10.3.1_git20210424) 10.3.1 20210424

Ubuntu 22.04
	Kernel: 4.18.0-240.10.1.el8_3.x86_64
	Compiler: gcc 11.3.0

Ubuntu 20.04
	Kernel: 5.4.0-153-generic
	Compiler: gcc 9.4.0-1ubuntu1~20.04.1

To view detailed results, visit:
https://lab.dpdk.org/results/dashboard/patchsets/29402/

UNH-IOL DPDK Community Lab

To manage your email subscriptions, visit: 
https://lab.dpdk.org/results/dashboard/preferences/subscriptions/