From mboxrd@z Thu Jan  1 00:00:00 1970
Return-Path: <test-report-bounces@dpdk.org>
Received: from mails.dpdk.org (mails.dpdk.org [217.70.189.124])
	by inbox.dpdk.org (Postfix) with ESMTP id C4E2643B8F
	for <public@inbox.dpdk.org>; Mon,  4 Mar 2024 16:03:20 +0100 (CET)
Received: from mails.dpdk.org (localhost [127.0.0.1])
	by mails.dpdk.org (Postfix) with ESMTP id B07D14027D;
	Mon,  4 Mar 2024 16:03:20 +0100 (CET)
Received: from mail-il1-f225.google.com (mail-il1-f225.google.com
 [209.85.166.225])
 by mails.dpdk.org (Postfix) with ESMTP id 4AC114026B
 for <test-report@dpdk.org>; Mon,  4 Mar 2024 16:03:19 +0100 (CET)
Received: by mail-il1-f225.google.com with SMTP id
 e9e14a558f8ab-36423c819a3so26586095ab.0
 for <test-report@dpdk.org>; Mon, 04 Mar 2024 07:03:19 -0800 (PST)
DKIM-Signature: v=1; a=rsa-sha256; c=relaxed/relaxed;
 d=iol.unh.edu; s=unh-iol; t=1709564598; x=1710169398; darn=dpdk.org;
 h=references:in-reply-to:cc:to:from:subject:message-id:date:from:to
 :cc:subject:date:message-id:reply-to;
 bh=6wuDJgPZ421m7Ya3mg5TPHdNyq48mFBAauAxBO8PEc8=;
 b=MGiIdJKBJ5eVPpeqjYKwUAStb4xhIfce8yu62OrWCAjBo8jpBDQC+gX1eemmQdkQxl
 3dCS+nzwUmd5o0ffxZNR6QWMmMG3lI3VF9iF4xemzTItwVXa5KJrmqlYvS+csrJNYPuU
 meCLrSpqNbPVstZP12PmZKL4miqk8IO74E0uY=
X-Google-DKIM-Signature: v=1; a=rsa-sha256; c=relaxed/relaxed;
 d=1e100.net; s=20230601; t=1709564598; x=1710169398;
 h=references:in-reply-to:cc:to:from:subject:message-id:date
 :x-gm-message-state:from:to:cc:subject:date:message-id:reply-to;
 bh=6wuDJgPZ421m7Ya3mg5TPHdNyq48mFBAauAxBO8PEc8=;
 b=ekATN+8ZSDuM1Xf9SRAnLuI27BQogKbspvVhuggkiWazfZ3DeCxCGw/9YA7BJnBkva
 U3kdWi8eEAeQYxn6HKJX5/rO35nqlAIzZLXhWL9EyCSncq06iNBdwQI8TfR0bk1HAWxr
 J8r7MIzHQOsUc6MLiOLB6BfyQPCF0emmrLlVx9TWMlyWzv4HPyE3w+z4Now8Snt5HvQO
 OLaQfWuFgMpVws3kMngfaQofwlet+wdhTpAV4M2RFnM3tSux/Bkz7kvBHZGI4YnBu7Z8
 Bi5fRV1V2nJelvfOb2/VLEfGtY29eTi3IlUstZ5jCXfAdzlQobuccRDXUbYZvz3XhN8J
 xw2g==
X-Gm-Message-State: AOJu0YwdIX+r/HT74K5wzimtbZlj1SCnavXMSvWlIac6YQoLjg7IB497
 Ne35FoOvKotWJCKW8EFrd/nkyZJ+HbjbdDhoVx/sWtBBHiQ2hcgwa+ZDNijE7Uf7nD06zi3y/1Q
 8Wri5gWHAfXFUfsTcRNxg7D+CyZUcXk7kymOMaTm/
X-Google-Smtp-Source: AGHT+IFWFjXKi26q4hzL67Yb1/1fMjm8han4CS8ytMFOK/DgklkmM5VD3ctVJgDHJUl5pEHR8Uqa6N8479Cq
X-Received: by 2002:a05:6e02:1c43:b0:365:b93f:a33 with SMTP id
 d3-20020a056e021c4300b00365b93f0a33mr12153814ilg.20.1709564598398; 
 Mon, 04 Mar 2024 07:03:18 -0800 (PST)
Received: from postal.iol.unh.edu (postal.iol.unh.edu. [132.177.123.84])
 by smtp-relay.gmail.com with ESMTPS id
 m9-20020a924a09000000b00365bd436679sm471620ilf.77.2024.03.04.07.03.18
 (version=TLS1_2 cipher=ECDHE-ECDSA-AES128-GCM-SHA256 bits=128/128);
 Mon, 04 Mar 2024 07:03:18 -0800 (PST)
X-Relaying-Domain: iol.unh.edu
Date: Mon, 04 Mar 2024 07:03:18 -0800 (PST)
Message-ID: <65e5e2b6.920a0220.bee8f.e4d6SMTPIN_ADDED_MISSING@mx.google.com>
Received: from [172.17.0.7] (unknown [172.18.0.217])
 by postal.iol.unh.edu (Postfix) with ESMTP id DE1F16052510;
 Mon,  4 Mar 2024 10:03:17 -0500 (EST)
Subject: |SUCCESS| pw137913 [PATCH] common/cnxk: fix loopback port dataflow i
From: dpdklab@iol.unh.edu
To: Test Report <test-report@dpdk.org>
Cc: dpdk-test-reports@iol.unh.edu
In-Reply-To: <20240304123335.1769854-1-rbhansali@marvell.com>
References: <20240304123335.1769854-1-rbhansali@marvell.com>
Content-Type: text/plain
X-BeenThere: test-report@dpdk.org
X-Mailman-Version: 2.1.29
Precedence: list
List-Id: automatic DPDK test reports <test-report.dpdk.org>
List-Unsubscribe: <https://mails.dpdk.org/options/test-report>,
 <mailto:test-report-request@dpdk.org?subject=unsubscribe>
List-Archive: <http://mails.dpdk.org/archives/test-report/>
List-Post: <mailto:test-report@dpdk.org>
List-Help: <mailto:test-report-request@dpdk.org?subject=help>
List-Subscribe: <https://mails.dpdk.org/listinfo/test-report>,
 <mailto:test-report-request@dpdk.org?subject=subscribe>
Errors-To: test-report-bounces@dpdk.org

Test-Label: iol-compile-arm64-testing
Test-Status: SUCCESS
http://dpdk.org/patch/137913

_Testing PASS_

Submitter: Rahul Bhansali <rbhansali@marvell.com>
Date: Monday, March 04 2024 12:33:35 
DPDK git baseline: Repo:dpdk
  Branch: master
  CommitID:cc7ce74402f29c5850eccc5828492135b91135cf

137913 --> testing pass

Test environment and result as below:

+----------------------------------------+--------------------+
|              Environment               | dpdk_meson_compile |
+========================================+====================+
| Ubuntu 20.04 ARM SVE                   | PASS               |
+----------------------------------------+--------------------+
| Ubuntu 20.04 aarch32 GCC Cross Compile | PASS               |
+----------------------------------------+--------------------+
| Fedora 37 (ARM)                        | PASS               |
+----------------------------------------+--------------------+
| Fedora 38 (ARM)                        | PASS               |
+----------------------------------------+--------------------+
| Ubuntu 20.04 ARM Clang Cross Compile   | PASS               |
+----------------------------------------+--------------------+
| CentOS Stream 9 (ARM)                  | PASS               |
+----------------------------------------+--------------------+
| Ubuntu 20.04 ARM GCC Cross Compile     | PASS               |
+----------------------------------------+--------------------+
| Fedora 38 (ARM Clang)                  | PASS               |
+----------------------------------------+--------------------+
| Ubuntu 20.04 (ARM)                     | PASS               |
+----------------------------------------+--------------------+
| Debian 12 (arm)                        | PASS               |
+----------------------------------------+--------------------+


Ubuntu 20.04 ARM SVE
	Kernel: 5.4.0-80-generic
	Compiler: gcc 10.3.0 (Ubuntu 10.3.0-1ubuntu1~20.04)

Ubuntu 20.04 aarch32 GCC Cross Compile
	Kernel: 5.4.0-72-generic
	Compiler: gcc 9.3.0

Fedora 37 (ARM)
	Kernel: Depends on container host
	Compiler: gcc 12.3.1

Fedora 38 (ARM)
	Kernel: Depends on container host
	Compiler: gcc 13.1.1

Ubuntu 20.04 ARM Clang Cross Compile
	Kernel: 5.4.0-72-generic
	Compiler: clang version 10.0.0-4ubuntu1

CentOS Stream 9 (ARM)
	Kernel: Container Host Kernel
	Compiler: gcc 11.3.1

Ubuntu 20.04 ARM GCC Cross Compile
	Kernel: 5.4.0-72-generic
	Compiler: aarch64-linux-gnu-gcc (Ubuntu 9.3.0-17ubuntu1~20.04) 9.3.0

Fedora 38 (ARM Clang)
	Kernel: Depends on container host
	Compiler: clang 16.0.3

Ubuntu 20.04 (ARM)
	Kernel: Container Host Kernel
	Compiler: gcc 9.4.0

Debian 12 (arm)
	Kernel: Container Host Kernel
	Compiler: gcc 11

To view detailed results, visit:
https://lab.dpdk.org/results/dashboard/patchsets/29403/

UNH-IOL DPDK Community Lab

To manage your email subscriptions, visit: 
https://lab.dpdk.org/results/dashboard/preferences/subscriptions/