From mboxrd@z Thu Jan  1 00:00:00 1970
Return-Path: <test-report-bounces@dpdk.org>
Received: from mails.dpdk.org (mails.dpdk.org [217.70.189.124])
	by inbox.dpdk.org (Postfix) with ESMTP id DB2AE43B9B
	for <public@inbox.dpdk.org>; Mon,  4 Mar 2024 19:41:57 +0100 (CET)
Received: from mails.dpdk.org (localhost [127.0.0.1])
	by mails.dpdk.org (Postfix) with ESMTP id D62D04027D;
	Mon,  4 Mar 2024 19:41:57 +0100 (CET)
Received: from mail-pj1-f98.google.com (mail-pj1-f98.google.com
 [209.85.216.98]) by mails.dpdk.org (Postfix) with ESMTP id 818F34014F
 for <test-report@dpdk.org>; Mon,  4 Mar 2024 19:41:57 +0100 (CET)
Received: by mail-pj1-f98.google.com with SMTP id
 98e67ed59e1d1-29b31254820so1435186a91.0
 for <test-report@dpdk.org>; Mon, 04 Mar 2024 10:41:57 -0800 (PST)
DKIM-Signature: v=1; a=rsa-sha256; c=relaxed/relaxed;
 d=iol.unh.edu; s=unh-iol; t=1709577716; x=1710182516; darn=dpdk.org;
 h=references:in-reply-to:cc:to:from:subject:message-id:date:from:to
 :cc:subject:date:message-id:reply-to;
 bh=ADyHj4AyTp8dGye2HO8gq4mZ3lfIMYUdU3uTuZlVFnY=;
 b=I0diRvkjr8u9YQCuc60L7pe5KJ4RsH6IuP16q7Ue73d2QVmaW3R1A4djyQqFQmklfR
 uzYqt4h8Mwq9BnxJyCipKnc1BWJhU2jwuBVIbv9kHGIn0K32z4Et9O1T9OPU27T2HYwG
 J8WHxO5a41svSsgW62xzH43McaTevy3064V4w=
X-Google-DKIM-Signature: v=1; a=rsa-sha256; c=relaxed/relaxed;
 d=1e100.net; s=20230601; t=1709577716; x=1710182516;
 h=references:in-reply-to:cc:to:from:subject:message-id:date
 :x-gm-message-state:from:to:cc:subject:date:message-id:reply-to;
 bh=ADyHj4AyTp8dGye2HO8gq4mZ3lfIMYUdU3uTuZlVFnY=;
 b=KTnbNTXDQD8udBIELFzgWqVnvoIoNrtAZtQuVqvoR2qTTKa88khBdN0JOmm7ftz+g+
 4nfbW88L3pBG6zVBOFQSduhljU8ErjhDHVSnXdVC5vuEPaDimC4CEXzN0526HNDVFRxG
 WmbpzmsuTCQfBcpb9drf5saonPiTrNw+/UZdfibo7c9f5gzjI75bQHkl8W8OaWRS4vnP
 fC/COseKy9shIssgOviUIjOGTRrHX0kyGvqZclKMzut39e0VaC1rp8uk0mceUtWsUPyq
 n55vrGPzeSfrvz//lgGUkFOW5lyf7WlHgYatJWFXdYSWu9jiz6a5zV2dF7NHfFCBi9XE
 UlGw==
X-Gm-Message-State: AOJu0YwkhkniJXRUCeFzRMQpTYOE7sXWSPwyvjOrF/bhxjBCWr0FN5zh
 yXq3kul67YE9ahZNqKHFvvjV8ac1nmQgj5zJcW/6zqVmdFkYp9KWv3LN38CHK0h2heGCtQvpfYy
 uFSbt5FeHz6uYU3rt6Tu5O8AycMFrwUBbfEABRaI9tfWAbYXjy7cYj0Sz
X-Google-Smtp-Source: AGHT+IHaCx2zqwewua98vXOSLqcVFkeLCgJjVd5Km3RBTs5QFBuSVfolNLXCyC0Oam0DRLUVS+YkAxXagtq3
X-Received: by 2002:a17:90b:4f44:b0:29a:f991:dcc1 with SMTP id
 pj4-20020a17090b4f4400b0029af991dcc1mr7141698pjb.1.1709577716688; 
 Mon, 04 Mar 2024 10:41:56 -0800 (PST)
Received: from postal.iol.unh.edu (postal.iol.unh.edu.
 [2606:4100:3880:1234::84]) by smtp-relay.gmail.com with ESMTPS id
 z15-20020a17090ad78f00b0029b30e13f40sm266737pju.12.2024.03.04.10.41.56
 (version=TLS1_2 cipher=ECDHE-ECDSA-AES128-GCM-SHA256 bits=128/128);
 Mon, 04 Mar 2024 10:41:56 -0800 (PST)
X-Relaying-Domain: iol.unh.edu
Date: Mon, 04 Mar 2024 10:41:56 -0800 (PST)
Message-ID: <65e615f4.170a0220.809db.fc07SMTPIN_ADDED_MISSING@mx.google.com>
Received: from [172.21.0.7] (unknown [172.18.0.240])
 by postal.iol.unh.edu (Postfix) with ESMTP id D0A3D6043300;
 Mon,  4 Mar 2024 13:41:55 -0500 (EST)
Subject: |SUCCESS| pw137915-137949 [PATCH] [v7,39/39] ip_frag: use C11 aligna
From: dpdklab@iol.unh.edu
To: Test Report <test-report@dpdk.org>
Cc: dpdk-test-reports@iol.unh.edu
In-Reply-To: <1709574764-9041-40-git-send-email-roretzla@linux.microsoft.com>
References: <1709574764-9041-40-git-send-email-roretzla@linux.microsoft.com>
Content-Type: text/plain
X-BeenThere: test-report@dpdk.org
X-Mailman-Version: 2.1.29
Precedence: list
List-Id: automatic DPDK test reports <test-report.dpdk.org>
List-Unsubscribe: <https://mails.dpdk.org/options/test-report>,
 <mailto:test-report-request@dpdk.org?subject=unsubscribe>
List-Archive: <http://mails.dpdk.org/archives/test-report/>
List-Post: <mailto:test-report@dpdk.org>
List-Help: <mailto:test-report-request@dpdk.org?subject=help>
List-Subscribe: <https://mails.dpdk.org/listinfo/test-report>,
 <mailto:test-report-request@dpdk.org?subject=subscribe>
Errors-To: test-report-bounces@dpdk.org

Test-Label: iol-unit-amd64-testing
Test-Status: SUCCESS
http://dpdk.org/patch/137949

_Testing PASS_

Submitter: Tyler Retzlaff <roretzla@linux.microsoft.com>
Date: Monday, March 04 2024 17:52:44 
DPDK git baseline: Repo:dpdk
  Branch: master
  CommitID:17d724349a8d4de8306ff9416549fdf71cc4b20a

137915-137949 --> testing pass

Test environment and result as below:

+---------------------+----------------+
|     Environment     | dpdk_unit_test |
+=====================+================+
| Windows Server 2019 | PASS           |
+---------------------+----------------+
| CentOS Stream 8     | PASS           |
+---------------------+----------------+
| CentOS Stream 9     | PASS           |
+---------------------+----------------+


Windows Server 2019
	Kernel: 10.0
	Compiler: clang 14.0 and gcc 8.1.0 (MinGW)

CentOS Stream 8
	Kernel: 4.18.0-240.10.1.el8_3.x86_64
	Compiler: gcc 8.4.1 20200928

CentOS Stream 9
	Kernel: 4.18.0-240.10.1.el8_3.x86_64
	Compiler: gcc 11.3.1 20220421

To view detailed results, visit:
https://lab.dpdk.org/results/dashboard/patchsets/29405/

UNH-IOL DPDK Community Lab

To manage your email subscriptions, visit: 
https://lab.dpdk.org/results/dashboard/preferences/subscriptions/