From mboxrd@z Thu Jan  1 00:00:00 1970
Return-Path: <test-report-bounces@dpdk.org>
Received: from mails.dpdk.org (mails.dpdk.org [217.70.189.124])
	by inbox.dpdk.org (Postfix) with ESMTP id 2E41343B9B
	for <public@inbox.dpdk.org>; Mon,  4 Mar 2024 19:52:33 +0100 (CET)
Received: from mails.dpdk.org (localhost [127.0.0.1])
	by mails.dpdk.org (Postfix) with ESMTP id 2AAD940695;
	Mon,  4 Mar 2024 19:52:33 +0100 (CET)
Received: from mail-yw1-f225.google.com (mail-yw1-f225.google.com
 [209.85.128.225])
 by mails.dpdk.org (Postfix) with ESMTP id 10947402E3
 for <test-report@dpdk.org>; Mon,  4 Mar 2024 19:52:32 +0100 (CET)
Received: by mail-yw1-f225.google.com with SMTP id
 00721157ae682-6098bf69909so25324197b3.1
 for <test-report@dpdk.org>; Mon, 04 Mar 2024 10:52:32 -0800 (PST)
DKIM-Signature: v=1; a=rsa-sha256; c=relaxed/relaxed;
 d=iol.unh.edu; s=unh-iol; t=1709578351; x=1710183151; darn=dpdk.org;
 h=references:in-reply-to:cc:to:from:subject:message-id:date:from:to
 :cc:subject:date:message-id:reply-to;
 bh=sz6GC0OUsAb/pDDnwg8Dh35IYccewh4lh9iOtc71524=;
 b=NYZd9NoI5K0glrEPd/dv7mly/sxwxiyKwi2SPscBf2tKmXe9N57O/FOHSqO/IppIP2
 RqBSFlXSyIEZPz+EOPNOYt3ODDXR9BRmxDF063QWg9qvoo6WX2aymy6nvpT/iOVMTpNl
 EcRuSgKDbdrZfWt9UfaR64nfMy08YIZrrCeMM=
X-Google-DKIM-Signature: v=1; a=rsa-sha256; c=relaxed/relaxed;
 d=1e100.net; s=20230601; t=1709578351; x=1710183151;
 h=references:in-reply-to:cc:to:from:subject:message-id:date
 :x-gm-message-state:from:to:cc:subject:date:message-id:reply-to;
 bh=sz6GC0OUsAb/pDDnwg8Dh35IYccewh4lh9iOtc71524=;
 b=Aim1hZ0e5iT1wRNl18h02KVBp4HFTgkn9Kbe22b+ummLB0KTa72p3SkYPO/19+tR8i
 9APfsE0xPEQ/v+EelmtVDWSkMUSMGueFVxUR6O34XNJRj2D2GE4lCH/qEZLB3VOrkpZG
 8abqvPKYeDEGgek+BtAnGMK3dSirO4xiNxJE0+ZVsttakBRdBsqkagTgu8ActWm+AB2m
 CW1UUPThU6N94enJ1fKED7jJjsPaBbkEo48fX6XrcKj1344YS19uYe6rP6rSsNGtNXWi
 8iH2InpZ6zjawl4GATulNmCoQYb0Ly9L3+4MSQrh2Aj3O9HQNGeqHAz9LjXPWSY8Xtkg
 vgcw==
X-Gm-Message-State: AOJu0YxO4hFhjCI8WPCs1iVa+z13hM49BV9raFjFIvAk4zBcBggRvPcN
 hPp2sdc1Zwwa3nflIMn0IJDG0jV1AdhXxi/5p+msO2HDB9suqVwWlG+mEsIAJCMHUgq5He3t3A/
 6pd1l/Gq/GILGQAy0poMKnRaY3T4C8OZ+jyGLJknu
X-Google-Smtp-Source: AGHT+IEeTdXBBce5P87D247IZG5ggQcGX477+/WNaQvQxsIn+GV4KouiVy/yVEy5WKtrNM1/qUVuJ+vt7cTb
X-Received: by 2002:a0d:e645:0:b0:609:8be8:c5ab with SMTP id
 p66-20020a0de645000000b006098be8c5abmr310059ywe.17.1709578351454; 
 Mon, 04 Mar 2024 10:52:31 -0800 (PST)
Received: from postal.iol.unh.edu (postal.iol.unh.edu. [132.177.123.84])
 by smtp-relay.gmail.com with ESMTPS id
 z204-20020a8165d5000000b00607791cd2afsm603108ywb.21.2024.03.04.10.52.31
 (version=TLS1_2 cipher=ECDHE-ECDSA-AES128-GCM-SHA256 bits=128/128);
 Mon, 04 Mar 2024 10:52:31 -0800 (PST)
X-Relaying-Domain: iol.unh.edu
Date: Mon, 04 Mar 2024 10:52:31 -0800 (PST)
Message-ID: <65e6186f.810a0220.711d5.7374SMTPIN_ADDED_MISSING@mx.google.com>
Received: from [172.21.0.6] (unknown [172.18.0.240])
 by postal.iol.unh.edu (Postfix) with ESMTP id 1ED176043300;
 Mon,  4 Mar 2024 13:52:31 -0500 (EST)
Subject: |SUCCESS| pw137915-137949 [PATCH] [v7,39/39] ip_frag: use C11 aligna
From: dpdklab@iol.unh.edu
To: Test Report <test-report@dpdk.org>
Cc: dpdk-test-reports@iol.unh.edu
In-Reply-To: <1709574764-9041-40-git-send-email-roretzla@linux.microsoft.com>
References: <1709574764-9041-40-git-send-email-roretzla@linux.microsoft.com>
Content-Type: text/plain
X-BeenThere: test-report@dpdk.org
X-Mailman-Version: 2.1.29
Precedence: list
List-Id: automatic DPDK test reports <test-report.dpdk.org>
List-Unsubscribe: <https://mails.dpdk.org/options/test-report>,
 <mailto:test-report-request@dpdk.org?subject=unsubscribe>
List-Archive: <http://mails.dpdk.org/archives/test-report/>
List-Post: <mailto:test-report@dpdk.org>
List-Help: <mailto:test-report-request@dpdk.org?subject=help>
List-Subscribe: <https://mails.dpdk.org/listinfo/test-report>,
 <mailto:test-report-request@dpdk.org?subject=subscribe>
Errors-To: test-report-bounces@dpdk.org

Test-Label: iol-abi-testing
Test-Status: SUCCESS
http://dpdk.org/patch/137949

_Testing PASS_

Submitter: Tyler Retzlaff <roretzla@linux.microsoft.com>
Date: Monday, March 04 2024 17:52:44 
DPDK git baseline: Repo:dpdk
  Branch: master
  CommitID:17d724349a8d4de8306ff9416549fdf71cc4b20a

137915-137949 --> testing pass

Test environment and result as below:

+------------------+----------+
|   Environment    | abi_test |
+==================+==========+
| Fedora 38        | PASS     |
+------------------+----------+
| openSUSE Leap 15 | PASS     |
+------------------+----------+
| CentOS Stream 8  | PASS     |
+------------------+----------+
| Debian Bullseye  | PASS     |
+------------------+----------+
| Ubuntu 22.04     | PASS     |
+------------------+----------+
| CentOS Stream 9  | PASS     |
+------------------+----------+


Fedora 38
	Kernel: Depends on container host
	Compiler: clang 16.0.3

openSUSE Leap 15
	Kernel: 4.18.0-240.10.1.el8_3.x86_64
	Compiler: gcc 7.5.0

CentOS Stream 8
	Kernel: 4.18.0-240.10.1.el8_3.x86_64
	Compiler: gcc 8.4.1 20200928

Debian Bullseye
	Kernel: 5.4.0-122-generic
	Compiler: gcc 10.2.1-6

Ubuntu 22.04
	Kernel: 4.18.0-240.10.1.el8_3.x86_64
	Compiler: gcc 11.3.0

CentOS Stream 9
	Kernel: 4.18.0-240.10.1.el8_3.x86_64
	Compiler: gcc 11.3.1 20220421

To view detailed results, visit:
https://lab.dpdk.org/results/dashboard/patchsets/29405/

UNH-IOL DPDK Community Lab

To manage your email subscriptions, visit: 
https://lab.dpdk.org/results/dashboard/preferences/subscriptions/