From mboxrd@z Thu Jan  1 00:00:00 1970
Return-Path: <test-report-bounces@dpdk.org>
Received: from mails.dpdk.org (mails.dpdk.org [217.70.189.124])
	by inbox.dpdk.org (Postfix) with ESMTP id C463943B9B
	for <public@inbox.dpdk.org>; Mon,  4 Mar 2024 19:55:40 +0100 (CET)
Received: from mails.dpdk.org (localhost [127.0.0.1])
	by mails.dpdk.org (Postfix) with ESMTP id BFE1D40695;
	Mon,  4 Mar 2024 19:55:40 +0100 (CET)
Received: from mail-vk1-f228.google.com (mail-vk1-f228.google.com
 [209.85.221.228])
 by mails.dpdk.org (Postfix) with ESMTP id 64A1A402E3
 for <test-report@dpdk.org>; Mon,  4 Mar 2024 19:55:39 +0100 (CET)
Received: by mail-vk1-f228.google.com with SMTP id
 71dfb90a1353d-4d3424f38b5so1176444e0c.0
 for <test-report@dpdk.org>; Mon, 04 Mar 2024 10:55:39 -0800 (PST)
DKIM-Signature: v=1; a=rsa-sha256; c=relaxed/relaxed;
 d=iol.unh.edu; s=unh-iol; t=1709578538; x=1710183338; darn=dpdk.org;
 h=references:in-reply-to:cc:to:from:subject:message-id:date:from:to
 :cc:subject:date:message-id:reply-to;
 bh=8/LCEHvO1o8BmJVSFkB+7f6cG4IUBWWGbHHp2d5AiAU=;
 b=OW3HsInysn+We+ePpmZ/z/uJn19qgQmNhmAOdSj+bDzkbcIWSIuLOfNR8hvOJVxmWr
 C6zX2gKxOnMbA+eeIUDl/jHeiXyzqV6LMa5JQR4012gSthCDFIS1rX5IetwemLaZr4Vs
 NdFmKoUmqManYpNBLpRDIFH5eZNW4NfRQJokc=
X-Google-DKIM-Signature: v=1; a=rsa-sha256; c=relaxed/relaxed;
 d=1e100.net; s=20230601; t=1709578538; x=1710183338;
 h=references:in-reply-to:cc:to:from:subject:message-id:date
 :x-gm-message-state:from:to:cc:subject:date:message-id:reply-to;
 bh=8/LCEHvO1o8BmJVSFkB+7f6cG4IUBWWGbHHp2d5AiAU=;
 b=i6XAGrIzZUB2v+PPtQeCohPqneqEdk6YvdOvTHxeI/VsgckhZfUensbeRF7IorvS8c
 yevHCipyKAz1pme4au/o8yUABW7G9HIZdtl0tUkbSEHpZy7NQAU9n3Iu28nzkEE8XuD4
 2tpGAp9xjCAig0kA+9wfrYpw3wtlDHITsCNxNRb4LXOx0ZeMIDwxDuqAg02bFWPQyfM5
 QdR5SiMucSAZyOZY9jOLZEASW0utrfPFsQ/8k30FwmJI5nWw23iHHENOJIMETklgr4B6
 jCuhT4KdZcznbRBRIKog3FIcBM6Eo6FbHVx2V1WMDO5p7wo8FHxDHwq+ohL7C29SBZ4F
 lABg==
X-Gm-Message-State: AOJu0YyAVfUwwR1S31Og1RLhDlt1Dg7EqXq+LY+wP1W/cIXAcsEcEZJ2
 0MdXpNj45EOO0tkLFUJbqKSc5VoUsRI3OiE5eX3uJ6XYD4T3aar15LxGDDaUUl2H1MUtHeSPuct
 9hGg/fPUAI5J98PExR4jSwVb1Mk5TGA4p0JbPmQT7MB8oDbFr3GtCUfV1
X-Google-Smtp-Source: AGHT+IEXOTUDhLroS0dmvVcutP658n2VjvwLXzZTv3aY3dg++jP6i2cRMJZwaCvu0X4IriQaVXCKsVAS4vAi
X-Received: by 2002:a05:6122:6ae:b0:4c7:b048:bb9c with SMTP id
 r14-20020a05612206ae00b004c7b048bb9cmr5555687vkq.15.1709578537276; 
 Mon, 04 Mar 2024 10:55:37 -0800 (PST)
Received: from postal.iol.unh.edu (postal.iol.unh.edu.
 [2606:4100:3880:1234::84]) by smtp-relay.gmail.com with ESMTPS id
 de22-20020a056122459600b004cf26b7bb56sm424630vkb.4.2024.03.04.10.55.37
 (version=TLS1_2 cipher=ECDHE-ECDSA-AES128-GCM-SHA256 bits=128/128);
 Mon, 04 Mar 2024 10:55:37 -0800 (PST)
X-Relaying-Domain: iol.unh.edu
Date: Mon, 04 Mar 2024 10:55:37 -0800 (PST)
Message-ID: <65e61929.050a0220.65b77.847aSMTPIN_ADDED_MISSING@mx.google.com>
Received: from [172.21.0.6] (unknown [172.18.0.240])
 by postal.iol.unh.edu (Postfix) with ESMTP id D65966043300;
 Mon,  4 Mar 2024 13:55:36 -0500 (EST)
Subject: |SUCCESS| pw137915-137949 [PATCH] [v7,39/39] ip_frag: use C11 aligna
From: dpdklab@iol.unh.edu
To: Test Report <test-report@dpdk.org>
Cc: dpdk-test-reports@iol.unh.edu
In-Reply-To: <1709574764-9041-40-git-send-email-roretzla@linux.microsoft.com>
References: <1709574764-9041-40-git-send-email-roretzla@linux.microsoft.com>
Content-Type: text/plain
X-BeenThere: test-report@dpdk.org
X-Mailman-Version: 2.1.29
Precedence: list
List-Id: automatic DPDK test reports <test-report.dpdk.org>
List-Unsubscribe: <https://mails.dpdk.org/options/test-report>,
 <mailto:test-report-request@dpdk.org?subject=unsubscribe>
List-Archive: <http://mails.dpdk.org/archives/test-report/>
List-Post: <mailto:test-report@dpdk.org>
List-Help: <mailto:test-report-request@dpdk.org?subject=help>
List-Subscribe: <https://mails.dpdk.org/listinfo/test-report>,
 <mailto:test-report-request@dpdk.org?subject=subscribe>
Errors-To: test-report-bounces@dpdk.org

Test-Label: iol-abi-testing
Test-Status: SUCCESS
http://dpdk.org/patch/137949

_Testing PASS_

Submitter: Tyler Retzlaff <roretzla@linux.microsoft.com>
Date: Monday, March 04 2024 17:52:44 
DPDK git baseline: Repo:dpdk
  Branch: master
  CommitID:17d724349a8d4de8306ff9416549fdf71cc4b20a

137915-137949 --> testing pass

Test environment and result as below:

+------------------+----------+
|   Environment    | abi_test |
+==================+==========+
| Fedora 38        | PASS     |
+------------------+----------+
| openSUSE Leap 15 | PASS     |
+------------------+----------+
| CentOS Stream 8  | PASS     |
+------------------+----------+
| Debian Bullseye  | PASS     |
+------------------+----------+
| Ubuntu 22.04     | PASS     |
+------------------+----------+
| CentOS Stream 9  | PASS     |
+------------------+----------+
| RHEL8            | PASS     |
+------------------+----------+
| Fedora 37        | PASS     |
+------------------+----------+


Fedora 38
	Kernel: Depends on container host
	Compiler: clang 16.0.3

openSUSE Leap 15
	Kernel: 4.18.0-240.10.1.el8_3.x86_64
	Compiler: gcc 7.5.0

CentOS Stream 8
	Kernel: 4.18.0-240.10.1.el8_3.x86_64
	Compiler: gcc 8.4.1 20200928

Debian Bullseye
	Kernel: 5.4.0-122-generic
	Compiler: gcc 10.2.1-6

Ubuntu 22.04
	Kernel: 4.18.0-240.10.1.el8_3.x86_64
	Compiler: gcc 11.3.0

CentOS Stream 9
	Kernel: 4.18.0-240.10.1.el8_3.x86_64
	Compiler: gcc 11.3.1 20220421

RHEL8
	Kernel: 4.18.0-240.10.1.el8_3.x86_64
	Compiler: gcc 8.3.1 20191121 (Red Hat 8.3.1-5)

Fedora 37
	Kernel: Depends on container host system
	Compiler: gcc 12.3.1

To view detailed results, visit:
https://lab.dpdk.org/results/dashboard/patchsets/29405/

UNH-IOL DPDK Community Lab

To manage your email subscriptions, visit: 
https://lab.dpdk.org/results/dashboard/preferences/subscriptions/