From mboxrd@z Thu Jan  1 00:00:00 1970
Return-Path: <test-report-bounces@dpdk.org>
Received: from mails.dpdk.org (mails.dpdk.org [217.70.189.124])
	by inbox.dpdk.org (Postfix) with ESMTP id C405A43B9B
	for <public@inbox.dpdk.org>; Mon,  4 Mar 2024 20:01:18 +0100 (CET)
Received: from mails.dpdk.org (localhost [127.0.0.1])
	by mails.dpdk.org (Postfix) with ESMTP id C0234402E3;
	Mon,  4 Mar 2024 20:01:18 +0100 (CET)
Received: from mail-yw1-f225.google.com (mail-yw1-f225.google.com
 [209.85.128.225])
 by mails.dpdk.org (Postfix) with ESMTP id 7032040271
 for <test-report@dpdk.org>; Mon,  4 Mar 2024 20:01:17 +0100 (CET)
Received: by mail-yw1-f225.google.com with SMTP id
 00721157ae682-6098b9ed2a3so24560557b3.0
 for <test-report@dpdk.org>; Mon, 04 Mar 2024 11:01:17 -0800 (PST)
DKIM-Signature: v=1; a=rsa-sha256; c=relaxed/relaxed;
 d=iol.unh.edu; s=unh-iol; t=1709578877; x=1710183677; darn=dpdk.org;
 h=references:in-reply-to:cc:to:from:subject:message-id:date:from:to
 :cc:subject:date:message-id:reply-to;
 bh=D90haTh6cu74b3ew+f71hA+Aw/Gqp9GvIsD++VVf51I=;
 b=CIjBctmRt4gdqoVbx78H+xBYDPsDAyyMgbhi8Xoy/f8pQIFXZpYvfT1qemj5Fbl/d4
 s7nyQE1RuzH1GW3OrOl8YqOe+PyfYRhcInjMaIGx4IFwv9Np23G4+DIKSBznSvIJgKim
 fKz+Cl/MLNhXCduf2DgsZbHgrXZFR1KRRmMrA=
X-Google-DKIM-Signature: v=1; a=rsa-sha256; c=relaxed/relaxed;
 d=1e100.net; s=20230601; t=1709578877; x=1710183677;
 h=references:in-reply-to:cc:to:from:subject:message-id:date
 :x-gm-message-state:from:to:cc:subject:date:message-id:reply-to;
 bh=D90haTh6cu74b3ew+f71hA+Aw/Gqp9GvIsD++VVf51I=;
 b=jqgXckyLqY8D0BnDG7WdetEnQzCmvqTc/mVAx/gdkAPm5ZXx/wjzUSSaMqssZLdia0
 CZYVIpwuuXIwSFFeJVZPpyouY2CXafzlvheoW5dpv5FmDMOILApiadu6daeOkqTQIVWR
 jd3v6UQVGGqNYcebpfcZCXW9jKermJzJxE0apkUrDu2KMhpelh21GCLP2Zv06X7CzQSK
 y7z0VvAv8YAyec8C3m1lWso7/CMB/0pqLu943WKRN0abi77F3YvXqy97Sc6yFnzIoDJa
 JiPISNGBdRYAk71Yxwc9xjj5P/V6J6hPOUzW0k3bxfJWqtAa6jbpGeB/kxNq4SQmqQyc
 V9Ng==
X-Gm-Message-State: AOJu0YyHLIEUBfJtflTnXskuxE1Myeghfj63R3+hjhkMb35fJbsR7j7X
 Wd2lXF5PzP175SUDt7b99KwhCLC0gwIgFYVR2RMYb+jCURCxCAm0wUwbmMOTluJ6Zt+2yYlqBzo
 UHgxkOwWVnmZbxaKMUpIcR0UXQryjA9VcsFx+AKnt
X-Google-Smtp-Source: AGHT+IHRlOrypEOmeE6eh3YuApIdPYTR20Vrh542l78qjenyT582WTbGPergct8bSoxhjvs0BRrkg2VR1YHU
X-Received: by 2002:a0d:e694:0:b0:609:206b:8580 with SMTP id
 p142-20020a0de694000000b00609206b8580mr9260845ywe.21.1709578876905; 
 Mon, 04 Mar 2024 11:01:16 -0800 (PST)
Received: from postal.iol.unh.edu (postal.iol.unh.edu. [132.177.123.84])
 by smtp-relay.gmail.com with ESMTPS id
 z204-20020a8165d5000000b00607791cd2afsm603927ywb.21.2024.03.04.11.01.16
 (version=TLS1_2 cipher=ECDHE-ECDSA-AES128-GCM-SHA256 bits=128/128);
 Mon, 04 Mar 2024 11:01:16 -0800 (PST)
X-Relaying-Domain: iol.unh.edu
Date: Mon, 04 Mar 2024 11:01:16 -0800 (PST)
Message-ID: <65e61a7c.810a0220.711d5.7447SMTPIN_ADDED_MISSING@mx.google.com>
Received: from [172.21.0.7] (unknown [172.18.0.240])
 by postal.iol.unh.edu (Postfix) with ESMTP id 8B9326043300;
 Mon,  4 Mar 2024 14:01:16 -0500 (EST)
Subject: |SUCCESS| pw137915-137949 [PATCH] [v7,39/39] ip_frag: use C11 aligna
From: dpdklab@iol.unh.edu
To: Test Report <test-report@dpdk.org>
Cc: dpdk-test-reports@iol.unh.edu
In-Reply-To: <1709574764-9041-40-git-send-email-roretzla@linux.microsoft.com>
References: <1709574764-9041-40-git-send-email-roretzla@linux.microsoft.com>
Content-Type: text/plain
X-BeenThere: test-report@dpdk.org
X-Mailman-Version: 2.1.29
Precedence: list
List-Id: automatic DPDK test reports <test-report.dpdk.org>
List-Unsubscribe: <https://mails.dpdk.org/options/test-report>,
 <mailto:test-report-request@dpdk.org?subject=unsubscribe>
List-Archive: <http://mails.dpdk.org/archives/test-report/>
List-Post: <mailto:test-report@dpdk.org>
List-Help: <mailto:test-report-request@dpdk.org?subject=help>
List-Subscribe: <https://mails.dpdk.org/listinfo/test-report>,
 <mailto:test-report-request@dpdk.org?subject=subscribe>
Errors-To: test-report-bounces@dpdk.org

Test-Label: iol-unit-amd64-testing
Test-Status: SUCCESS
http://dpdk.org/patch/137949

_Testing PASS_

Submitter: Tyler Retzlaff <roretzla@linux.microsoft.com>
Date: Monday, March 04 2024 17:52:44 
DPDK git baseline: Repo:dpdk
  Branch: master
  CommitID:17d724349a8d4de8306ff9416549fdf71cc4b20a

137915-137949 --> testing pass

Test environment and result as below:

+---------------------+----------------+
|     Environment     | dpdk_unit_test |
+=====================+================+
| Windows Server 2019 | PASS           |
+---------------------+----------------+
| CentOS Stream 8     | PASS           |
+---------------------+----------------+
| CentOS Stream 9     | PASS           |
+---------------------+----------------+
| Debian Bullseye     | PASS           |
+---------------------+----------------+
| Fedora 37           | PASS           |
+---------------------+----------------+
| Ubuntu 20.04        | PASS           |
+---------------------+----------------+
| Fedora 38           | PASS           |
+---------------------+----------------+


Windows Server 2019
	Kernel: 10.0
	Compiler: clang 14.0 and gcc 8.1.0 (MinGW)

CentOS Stream 8
	Kernel: 4.18.0-240.10.1.el8_3.x86_64
	Compiler: gcc 8.4.1 20200928

CentOS Stream 9
	Kernel: 4.18.0-240.10.1.el8_3.x86_64
	Compiler: gcc 11.3.1 20220421

Debian Bullseye
	Kernel: 5.4.0-122-generic
	Compiler: gcc 10.2.1-6

Fedora 37
	Kernel: Depends on container host system
	Compiler: gcc 12.3.1

Ubuntu 20.04
	Kernel: 5.4.0-153-generic
	Compiler: gcc 9.4.0-1ubuntu1~20.04.1

Fedora 38
	Kernel: Depends on container host
	Compiler: gcc 13.1.1

To view detailed results, visit:
https://lab.dpdk.org/results/dashboard/patchsets/29405/

UNH-IOL DPDK Community Lab

To manage your email subscriptions, visit: 
https://lab.dpdk.org/results/dashboard/preferences/subscriptions/