From mboxrd@z Thu Jan 1 00:00:00 1970 Return-Path: Received: from mails.dpdk.org (mails.dpdk.org [217.70.189.124]) by inbox.dpdk.org (Postfix) with ESMTP id 7D89343B9B for ; Mon, 4 Mar 2024 20:05:14 +0100 (CET) Received: from mails.dpdk.org (localhost [127.0.0.1]) by mails.dpdk.org (Postfix) with ESMTP id 78DDE402E3; Mon, 4 Mar 2024 20:05:14 +0100 (CET) Received: from mail-io1-f98.google.com (mail-io1-f98.google.com [209.85.166.98]) by mails.dpdk.org (Postfix) with ESMTP id 2945740271 for ; Mon, 4 Mar 2024 20:05:13 +0100 (CET) Received: by mail-io1-f98.google.com with SMTP id ca18e2360f4ac-7c7476a11e0so268694139f.3 for ; Mon, 04 Mar 2024 11:05:13 -0800 (PST) DKIM-Signature: v=1; a=rsa-sha256; c=relaxed/relaxed; d=iol.unh.edu; s=unh-iol; t=1709579112; x=1710183912; darn=dpdk.org; h=references:in-reply-to:cc:to:from:subject:message-id:date:from:to :cc:subject:date:message-id:reply-to; bh=GPmRwpxAVVZJnizvpFNwAAfgBVzaehPrYGQc72RXPig=; b=YQw/zRTP0sJzdBUxDKW6LpLWHygUU44OlV/ThJ/QMXBSkZ1eFyjA5ouB3yV0VIpoY/ 3Qmkm1lZ0Fvc0eLiV9ZEc/Of0Ys8VlIJnV9/WQ3oOnAc6rVWwQrw6DeY/aOFXsAEgHar 2swh944GX8ezQH7BVhQPVxgWngosp9K5yFqxA= X-Google-DKIM-Signature: v=1; a=rsa-sha256; c=relaxed/relaxed; d=1e100.net; s=20230601; t=1709579112; x=1710183912; h=references:in-reply-to:cc:to:from:subject:message-id:date :x-gm-message-state:from:to:cc:subject:date:message-id:reply-to; bh=GPmRwpxAVVZJnizvpFNwAAfgBVzaehPrYGQc72RXPig=; b=BuH9cKnRsON/ryRLDQkyj+CeqstZN+igPML/GHj/bfvKfTOWnWPhephZvh9QOpGgzM 9qdTkfOhFvFisj7W9Qw0UJFobLV51JEBaV0Vq4RVOjkHb3mrSHdQcKZoee1eqkUcacKi 4TM8rWncbEv2H+C2bpSBL8JyKOFY7p86y8LN4Sq1jJhadTfy1nUa9RJRqlbGDwTu5dtZ AyVtyW0+Mt85JXhNbyfpALphE2MqRYhCxgwlLvF45YUCqZ9gOAVSevzvXqwUIHV4Do9F +yU+fWT/LDqjgr5LIHjWj8FVtLb4CGRclhBr51bi71twz8X+AOBIOH5cF1u16d7E/M0K s5xw== X-Gm-Message-State: AOJu0Yy7NgLPhSgYk+v2wWvU5JxHEy/4/UlZaCh9Dwxr9orcdfdxXT9u gEkGRXgtEI0l50ZuzmX2MPX8xOoMxJqBqgJwTJ+GtRG5/P+KV7kPYkREe3Iw/Gx0lYgpE9RXOFx UnL5yLrADpXA95rHiH/vyvSls0JkgUBQJBZU9y9tH X-Google-Smtp-Source: AGHT+IHYMLWUw3aicuSLchktaSwNc6/pK1t0xPDohsTDB0T99d5h0/+Ir8eTIh5iDAwJrc6D2tqcW+E4xlxE X-Received: by 2002:a5e:8c17:0:b0:7c8:4208:9b24 with SMTP id n23-20020a5e8c17000000b007c842089b24mr4899911ioj.5.1709579112460; Mon, 04 Mar 2024 11:05:12 -0800 (PST) Received: from postal.iol.unh.edu (postal.iol.unh.edu. [132.177.123.84]) by smtp-relay.gmail.com with ESMTPS id d26-20020a6b4f1a000000b007c84aed4d00sm17666iob.31.2024.03.04.11.05.12 (version=TLS1_2 cipher=ECDHE-ECDSA-AES128-GCM-SHA256 bits=128/128); Mon, 04 Mar 2024 11:05:12 -0800 (PST) X-Relaying-Domain: iol.unh.edu Date: Mon, 04 Mar 2024 11:05:12 -0800 (PST) Message-ID: <65e61b68.6b0a0220.59e97.0ed8SMTPIN_ADDED_MISSING@mx.google.com> Received: from [172.21.0.7] (unknown [172.18.0.240]) by postal.iol.unh.edu (Postfix) with ESMTP id 182746043300; Mon, 4 Mar 2024 14:05:12 -0500 (EST) Subject: |SUCCESS| pw137915-137949 [PATCH] [v7,39/39] ip_frag: use C11 aligna From: dpdklab@iol.unh.edu To: Test Report Cc: dpdk-test-reports@iol.unh.edu In-Reply-To: <1709574764-9041-40-git-send-email-roretzla@linux.microsoft.com> References: <1709574764-9041-40-git-send-email-roretzla@linux.microsoft.com> Content-Type: text/plain X-BeenThere: test-report@dpdk.org X-Mailman-Version: 2.1.29 Precedence: list List-Id: automatic DPDK test reports List-Unsubscribe: , List-Archive: List-Post: List-Help: List-Subscribe: , Errors-To: test-report-bounces@dpdk.org Test-Label: iol-compile-amd64-testing Test-Status: SUCCESS http://dpdk.org/patch/137949 _Testing PASS_ Submitter: Tyler Retzlaff Date: Monday, March 04 2024 17:52:44 DPDK git baseline: Repo:dpdk Branch: master CommitID:17d724349a8d4de8306ff9416549fdf71cc4b20a 137915-137949 --> testing pass Test environment and result as below: +---------------------+--------------------+----------------------+ | Environment | dpdk_meson_compile | dpdk_mingw64_compile | +=====================+====================+======================+ | Windows Server 2022 | PASS | SKIPPED | +---------------------+--------------------+----------------------+ | FreeBSD 13.2 | PASS | SKIPPED | +---------------------+--------------------+----------------------+ | Windows Server 2019 | PASS | PASS | +---------------------+--------------------+----------------------+ | Debian Bullseye | PASS | SKIPPED | +---------------------+--------------------+----------------------+ | CentOS Stream 8 | PASS | SKIPPED | +---------------------+--------------------+----------------------+ | Debian 12 (arm) | PASS | SKIPPED | +---------------------+--------------------+----------------------+ | CentOS Stream 9 | PASS | SKIPPED | +---------------------+--------------------+----------------------+ | openSUSE Leap 15 | PASS | SKIPPED | +---------------------+--------------------+----------------------+ Windows Server 2022 Kernel: OS Build 20348.2031 Compiler: MSVC VS-Preview FreeBSD 13.2 Kernel: 13.2 Compiler: clang 11.3.0 Windows Server 2019 Kernel: 10.0 Compiler: clang 14.0 and gcc 8.1.0 (MinGW) Debian Bullseye Kernel: 5.4.0-122-generic Compiler: gcc 10.2.1-6 CentOS Stream 8 Kernel: 4.18.0-240.10.1.el8_3.x86_64 Compiler: gcc 8.4.1 20200928 Debian 12 (arm) Kernel: Container Host Kernel Compiler: gcc 11 CentOS Stream 9 Kernel: 4.18.0-240.10.1.el8_3.x86_64 Compiler: gcc 11.3.1 20220421 openSUSE Leap 15 Kernel: 4.18.0-240.10.1.el8_3.x86_64 Compiler: gcc 7.5.0 To view detailed results, visit: https://lab.dpdk.org/results/dashboard/patchsets/29405/ UNH-IOL DPDK Community Lab To manage your email subscriptions, visit: https://lab.dpdk.org/results/dashboard/preferences/subscriptions/