From mboxrd@z Thu Jan  1 00:00:00 1970
Return-Path: <test-report-bounces@dpdk.org>
Received: from mails.dpdk.org (mails.dpdk.org [217.70.189.124])
	by inbox.dpdk.org (Postfix) with ESMTP id A647143B76
	for <public@inbox.dpdk.org>; Mon,  4 Mar 2024 20:20:07 +0100 (CET)
Received: from mails.dpdk.org (localhost [127.0.0.1])
	by mails.dpdk.org (Postfix) with ESMTP id 7ACF64014F;
	Mon,  4 Mar 2024 20:20:07 +0100 (CET)
Received: from mail-io1-f97.google.com (mail-io1-f97.google.com
 [209.85.166.97]) by mails.dpdk.org (Postfix) with ESMTP id E80C24003C
 for <test-report@dpdk.org>; Mon,  4 Mar 2024 20:20:05 +0100 (CET)
Received: by mail-io1-f97.google.com with SMTP id
 ca18e2360f4ac-7c84af127e3so58920639f.3
 for <test-report@dpdk.org>; Mon, 04 Mar 2024 11:20:05 -0800 (PST)
DKIM-Signature: v=1; a=rsa-sha256; c=relaxed/relaxed;
 d=iol.unh.edu; s=unh-iol; t=1709580005; x=1710184805; darn=dpdk.org;
 h=references:in-reply-to:cc:to:from:subject:message-id:date:from:to
 :cc:subject:date:message-id:reply-to;
 bh=a+j2ZyiyWD6482t5okyr9m/2P4jmP1G9rT6hTihrtKk=;
 b=ExlvRbbXxBbMyCcpmvh+5UUxA6VHInmED0Xc3V/xiRuqZLAHxqqsT3R/Q9WRM2x6fD
 +TR9Hb9+JOR3swWJkKOYKtBOoBFNgQuPEkQawq9xrXxGgruE7Av+em/rd/zr+LillYSV
 +6dBp9XIqgsY0OQSyad8atpQbELtfkJxKR8q4=
X-Google-DKIM-Signature: v=1; a=rsa-sha256; c=relaxed/relaxed;
 d=1e100.net; s=20230601; t=1709580005; x=1710184805;
 h=references:in-reply-to:cc:to:from:subject:message-id:date
 :x-gm-message-state:from:to:cc:subject:date:message-id:reply-to;
 bh=a+j2ZyiyWD6482t5okyr9m/2P4jmP1G9rT6hTihrtKk=;
 b=pDEzARPdYjj34/Pgk8+yIMgOI0Hv8tT75R5y34ZoK97UUygT2+mj0Rdioo6BFIjnJN
 Tsx4i2qo/oNU1p+8xWNmARw8PATpPJBFMv0AfiNfDDg1Pz/T/hpG5kHPB9UWRt8LLgkB
 J8j7fKe5pKP5U9Ig2Wc/PompShQDUU38fVGnKdG4MQsQ4w5SFCgEbsWML+ib586Tv28p
 z3LFk+Qogx/bTlFL7TC8GN3nX8hWU1txUEXbS0islT1DMCAfqKoMf9+DviImemv3+8NA
 g9ducfk9F/v19E4+V8N/KfZWVKr+IufCCO9UYoZcNXtvAw3qZbJRz0W5oz/NqahV9wcd
 Fl+A==
X-Gm-Message-State: AOJu0YwH642RruS65x5cLAr/GhzDOQCIITzRVSSLntsn6Z6H1+hvhiLg
 DCQZMEBoDxo1HSDN9+GFEMoE8keRFNdnXr+lyQQg30Va8joOTYwCmxexUkIIX3chu6kzGh3MFW/
 DDaB8DchH+bKmDygLDgEl6zLnDtAYtjjXlLq4Xzgf
X-Google-Smtp-Source: AGHT+IFjSSEohxgl2R4nN81E01EYr5zMCpIukZhuAnYK8LB/qZRRc+WFbzrK3EfrHMFmFYcj3ivRp+V4ivwD
X-Received: by 2002:a5e:9e4a:0:b0:7c8:2940:4e81 with SMTP id
 j10-20020a5e9e4a000000b007c829404e81mr9948258ioq.11.1709580005354; 
 Mon, 04 Mar 2024 11:20:05 -0800 (PST)
Received: from postal.iol.unh.edu (postal.iol.unh.edu. [132.177.123.84])
 by smtp-relay.gmail.com with ESMTPS id
 a17-20020a056602149100b007c864e6b4d1sm4705iow.0.2024.03.04.11.20.05
 (version=TLS1_2 cipher=ECDHE-ECDSA-AES128-GCM-SHA256 bits=128/128);
 Mon, 04 Mar 2024 11:20:05 -0800 (PST)
X-Relaying-Domain: iol.unh.edu
Date: Mon, 04 Mar 2024 11:20:05 -0800 (PST)
Message-ID: <65e61ee5.050a0220.3b6a5.0520SMTPIN_ADDED_MISSING@mx.google.com>
Received: from [172.17.0.6] (unknown [172.18.0.217])
 by postal.iol.unh.edu (Postfix) with ESMTP id D64E36043300;
 Mon,  4 Mar 2024 14:20:04 -0500 (EST)
Subject: |SUCCESS| pw137915-137949 [PATCH] [v7,39/39] ip_frag: use C11 aligna
From: dpdklab@iol.unh.edu
To: Test Report <test-report@dpdk.org>
Cc: dpdk-test-reports@iol.unh.edu
In-Reply-To: <1709574764-9041-40-git-send-email-roretzla@linux.microsoft.com>
References: <1709574764-9041-40-git-send-email-roretzla@linux.microsoft.com>
Content-Type: text/plain
X-BeenThere: test-report@dpdk.org
X-Mailman-Version: 2.1.29
Precedence: list
List-Id: automatic DPDK test reports <test-report.dpdk.org>
List-Unsubscribe: <https://mails.dpdk.org/options/test-report>,
 <mailto:test-report-request@dpdk.org?subject=unsubscribe>
List-Archive: <http://mails.dpdk.org/archives/test-report/>
List-Post: <mailto:test-report@dpdk.org>
List-Help: <mailto:test-report-request@dpdk.org?subject=help>
List-Subscribe: <https://mails.dpdk.org/listinfo/test-report>,
 <mailto:test-report-request@dpdk.org?subject=subscribe>
Errors-To: test-report-bounces@dpdk.org

Test-Label: iol-unit-amd64-testing
Test-Status: SUCCESS
http://dpdk.org/patch/137949

_Testing PASS_

Submitter: Tyler Retzlaff <roretzla@linux.microsoft.com>
Date: Monday, March 04 2024 17:52:44 
DPDK git baseline: Repo:dpdk
  Branch: master
  CommitID:17d724349a8d4de8306ff9416549fdf71cc4b20a

137915-137949 --> testing pass

Test environment and result as below:

+---------------------+----------------+
|     Environment     | dpdk_unit_test |
+=====================+================+
| Windows Server 2019 | PASS           |
+---------------------+----------------+
| CentOS Stream 8     | PASS           |
+---------------------+----------------+
| CentOS Stream 9     | PASS           |
+---------------------+----------------+
| Debian Bullseye     | PASS           |
+---------------------+----------------+
| Fedora 37           | PASS           |
+---------------------+----------------+
| Ubuntu 20.04        | PASS           |
+---------------------+----------------+
| Fedora 38           | PASS           |
+---------------------+----------------+
| RHEL8               | PASS           |
+---------------------+----------------+
| openSUSE Leap 15    | PASS           |
+---------------------+----------------+
| Ubuntu 22.04        | PASS           |
+---------------------+----------------+
| Debian 12 (arm)     | PASS           |
+---------------------+----------------+


Windows Server 2019
	Kernel: 10.0
	Compiler: clang 14.0 and gcc 8.1.0 (MinGW)

CentOS Stream 8
	Kernel: 4.18.0-240.10.1.el8_3.x86_64
	Compiler: gcc 8.4.1 20200928

CentOS Stream 9
	Kernel: 4.18.0-240.10.1.el8_3.x86_64
	Compiler: gcc 11.3.1 20220421

Debian Bullseye
	Kernel: 5.4.0-122-generic
	Compiler: gcc 10.2.1-6

Fedora 37
	Kernel: Depends on container host system
	Compiler: gcc 12.3.1

Ubuntu 20.04
	Kernel: 5.4.0-153-generic
	Compiler: gcc 9.4.0-1ubuntu1~20.04.1

Fedora 38
	Kernel: Depends on container host
	Compiler: gcc 13.1.1

RHEL8
	Kernel: 4.18.0-240.10.1.el8_3.x86_64
	Compiler: gcc 8.3.1 20191121 (Red Hat 8.3.1-5)

openSUSE Leap 15
	Kernel: 4.18.0-240.10.1.el8_3.x86_64
	Compiler: gcc 7.5.0

Ubuntu 22.04
	Kernel: 4.18.0-240.10.1.el8_3.x86_64
	Compiler: gcc 11.3.0

Debian 12 (arm)
	Kernel: Container Host Kernel
	Compiler: gcc 11

To view detailed results, visit:
https://lab.dpdk.org/results/dashboard/patchsets/29405/

UNH-IOL DPDK Community Lab

To manage your email subscriptions, visit: 
https://lab.dpdk.org/results/dashboard/preferences/subscriptions/