From mboxrd@z Thu Jan  1 00:00:00 1970
Return-Path: <test-report-bounces@dpdk.org>
Received: from mails.dpdk.org (mails.dpdk.org [217.70.189.124])
	by inbox.dpdk.org (Postfix) with ESMTP id 1279D43BAA
	for <public@inbox.dpdk.org>; Mon,  4 Mar 2024 23:56:38 +0100 (CET)
Received: from mails.dpdk.org (localhost [127.0.0.1])
	by mails.dpdk.org (Postfix) with ESMTP id E038E402E3;
	Mon,  4 Mar 2024 23:56:37 +0100 (CET)
Received: from mail-vs1-f100.google.com (mail-vs1-f100.google.com
 [209.85.217.100])
 by mails.dpdk.org (Postfix) with ESMTP id D6AF2402D0
 for <test-report@dpdk.org>; Mon,  4 Mar 2024 23:56:36 +0100 (CET)
Received: by mail-vs1-f100.google.com with SMTP id
 ada2fe7eead31-47273838a21so2959620137.1
 for <test-report@dpdk.org>; Mon, 04 Mar 2024 14:56:36 -0800 (PST)
DKIM-Signature: v=1; a=rsa-sha256; c=relaxed/relaxed;
 d=iol.unh.edu; s=unh-iol; t=1709592996; x=1710197796; darn=dpdk.org;
 h=references:in-reply-to:cc:to:from:subject:message-id:date:from:to
 :cc:subject:date:message-id:reply-to;
 bh=S0ZHqcnx4ZyAs26BtIKerWITrn6K2oaD2Gsgj7DkW5M=;
 b=YNa/hfu8FczeuaTuLn7BMaccivh6ZUXv9jiWwoEHiEtu/FKli4M8ewC8UXUyBrVkzn
 ILm6+plhAY4UwWBESZOUfICwqxAogQ+pvvuETvZnEcgdK9rA8xP3vUPRuW4Pr3BjKHmQ
 d3b5DPVZSF6C3xva7dR9DAC77vLyN+fVOcNpQ=
X-Google-DKIM-Signature: v=1; a=rsa-sha256; c=relaxed/relaxed;
 d=1e100.net; s=20230601; t=1709592996; x=1710197796;
 h=references:in-reply-to:cc:to:from:subject:message-id:date
 :x-gm-message-state:from:to:cc:subject:date:message-id:reply-to;
 bh=S0ZHqcnx4ZyAs26BtIKerWITrn6K2oaD2Gsgj7DkW5M=;
 b=Bjx8Mifu+09cs/ipNZ/Q5jvkXrbbkijYNdPhRAlBAAcoG3hXrLIC+ii5469czHlIrB
 q4ogPqM6BekDrXbSJKbzKVRfM9cllKoRD7ho81kkD2sQdjtJ6L4RQT5FWKRfcmxDZ7De
 UcseLc2vrSFAYR0oKcHaEXVAgWwymk1Eg7ApVgBWqN8FfwlzlqutQHQxlg52uTZIRIjG
 mq4+ekEYGBikmfTtyJ0Sudoao6JGwGLCLRY0T7YUHTN8AqJ0H+2gU/aFfdrW2D5fhIcb
 76mbj9cerrBvNyIAZ5FiCeKrk9YhL7He3U2+dCkiE58NL3ExzOk0SVN/+l/pjjmfRRTy
 piNA==
X-Gm-Message-State: AOJu0Yz+1yd/e8u9MQQ0+5gzx0VmlyiEnGbXwpgP4zU6bK84ko/xt+0N
 btv4VvhzlLix6zeNCkP6jugxI7gAl4A/08jD81gatVVugrevBK8FA3vomROZS0ZuTtEdQ5QqjL3
 YfoArckvh65khaqrHQvTE5hIbltTQjqp6ePKqE62D
X-Google-Smtp-Source: AGHT+IHJ7ll/XLL9j1lYo5JglsSEZ60Z7yorcA9p4HvmGaNOMNi1EmHPcJlpH7U8iyVhfmgW98Xp1MqkN9o8
X-Received: by 2002:a05:6102:f95:b0:472:a6f2:5630 with SMTP id
 e21-20020a0561020f9500b00472a6f25630mr203178vsv.6.1709592996189; 
 Mon, 04 Mar 2024 14:56:36 -0800 (PST)
Received: from postal.iol.unh.edu (postal.iol.unh.edu. [132.177.123.84])
 by smtp-relay.gmail.com with ESMTPS id
 je4-20020a056130680400b007db5e772bb9sm2575uab.6.2024.03.04.14.56.36
 (version=TLS1_2 cipher=ECDHE-ECDSA-AES128-GCM-SHA256 bits=128/128);
 Mon, 04 Mar 2024 14:56:36 -0800 (PST)
X-Relaying-Domain: iol.unh.edu
Date: Mon, 04 Mar 2024 14:56:36 -0800 (PST)
Message-ID: <65e651a4.050a0220.da58.0240SMTPIN_ADDED_MISSING@mx.google.com>
Received: from [172.17.0.6] (unknown [172.18.0.217])
 by postal.iol.unh.edu (Postfix) with ESMTP id A1CFF6052712;
 Mon,  4 Mar 2024 17:56:35 -0500 (EST)
Subject: |SUCCESS| pw137915-137949 [PATCH] [v7,39/39] ip_frag: use C11 aligna
From: dpdklab@iol.unh.edu
To: Test Report <test-report@dpdk.org>
Cc: dpdk-test-reports@iol.unh.edu
In-Reply-To: <1709574764-9041-40-git-send-email-roretzla@linux.microsoft.com>
References: <1709574764-9041-40-git-send-email-roretzla@linux.microsoft.com>
Content-Type: text/plain
X-BeenThere: test-report@dpdk.org
X-Mailman-Version: 2.1.29
Precedence: list
List-Id: automatic DPDK test reports <test-report.dpdk.org>
List-Unsubscribe: <https://mails.dpdk.org/options/test-report>,
 <mailto:test-report-request@dpdk.org?subject=unsubscribe>
List-Archive: <http://mails.dpdk.org/archives/test-report/>
List-Post: <mailto:test-report@dpdk.org>
List-Help: <mailto:test-report-request@dpdk.org?subject=help>
List-Subscribe: <https://mails.dpdk.org/listinfo/test-report>,
 <mailto:test-report-request@dpdk.org?subject=subscribe>
Errors-To: test-report-bounces@dpdk.org

Test-Label: iol-compile-arm64-testing
Test-Status: SUCCESS
http://dpdk.org/patch/137949

_Testing PASS_

Submitter: Tyler Retzlaff <roretzla@linux.microsoft.com>
Date: Monday, March 04 2024 17:52:44 
DPDK git baseline: Repo:dpdk
  Branch: master
  CommitID:17d724349a8d4de8306ff9416549fdf71cc4b20a

137915-137949 --> testing pass

Test environment and result as below:

+----------------------------------------+--------------------+
|              Environment               | dpdk_meson_compile |
+========================================+====================+
| Ubuntu 20.04 ARM SVE                   | PASS               |
+----------------------------------------+--------------------+
| Ubuntu 20.04 aarch32 GCC Cross Compile | PASS               |
+----------------------------------------+--------------------+
| Fedora 37 (ARM)                        | PASS               |
+----------------------------------------+--------------------+
| Ubuntu 20.04 ARM Clang Cross Compile   | PASS               |
+----------------------------------------+--------------------+
| CentOS Stream 9 (ARM)                  | PASS               |
+----------------------------------------+--------------------+
| Ubuntu 20.04 ARM GCC Cross Compile     | PASS               |
+----------------------------------------+--------------------+
| Debian 11 (Buster) (ARM)               | PASS               |
+----------------------------------------+--------------------+
| Fedora 38 (ARM)                        | PASS               |
+----------------------------------------+--------------------+
| Fedora 38 (ARM Clang)                  | PASS               |
+----------------------------------------+--------------------+
| Ubuntu 20.04 (ARM)                     | PASS               |
+----------------------------------------+--------------------+
| Debian 12 (arm)                        | PASS               |
+----------------------------------------+--------------------+


Ubuntu 20.04 ARM SVE
	Kernel: 5.4.0-80-generic
	Compiler: gcc 10.3.0 (Ubuntu 10.3.0-1ubuntu1~20.04)

Ubuntu 20.04 aarch32 GCC Cross Compile
	Kernel: 5.4.0-72-generic
	Compiler: gcc 9.3.0

Fedora 37 (ARM)
	Kernel: Depends on container host
	Compiler: gcc 12.3.1

Ubuntu 20.04 ARM Clang Cross Compile
	Kernel: 5.4.0-72-generic
	Compiler: clang version 10.0.0-4ubuntu1

CentOS Stream 9 (ARM)
	Kernel: Container Host Kernel
	Compiler: gcc 11.3.1

Ubuntu 20.04 ARM GCC Cross Compile
	Kernel: 5.4.0-72-generic
	Compiler: aarch64-linux-gnu-gcc (Ubuntu 9.3.0-17ubuntu1~20.04) 9.3.0

Debian 11 (Buster) (ARM)
	Kernel: Container Host Kernel
	Compiler: gcc 10.2.1

Fedora 38 (ARM)
	Kernel: Depends on container host
	Compiler: gcc 13.1.1

Fedora 38 (ARM Clang)
	Kernel: Depends on container host
	Compiler: clang 16.0.3

Ubuntu 20.04 (ARM)
	Kernel: Container Host Kernel
	Compiler: gcc 9.4.0

Debian 12 (arm)
	Kernel: Container Host Kernel
	Compiler: gcc 11

To view detailed results, visit:
https://lab.dpdk.org/results/dashboard/patchsets/29405/

UNH-IOL DPDK Community Lab

To manage your email subscriptions, visit: 
https://lab.dpdk.org/results/dashboard/preferences/subscriptions/