From mboxrd@z Thu Jan  1 00:00:00 1970
Return-Path: <test-report-bounces@dpdk.org>
Received: from mails.dpdk.org (mails.dpdk.org [217.70.189.124])
	by inbox.dpdk.org (Postfix) with ESMTP id D629943BD7
	for <public@inbox.dpdk.org>; Tue,  5 Mar 2024 04:18:14 +0100 (CET)
Received: from mails.dpdk.org (localhost [127.0.0.1])
	by mails.dpdk.org (Postfix) with ESMTP id D1DB440270;
	Tue,  5 Mar 2024 04:18:14 +0100 (CET)
Received: from mail-il1-f226.google.com (mail-il1-f226.google.com
 [209.85.166.226])
 by mails.dpdk.org (Postfix) with ESMTP id 4DC1E4026B
 for <test-report@dpdk.org>; Tue,  5 Mar 2024 04:18:13 +0100 (CET)
Received: by mail-il1-f226.google.com with SMTP id
 e9e14a558f8ab-365c80d1114so16435215ab.3
 for <test-report@dpdk.org>; Mon, 04 Mar 2024 19:18:13 -0800 (PST)
DKIM-Signature: v=1; a=rsa-sha256; c=relaxed/relaxed;
 d=iol.unh.edu; s=unh-iol; t=1709608692; x=1710213492; darn=dpdk.org;
 h=references:in-reply-to:cc:to:from:subject:message-id:date:from:to
 :cc:subject:date:message-id:reply-to;
 bh=LwmVNx/7l2oauozp2fGwCFW6vVzcewqAmC/6oKbFX54=;
 b=Q89zZ2n69gfKLk0hjDmoIVnj3TGf9rdtPgnAy7IBH2V9loD3U1LlgsuhI+YA2VVxMZ
 f+XgP/1Hwldsj+MHtS9kudroRZFx6ve9vpTFH5ummDNG74YgA3CcuBoyCBz1b3FCewJ3
 CbTfmUH21LZzgrZZ1o0GQKrAzbsxTHuDjDaUI=
X-Google-DKIM-Signature: v=1; a=rsa-sha256; c=relaxed/relaxed;
 d=1e100.net; s=20230601; t=1709608692; x=1710213492;
 h=references:in-reply-to:cc:to:from:subject:message-id:date
 :x-gm-message-state:from:to:cc:subject:date:message-id:reply-to;
 bh=LwmVNx/7l2oauozp2fGwCFW6vVzcewqAmC/6oKbFX54=;
 b=aE1Zb+4sjWJzQ0zrp5n59pGrC0wV5kEoBdwUXoI0fU5GjZS4hcGAK7TfDIarl/EwY6
 /Fvhk74Ds0IWf5NNyBX4jp67GzUw8YAJOfN9Ehns68gne62Yp34psm1zjlsQkB0xbp+S
 9sqIV5lMWFnWeKTaZX8PW+PY4uYGv69friPBA0PpyIcouz3n/2gsQEa91vbxTYjUtxF4
 yk93cpTvHVMUfbuK6a8ouNg0xztXVQEoSVHSC7S4xNAZEITcOYzjSDKpObzRIR7Z9clN
 7GLyMYYsnt0xaYjE+82fJkkb1TXqKg+MLGM+1HSDD0rSYF5SbCnrSa4BqOOitNgCsWUC
 oZTw==
X-Gm-Message-State: AOJu0Yz8KjzX0u+ZZAzybYnN/PyPsMDlfMupU0LWzuX5+yqguHL1Bnbj
 xtO+LwmHoByLVY63d85iFPLtDawkFL9+rcWtrL9D5X21jeQYiZgfm4d+YB/bQ56PROA+qpAYWVg
 Dc9sH/aR7+uf8loFwi26jqSX2UP1wqDtkz6X07JuPUob4oOZ+gvyEH1EA
X-Google-Smtp-Source: AGHT+IFXx8GAzhMWojNxRN0ABCSnuhNfGtcU6TKFRqqt89+DY1IeffrP1oGTGr2g7w0LcP4302JMALcsfpp7
X-Received: by 2002:a05:6e02:2148:b0:365:1fa4:1b41 with SMTP id
 d8-20020a056e02214800b003651fa41b41mr13285685ilv.15.1709608692784; 
 Mon, 04 Mar 2024 19:18:12 -0800 (PST)
Received: from postal.iol.unh.edu (postal.iol.unh.edu.
 [2606:4100:3880:1234::84]) by smtp-relay.gmail.com with ESMTPS id
 by10-20020a056e02260a00b00363a24654adsm589797ilb.12.2024.03.04.19.18.12
 (version=TLS1_2 cipher=ECDHE-ECDSA-AES128-GCM-SHA256 bits=128/128);
 Mon, 04 Mar 2024 19:18:12 -0800 (PST)
X-Relaying-Domain: iol.unh.edu
Date: Mon, 04 Mar 2024 19:18:12 -0800 (PST)
Message-ID: <65e68ef4.050a0220.d4dd2.6567SMTPIN_ADDED_MISSING@mx.google.com>
Received: from [172.21.0.6] (unknown [172.18.0.240])
 by postal.iol.unh.edu (Postfix) with ESMTP id 528056052712;
 Mon,  4 Mar 2024 22:18:12 -0500 (EST)
Subject: |SUCCESS| pw137955-137959 [PATCH] [5/5] net/nfp: use big-endian meta
From: dpdklab@iol.unh.edu
To: Test Report <test-report@dpdk.org>
Cc: dpdk-test-reports@iol.unh.edu
In-Reply-To: <20240305022923.891544-6-chaoyong.he@corigine.com>
References: <20240305022923.891544-6-chaoyong.he@corigine.com>
Content-Type: text/plain
X-BeenThere: test-report@dpdk.org
X-Mailman-Version: 2.1.29
Precedence: list
List-Id: automatic DPDK test reports <test-report.dpdk.org>
List-Unsubscribe: <https://mails.dpdk.org/options/test-report>,
 <mailto:test-report-request@dpdk.org?subject=unsubscribe>
List-Archive: <http://mails.dpdk.org/archives/test-report/>
List-Post: <mailto:test-report@dpdk.org>
List-Help: <mailto:test-report-request@dpdk.org?subject=help>
List-Subscribe: <https://mails.dpdk.org/listinfo/test-report>,
 <mailto:test-report-request@dpdk.org?subject=subscribe>
Errors-To: test-report-bounces@dpdk.org

Test-Label: iol-unit-amd64-testing
Test-Status: SUCCESS
http://dpdk.org/patch/137959

_Testing PASS_

Submitter: Chaoyong He <chaoyong.he@corigine.com>
Date: Tuesday, March 05 2024 02:29:23 
DPDK git baseline: Repo:dpdk
  Branch: master
  CommitID:29c516fa4f5bac381825667b5bdb1ced4548c6bc

137955-137959 --> testing pass

Test environment and result as below:

+---------------------+----------------+
|     Environment     | dpdk_unit_test |
+=====================+================+
| CentOS Stream 8     | PASS           |
+---------------------+----------------+
| Windows Server 2019 | PASS           |
+---------------------+----------------+
| CentOS Stream 9     | PASS           |
+---------------------+----------------+
| Debian 12 (arm)     | PASS           |
+---------------------+----------------+


CentOS Stream 8
	Kernel: 4.18.0-240.10.1.el8_3.x86_64
	Compiler: gcc 8.4.1 20200928

Windows Server 2019
	Kernel: 10.0
	Compiler: clang 14.0 and gcc 8.1.0 (MinGW)

CentOS Stream 9
	Kernel: 4.18.0-240.10.1.el8_3.x86_64
	Compiler: gcc 11.3.1 20220421

Debian 12 (arm)
	Kernel: Container Host Kernel
	Compiler: gcc 11

To view detailed results, visit:
https://lab.dpdk.org/results/dashboard/patchsets/29407/

UNH-IOL DPDK Community Lab

To manage your email subscriptions, visit: 
https://lab.dpdk.org/results/dashboard/preferences/subscriptions/