From mboxrd@z Thu Jan  1 00:00:00 1970
Return-Path: <test-report-bounces@dpdk.org>
Received: from mails.dpdk.org (mails.dpdk.org [217.70.189.124])
	by inbox.dpdk.org (Postfix) with ESMTP id F0B4D43BD7
	for <public@inbox.dpdk.org>; Tue,  5 Mar 2024 04:18:35 +0100 (CET)
Received: from mails.dpdk.org (localhost [127.0.0.1])
	by mails.dpdk.org (Postfix) with ESMTP id ECE9140270;
	Tue,  5 Mar 2024 04:18:35 +0100 (CET)
Received: from mail-qv1-f97.google.com (mail-qv1-f97.google.com
 [209.85.219.97]) by mails.dpdk.org (Postfix) with ESMTP id A1B794026B
 for <test-report@dpdk.org>; Tue,  5 Mar 2024 04:18:34 +0100 (CET)
Received: by mail-qv1-f97.google.com with SMTP id
 6a1803df08f44-68f9e399c91so44973126d6.2
 for <test-report@dpdk.org>; Mon, 04 Mar 2024 19:18:34 -0800 (PST)
DKIM-Signature: v=1; a=rsa-sha256; c=relaxed/relaxed;
 d=iol.unh.edu; s=unh-iol; t=1709608714; x=1710213514; darn=dpdk.org;
 h=references:in-reply-to:cc:to:from:subject:message-id:date:from:to
 :cc:subject:date:message-id:reply-to;
 bh=OYyU6IVMEsjnLCPEgd2C3wDMC/EHJab7nl8uj4TlhOo=;
 b=J4JN1BZHWJPfBRyQOL/IvOAgpJ0vT7Df/qObn7IQ8mUSYEhcHDhV1d+3Od6ZTplaaX
 39wDSZGjAamRHpUg2g5MUQd+Q9pJoa+K6pPUm4m3ezYfmGHcpdq2HgX1D1RimFylf8Je
 etxM9B4Pkv3Zg4P5vojihjUlxWf2EYTPi7Row=
X-Google-DKIM-Signature: v=1; a=rsa-sha256; c=relaxed/relaxed;
 d=1e100.net; s=20230601; t=1709608714; x=1710213514;
 h=references:in-reply-to:cc:to:from:subject:message-id:date
 :x-gm-message-state:from:to:cc:subject:date:message-id:reply-to;
 bh=OYyU6IVMEsjnLCPEgd2C3wDMC/EHJab7nl8uj4TlhOo=;
 b=hbHso6chQHid+QMslw+hACE/1kl14aeLSIhNxk7HYyMpTvvGxF4DSNmTbfF66tawLC
 og+hQOwCyYzQhyZi/cKQi45aLehu9ES2tB5cHvgZZtsakhwBwLdbHRknHPIbuntnLwMD
 EES/EfWh6Z9eexl1T3n+TwFgD27mmQiGqAESeZNCOWZF+PH4+QcxHSXj0OxplJSPoirU
 ayka+7Kbe24R8FBk9ni9Mom2s2xBqE7rl/3C3v9uBMk5F9pASG7z5QlO/MSqEaQobc/u
 iHmmdt3SIqy1vzNanzHB+VcjU072e4RGWNCLyC5CrCGR+MWf/bagwg1ScuhAlLPMrHZR
 bADw==
X-Gm-Message-State: AOJu0YxmCvQ5VGO7IcQX/1a2tOcHCT22m8z8QW/Ae3DGlQLQ+YfZk6HN
 MVv0U7Jj3IC1N3WlgK7X83YmlgSYgaEDbb8nCG61oZQLnpv5P/Ww7HG17Q6Su6Sn54hlzEbyLhE
 Ll9Pp9SUVhcnDfxrxle7+tPvywqne454sxI/xiuu8432w2X1J0T+ED45g
X-Google-Smtp-Source: AGHT+IHhfUAKSRDM1skA9OfKY8pTGbGZdPnuX4nnEKObFIq5yB9kxPj0peEq0YxbyW0D1p7CmRGN60l/QI2d
X-Received: by 2002:ad4:5690:0:b0:690:79e:78f9 with SMTP id
 bd16-20020ad45690000000b00690079e78f9mr771777qvb.18.1709608714146; 
 Mon, 04 Mar 2024 19:18:34 -0800 (PST)
Received: from postal.iol.unh.edu (postal.iol.unh.edu.
 [2606:4100:3880:1234::84]) by smtp-relay.gmail.com with ESMTPS id
 jz1-20020a0562140e6100b0068fb7e2792asm579867qvb.60.2024.03.04.19.18.34
 (version=TLS1_2 cipher=ECDHE-ECDSA-AES128-GCM-SHA256 bits=128/128);
 Mon, 04 Mar 2024 19:18:34 -0800 (PST)
X-Relaying-Domain: iol.unh.edu
Date: Mon, 04 Mar 2024 19:18:34 -0800 (PST)
Message-ID: <65e68f0a.050a0220.a165e.7db3SMTPIN_ADDED_MISSING@mx.google.com>
Received: from [172.21.0.6] (unknown [172.18.0.240])
 by postal.iol.unh.edu (Postfix) with ESMTP id 988FB6052712;
 Mon,  4 Mar 2024 22:18:33 -0500 (EST)
Subject: |SUCCESS| pw137955-137959 [PATCH] [5/5] net/nfp: use big-endian meta
From: dpdklab@iol.unh.edu
To: Test Report <test-report@dpdk.org>
Cc: dpdk-test-reports@iol.unh.edu
In-Reply-To: <20240305022923.891544-6-chaoyong.he@corigine.com>
References: <20240305022923.891544-6-chaoyong.he@corigine.com>
Content-Type: text/plain
X-BeenThere: test-report@dpdk.org
X-Mailman-Version: 2.1.29
Precedence: list
List-Id: automatic DPDK test reports <test-report.dpdk.org>
List-Unsubscribe: <https://mails.dpdk.org/options/test-report>,
 <mailto:test-report-request@dpdk.org?subject=unsubscribe>
List-Archive: <http://mails.dpdk.org/archives/test-report/>
List-Post: <mailto:test-report@dpdk.org>
List-Help: <mailto:test-report-request@dpdk.org?subject=help>
List-Subscribe: <https://mails.dpdk.org/listinfo/test-report>,
 <mailto:test-report-request@dpdk.org?subject=subscribe>
Errors-To: test-report-bounces@dpdk.org

Test-Label: iol-unit-arm64-testing
Test-Status: SUCCESS
http://dpdk.org/patch/137959

_Testing PASS_

Submitter: Chaoyong He <chaoyong.he@corigine.com>
Date: Tuesday, March 05 2024 02:29:23 
DPDK git baseline: Repo:dpdk
  Branch: master
  CommitID:29c516fa4f5bac381825667b5bdb1ced4548c6bc

137955-137959 --> testing pass

Test environment and result as below:

+--------------------------+------------------------------+---------------------------+----------------+
|       Environment        | cryptodev_sw_snow3g_autotest | cryptodev_sw_zuc_autotest | dpdk_unit_test |
+==========================+==============================+===========================+================+
| Debian 12 (arm)          | PASS                         | PASS                      | PASS           |
+--------------------------+------------------------------+---------------------------+----------------+
| Debian 11 (Buster) (ARM) | SKIPPED                      | SKIPPED                   | PASS           |
+--------------------------+------------------------------+---------------------------+----------------+
| CentOS Stream 9 (ARM)    | SKIPPED                      | SKIPPED                   | PASS           |
+--------------------------+------------------------------+---------------------------+----------------+


Debian 12 (arm)
	Kernel: Container Host Kernel
	Compiler: gcc 11

Debian 11 (Buster) (ARM)
	Kernel: Container Host Kernel
	Compiler: gcc 10.2.1

CentOS Stream 9 (ARM)
	Kernel: Container Host Kernel
	Compiler: gcc 11.3.1

To view detailed results, visit:
https://lab.dpdk.org/results/dashboard/patchsets/29407/

UNH-IOL DPDK Community Lab

To manage your email subscriptions, visit: 
https://lab.dpdk.org/results/dashboard/preferences/subscriptions/